BEGIN:VCALENDAR
VERSION:2.0
PRODID:-//Galerie Depardieu - ECPv6.15.20//NONSGML v1.0//EN
CALSCALE:GREGORIAN
METHOD:PUBLISH
X-ORIGINAL-URL:https://www.galerie-depardieu.com
X-WR-CALDESC:Évènements pour Galerie Depardieu
REFRESH-INTERVAL;VALUE=DURATION:PT1H
X-Robots-Tag:noindex
X-PUBLISHED-TTL:PT1H
BEGIN:VTIMEZONE
TZID:Europe/Paris
BEGIN:DAYLIGHT
TZOFFSETFROM:+0100
TZOFFSETTO:+0200
TZNAME:CEST
DTSTART:20240331T010000
END:DAYLIGHT
BEGIN:STANDARD
TZOFFSETFROM:+0200
TZOFFSETTO:+0100
TZNAME:CET
DTSTART:20241027T010000
END:STANDARD
BEGIN:DAYLIGHT
TZOFFSETFROM:+0100
TZOFFSETTO:+0200
TZNAME:CEST
DTSTART:20250330T010000
END:DAYLIGHT
BEGIN:STANDARD
TZOFFSETFROM:+0200
TZOFFSETTO:+0100
TZNAME:CET
DTSTART:20251026T010000
END:STANDARD
BEGIN:DAYLIGHT
TZOFFSETFROM:+0100
TZOFFSETTO:+0200
TZNAME:CEST
DTSTART:20260329T010000
END:DAYLIGHT
BEGIN:STANDARD
TZOFFSETFROM:+0200
TZOFFSETTO:+0100
TZNAME:CET
DTSTART:20261025T010000
END:STANDARD
BEGIN:DAYLIGHT
TZOFFSETFROM:+0100
TZOFFSETTO:+0200
TZNAME:CEST
DTSTART:20270328T010000
END:DAYLIGHT
BEGIN:STANDARD
TZOFFSETFROM:+0200
TZOFFSETTO:+0100
TZNAME:CET
DTSTART:20271031T010000
END:STANDARD
END:VTIMEZONE
BEGIN:VEVENT
DTSTART;TZID=Europe/Paris:20251106T143000
DTEND;TZID=Europe/Paris:20251213T183000
DTSTAMP:20260424T001236
CREATED:20251006T181623Z
LAST-MODIFIED:20251006T181623Z
UID:5470-1762439400-1765650600@www.galerie-depardieu.com
SUMMARY:Exposition Mohsin Taasha –  Lignes non écrites
DESCRIPTION:Mohsin Taasha – Lignes non écrites\nVernissage Jeudi 6 novembre de 18h à 20h\, en présence de l’artiste.\nExposition du 6 novembre au 13 décembre 2025\nEntrée libre\nDu lundi au samedi de 14h30 à 18h30 \n \nDans Lignes Non Écrites\, j’explore les moyens de m’affranchir des règles fixes de l’art. Toujours muni d’un carnet et de stylos\, je dessine partout où je me trouve\, laissant mes pensées et mes émotions guider chaque trait.\nLes lignes et les formes qui apparaissent jaillissent directement de mon subconscient. Elles sont des traces brutes de sentiments et d’imagination\, qui inspirent souvent les peintures qui suivent. Ce processus me permet de découvrir de nouvelles formes et idées\, ouvrant des portes à la créativité et à l’expérimentation.\nCes dessins ne cherchent ni la perfection ni le contrôle : ils parlent de liberté\, d’intuition et du dialogue silencieux entre mon monde intérieur et l’acte de création. Chaque ligne est une pensée fugace\, une émotion capturée\, un instant de possibilité.\nMohsin Taasha\, né en 1991 à Kaboul\, Afghanistan\, est un artiste visuel hazara basé en France. Il a obtenu un Bachelor of Fine Arts à la Beaconhouse National University de Lahore\, au Pakistan\, en 2017. Taasha explore depuis plus d’une décennie les thèmes de l’exil\, du traumatisme et de l’identité. Son travail transforme la miniature persane traditionnelle en peintures contemporaines à grande échelle\, combinant dessin\, narration et techniques expérimentales. \nIn Unwritten Lines\, I explore ways to escape the fixed rules of art. Always carrying a notebook and pens\, I draw wherever I am\, letting my thoughts and emotions guide each mark.\nThe lines and shapes that emerge flow directly from my subconscious. They are raw traces of feeling and imagination\, often inspiring the paintings that follow. This process allows me to discover new forms and ideas\, opening doors to creativity and experimentation.\nThese drawings are not about perfection or control\, they are about freedom\, intuition\, and the quiet dialogue between my inner world and the act of creation. Each line is a fleeting thought\, a captured emotion\, a moment of possibility.\nMohsin Taasha was born in 1991 in Kabul\, Afghanistan\, is a Hazara visual artist based in France. He got a Bachelor of Fine Arts from Beaconhouse National University\, Lahore\, Pakistan in (2017). Taasha has spent over a decade exploring themes of exile\, trauma\, and identity. His work transforms traditional Persian miniature into large-scale contemporary paintings that combine drawing\, narrative\, and experimental techniques.
URL:https://www.galerie-depardieu.com/event/exposition-mohsin-taasha-lignes-non-ecrites/
LOCATION:Galerie Depardieu\, 6 rue du docteur Jacques Guidoni\, Nice\, 06000\, France
CATEGORIES:Agenda,exposition,Vernissage
END:VEVENT
BEGIN:VEVENT
DTSTART;TZID=Europe/Paris:20251204T143000
DTEND;TZID=Europe/Paris:20260118T183000
DTSTAMP:20260424T001236
CREATED:20251127T171339Z
LAST-MODIFIED:20251127T171339Z
UID:5527-1764858600-1768761000@www.galerie-depardieu.com
SUMMARY:Exposition Bernard Pourrière – Input Output
DESCRIPTION:Bernard Pourrière – Input Output\nVernissage/performance Jeudi 4 décembre 2025 de 16h à 20h\, en présence de l’artiste.\nExposition du 4 décembre 2025 au 18 janvier 2026\nEntrée libre\nDu lundi au samedi de 14h30 à 18h30 \n \nLe jeudi 4 décembre à 18h30\, pour le vernissage\, MULTI X4 Performance sonore de Bernard Pourrière accompagné des musiciens Colette Colomb et Pierre Oliviero sur une partition de Jean-Yves Bosseur. \nLes protocoles dont parle souvent Bernard Pourrière (et qu’il écrit) ne sont pas donnés d’avance\, mais ils sont susceptibles d’invention\, de variation\, d’improvisation. C’est dire qu’ils n’ont rien du mot d’ordre\, ni rien de protocolaire non plus. On peut les lire comme une partie de l’œuvre à venir\, de l’œuvre en cours\, de l’œuvre « déﬁnitivement provisoire » qu’il s’eﬀorce\, avec patience et détermination mais comme par jeu\, aussi\, de construire.\nLe terme de jeu s’impose\, à la fois en tant que pratique ludique et comme « jeu » entre les pièces d’un assemblage. Car il est diﬃcile\, à propos du travail de l’artiste\, de ne pas remarquer d’emblée qu’il s’agit toujours de combiner (assembler) plusieurs modalités de production et non pas une seule ou simplement deux ( comme dans la musique tonale\, en mode soit majeur soit mineur).\nUne pièce graphique (partition) ne va pas sans sa traduction (transfert\, interprétation) en « volume sonore »\, qui lui même ne fonctionne pas indépendamment de la gestuelle chorégraphique qui lui donne naissance\, laquelle rebondit à son tour dans un simulacre vidéo-graphique qui la relance en l’inscrivant dans une autre temporalité\, sur un autre support. De sorte que du côté de la réception\, celui du lecteur\, regardeur\, auditeur d’une performance\, celui aussi de ceux que j’appellerais les acolytes (musicien.ne\, compositeur.trice\, auteur.trice) il convient de se laisser glisser dans les passages d’une modalité à l’autre\, plutôt que de chercher ( comme nous y conduit toute l’histoire de l’art occidental)\, les solutions de continuité : cadres\, genres\, catégories.\nC’est à ce prix que l’on peut entrer dans le processus à l’œuvre\, y être compris avant que de le comprendre. Pour jouer\, enﬁn. \nEric Houser
URL:https://www.galerie-depardieu.com/event/exposition-bernard-pourriere-input-output/
LOCATION:Galerie Depardieu\, 6 rue du docteur Jacques Guidoni\, Nice\, 06000\, France
CATEGORIES:Agenda,exposition
END:VEVENT
BEGIN:VEVENT
DTSTART;TZID=Europe/Paris:20251204T183000
DTEND;TZID=Europe/Paris:20251204T193000
DTSTAMP:20260424T001236
CREATED:20251127T171529Z
LAST-MODIFIED:20251127T171529Z
UID:5530-1764873000-1764876600@www.galerie-depardieu.com
SUMMARY:MULTI X4 Performance sonore
DESCRIPTION:Jeudi 4 Décembre 2025 à 18h30\nMULTI X4 Performance sonore \nPerformance sonore de Bernard Pourrière accompagné des musiciens Colette Colomb et Pierre Oliviero sur une partition de Jean-Yves Bosseur.  \n \nUne expérience sonore immersive et innovante. \nCette création rassemble des artistes passionnés qui ont voulu offrir une aventure musicale différente et enrichissante. \nC’est aussi une œuvre d’art graphique et sonore que vous pourrez découvrir. \nCette performance est proposée dans le cadre du vernissage de l’exposition de Bernard Pourrière « Input Output ». Exposition du 4 décembre 2025 au 18 janvier 2026 \nEntrée libre
URL:https://www.galerie-depardieu.com/event/multi-x4-performance-sonore/
LOCATION:Galerie Depardieu\, 6 rue du docteur Jacques Guidoni\, Nice\, 06000\, France
CATEGORIES:Agenda,exposition,Vernissage
ORGANIZER;CN="Association ARTEP":MAILTO:artep.association@gmail.com
END:VEVENT
BEGIN:VEVENT
DTSTART;TZID=Europe/Paris:20251206T201500
DTEND;TZID=Europe/Paris:20251206T223000
DTSTAMP:20260424T001236
CREATED:20251031T211836Z
LAST-MODIFIED:20251031T211836Z
UID:5514-1765052100-1765060200@www.galerie-depardieu.com
SUMMARY:Joyeuse Mélancolie / Duo Alice MAZEN  & Sully DE
DESCRIPTION:Samedi 6 Décembre 2025 à 20h15\nJoyeuse Mélancolie\nDuo Alice MAZEN & Sully DE \nAlice MAZEN au violoncelle\nSully DE Guitare\, voix\, Harmonica \n \n« Joyeuse Mélancolie » est un super tour de chant. Un mélange de chansons festives teintées de spleen. \nCe duo apporte aux compositions de Sully DE une couleur encore plus poétique et des sonorités aux vibrations garanties ! \nCe concert contient également des nouvelles compositions arrangées pour ces deux instruments.\nQuelques chansons populaires\, standards de la chansons française\, viennent parfois se glisser dans ces nouveautés. \nMixage du premier album LP « Résumons l’essentiel »\net du deuxième album\, un EP de six titres au nom de « Puissance »\nsorti cette année mixé et produit par Michel BORLA*. \n*(Disponible chez Hit IMPORT 11 Rue Lépante NICE et en écoute gratuite + Téléchargement sur toutes les plateformes.) \n https://sully-de.com/ \n \nEntrée 15 € / adhérent : 12 € / Tarif étudiant 10 €\nRéservation/billetterie : https://www.billetweb.fr/joyeuse-melancolie-duo-alice-mazen-sully-de
URL:https://www.galerie-depardieu.com/event/joyeuse-melancolie-duo-alice-mazen-sully-de/
LOCATION:Galerie Depardieu\, 6 rue du docteur Jacques Guidoni\, Nice\, 06000\, France
CATEGORIES:Agenda,Concert
ORGANIZER;CN="Association ARTEP":MAILTO:artep.association@gmail.com
END:VEVENT
BEGIN:VEVENT
DTSTART;TZID=Europe/Paris:20251213T201500
DTEND;TZID=Europe/Paris:20251213T223000
DTSTAMP:20260424T001236
CREATED:20251127T172020Z
LAST-MODIFIED:20251208T182042Z
UID:5533-1765656900-1765665000@www.galerie-depardieu.com
SUMMARY:ANNULATION - Django meet Erroll
DESCRIPTION:Le concert Django meet Erroll prévu le samedi 13 décembre est malheureusement annulé. \nIl sera reporté courant 2026. \nMerci de votre compréhension. \nSamedi 13 Décembre 2025 à 20h15\nDjango meet Erroll \nLouca GERIS : guitare\nQuentin PRADEL : piano\nKévin TARDEVET : contrebasse \n \nLe duo « Django meets Erroll » avec Louca GERIS à la guitare et Quentin PRADEL au piano\, exauce une rencontre qui n’a jamais eu lieu\, entre deux musiciens des plus singuliers de l’histoire du jazz. Celle d’un français\, père du jazz manouche\, Django REINHARDT\, et d’un américain\, Erroll GARNER\, certainement le pianiste de swing le plus inclassable.\nPour pallier à ce rendez-vous manqué\, il fallait deux musiciens\, spécialistes et amoureux du style de ces deux protagonistes. La fusion musicale est pourtant évidente\, ni Erroll GARNER ni Django REINHARDT ne lisaient la musique\, ils partageraient sans le savoir la même jubilation de l’assise rythmique\, la même clarté mélodique tantôt profonde\, tantôt facétieuse\, commune à tous les diamants bruts\, à toutes les personnalités farouchement libres et instinctives.\nPour cette soirée\, Louca GERIS et Quentin PRADEL seront accompagnés par le contrebassiste Kévin TARDEVET. \n \n \nEntrée 15 € / adhérent : 12 € / Tarif étudiant 10 €\nRéservation/billetterie : https://www.billetweb.fr/django-meet-erroll
URL:https://www.galerie-depardieu.com/event/django-meet-erroll/
LOCATION:Galerie Depardieu\, 6 rue du docteur Jacques Guidoni\, Nice\, 06000\, France
CATEGORIES:Agenda,Concert
ORGANIZER;CN="Association ARTEP":MAILTO:artep.association@gmail.com
END:VEVENT
BEGIN:VEVENT
DTSTART;TZID=Europe/Paris:20251218T143000
DTEND;TZID=Europe/Paris:20260131T183000
DTSTAMP:20260424T001236
CREATED:20251127T172235Z
LAST-MODIFIED:20251127T172235Z
UID:5536-1766068200-1769884200@www.galerie-depardieu.com
SUMMARY:Exposition N_VR – Est-ce ainsi que les Roms Vivent ?
DESCRIPTION:N_VR – Est-ce ainsi que les Roms Vivent ?\nVernissage Jeudi 18 décembre 2025 de 18h à 20h\, en présence de l’artiste.\nExposition du 18 décembre 2025 au 31 janvier 2026\nEntrée libre\nDu lundi au samedi de 14h30 à 18h30 \n \nC’est en voulant aider la communauté Roms lors d’un conflit avec EDF (le squat entier était branché sur le même pylône) que j’ai été invitée à faire ces photos.\nCe que je veuxmontrer dans ces images c’est l’effort permanent qui est fourni par cette population\, pourtant régulièrement ostracisée\, pour vivre dans la dignité.\nComme on peut le voir\, cela leur est particulièrement difficile\, tant il est compliqué de gérer\, par exemple\, une seule arrivée d’eau (froide) pour tout le squat (plusieurs dizaines de personnes)… \nJe suis arrivée dans les premiers jours de beau temps du printemps\, c’était jour de lessive et il était plus que temps car certains enfants n’avaient plus rien à se mettre pour aller à l’école tant il avait plu précédemment et le linge ne peut sécher que dehors\, l’intérieur étant humide et peu ou pas chauffé…Or\, les enseignants commençaient à penser à signaler les absences des enfants. \nLes toilettes\, collectives\, consistaient en une bâche pudiquement tendue au dessus d’une bouche d’égout ouverte. Michail\, mon guide\, prétendait avoir trouvé son vélo « par là » ; son père avait rassemblé suffisamment de planches et de plaques de plexiglas pour leur construire une cabane correcte. Mais pour se chauffer\, il fallait « casser des palettes » et il était tout étonné quemoi\, je n’aie pas besoin de casser des palettes pour me chauffer… Dans la cabane un vieil ordinateur ressuscité\, semblait attendre un peu de courant pour refonctionner. \nUn peu plus loin\, une grand-mère cuisinait fièrement\, sur un vieux bidon coupé en deux\, la viande que son fils avait récupérée dans les poubelles du supermarché voisin… Une maman étendait le linge sur un reste de terrasse devant la maison en ruines qu’elle squattait avec son bébé\, des cartons isolait les lits des murs humides…\nUn petit garçon exhibait gravement le camion dont un autre ne voulait plus…\nNous sommes bien en France au 21eme siècle !
URL:https://www.galerie-depardieu.com/event/exposition-n_vr-est-ce-ainsi-que-les-roms-vivent/
LOCATION:Galerie Depardieu\, 6 rue du docteur Jacques Guidoni\, Nice\, 06000\, France
CATEGORIES:Agenda,exposition,Vernissage
ORGANIZER;CN="Association ARTEP":MAILTO:artep.association@gmail.com
END:VEVENT
BEGIN:VEVENT
DTSTART;TZID=Europe/Paris:20251220T180000
DTEND;TZID=Europe/Paris:20251220T200000
DTSTAMP:20260424T001236
CREATED:20251127T172531Z
LAST-MODIFIED:20251202T162803Z
UID:5539-1766253600-1766260800@www.galerie-depardieu.com
SUMMARY:Marilyn l'envers du décor - L'heure d'art/conférence par Kiki Baldassari
DESCRIPTION:Samedi 20 décembre 2025 à 18h\nMarilyn l’envers du décor \nL’heure d’art/conférence par Kiki Baldassari \n« Il y a toujours deux côtés dans une histoire »\nMarilyn Monroe \n \nAprès sa venue pour « Jean-Michel Basquiat\, Indocile icône »\, « Caravage\, autoportrait »\, « Frida Kahlo\,  L’enfant et les Sortilèges »\, « Gone with the Wilde\, Tout l’Art d’Oscar »\, « Nicolas de Staël\, Mon art est sur les remparts » etc.\, à la galerie\, Kiki Baldassari\, conférencière assermentée & historienne de l’art nous propose un nouveau panorama artistique et sociétal. \nVisuel : Marylin à l’Actors Studio photographiée par Roy Schatt en 1955 \nEntrée 10 € – 8 € pour les adhérents / Étudiants : 6 € \nRéservation/billetterie : https://www.billetweb.fr/marylin-lenvers-du-decor
URL:https://www.galerie-depardieu.com/event/conference-par-kiki-baldassari/
LOCATION:Galerie Depardieu\, 6 rue du docteur Jacques Guidoni\, Nice\, 06000\, France
CATEGORIES:Conférence
ORGANIZER;CN="Association ARTEP":MAILTO:artep.association@gmail.com
END:VEVENT
END:VCALENDAR