BEGIN:VCALENDAR
VERSION:2.0
PRODID:-//Galerie Depardieu - ECPv6.15.20//NONSGML v1.0//EN
CALSCALE:GREGORIAN
METHOD:PUBLISH
X-ORIGINAL-URL:https://www.galerie-depardieu.com
X-WR-CALDESC:Évènements pour Galerie Depardieu
REFRESH-INTERVAL;VALUE=DURATION:PT1H
X-Robots-Tag:noindex
X-PUBLISHED-TTL:PT1H
BEGIN:VTIMEZONE
TZID:Europe/Paris
BEGIN:DAYLIGHT
TZOFFSETFROM:+0100
TZOFFSETTO:+0200
TZNAME:CEST
DTSTART:20240331T010000
END:DAYLIGHT
BEGIN:STANDARD
TZOFFSETFROM:+0200
TZOFFSETTO:+0100
TZNAME:CET
DTSTART:20241027T010000
END:STANDARD
BEGIN:DAYLIGHT
TZOFFSETFROM:+0100
TZOFFSETTO:+0200
TZNAME:CEST
DTSTART:20250330T010000
END:DAYLIGHT
BEGIN:STANDARD
TZOFFSETFROM:+0200
TZOFFSETTO:+0100
TZNAME:CET
DTSTART:20251026T010000
END:STANDARD
BEGIN:DAYLIGHT
TZOFFSETFROM:+0100
TZOFFSETTO:+0200
TZNAME:CEST
DTSTART:20260329T010000
END:DAYLIGHT
BEGIN:STANDARD
TZOFFSETFROM:+0200
TZOFFSETTO:+0100
TZNAME:CET
DTSTART:20261025T010000
END:STANDARD
END:VTIMEZONE
BEGIN:VEVENT
DTSTART;TZID=Europe/Paris:20250123T143000
DTEND;TZID=Europe/Paris:20250301T183000
DTSTAMP:20260424T160614
CREATED:20250106T161600Z
LAST-MODIFIED:20250106T161600Z
UID:4854-1737642600-1740853800@www.galerie-depardieu.com
SUMMARY:Exposition Serge Maccaferri – Support actif
DESCRIPTION:Serge Maccaferri – Support actif\nVernissage Jeudi 23 janvier de 16h à 21h\, en présence de l’artiste\nExposition jusqu’au 1er mars 2025\nEntrée libre \n \nSerge Maccaferri est un élément « historique » de l’Ecole de Nice. Il est membre du groupe INterVENTION (avec Alocco\, Charvolen\, Dolla\, Miguel\, Saytour\, Viallat\, Quin et Monticelli) dès 1968 puis co-créateur en 1969 du Groupe 70 (avec Charvolen\, Miguel\, Isnard et Chacallis).\nIl développe depuis plus de 50 ans une vision artistique d’une rare unité. Cette vision il la définit ainsi : « Mon travail est proposé comme matériau d’expérience et de réflexion\, il n’est ni allusif\, ni représentatif mais matérialiste. Mon propos se situe dans le champ de la peinture\, une fois celle-ci réduite à ses constituants élémentaires ».\nExit le châssis et la toile\, Serge Maccaferri travaille sur les pertes\, les bois brûlés\, les « trous » comblés … Depuis 1970\, année de ses premières expositions à la Galerie Alexandre de la Salle à Vence\, d’autres lieux\, Paris\, Toulouse\, La Rochelle\, Limoges\, Marseille\, Bourges\, Antibes\, Menton\, Vallauris\, Berlin\, Milan\, Bologne ou encore Tokyo l’ont présenté en galerie ou musée.\nPour cette deuxième exposition en 2025 à la galerie Depardieu de Nice\, il approfondit la notion de « support actif ». Ce support constitué de matériau de récupération (lattes de bois\, canisses\, grillages\, contenant plastique …) reçoit en ses interstices de la matière (plâtre\, sciure\, cendre\, colorant\, peinture\, siccatif …) ; le résultat peut paraitre aléatoire (car Serge Maccaferri laisse vivre matière et couleur) mais il n’en est rien\, l’acte est calculé\, expérimenté et parfaitement maitrisé. Par ailleurs la partie visible\, généralement lisse\, des peintures -objets présentées portent les stigmates des objets sur lesquels ils ont été conçus (carrelage\, tissus\, carton ou papier froissés). Les « supports actifs » se devinent\, se dévoilent et l’ensemble\, même si ce n’est pas le but initialement recherché\, dégage une esthétique et une poésie graphique remarquables\, véritable dépassement du conflit entre abstraction et figuration. \nJean-Pierre Frediani\, historien\, \nancien directeur des affaires culturelles de la ville de Menton\, \nDu lundi au samedi de 14h30 à 18h30
URL:https://www.galerie-depardieu.com/event/exposition-serge-maccaferri-support-actif/
LOCATION:Galerie Depardieu\, 6 rue du docteur Jacques Guidoni\, Nice\, 06000\, France
CATEGORIES:Agenda,exposition
END:VEVENT
BEGIN:VEVENT
DTSTART;TZID=Europe/Paris:20250201T201500
DTEND;TZID=Europe/Paris:20250201T223000
DTSTAMP:20260424T160614
CREATED:20250106T162310Z
LAST-MODIFIED:20250106T162310Z
UID:4862-1738440900-1738449000@www.galerie-depardieu.com
SUMMARY:DIES GOA UNIT
DESCRIPTION:Samedi 1er Février 2025 à 20h15\nDIES GOA UNIT\nFrançois Szönyi (guitare électrique -chant)\nAlexandre Del Fa (basse\, Guitare\, chant)\nGuy Galassini (batterie et flûte traversière) \n \n« Les expériences passées des trois musiciens se sont amalgamées pour créer une musique éclectique aux influences multiples proposant un programme qui\, dans un esprit d’aventure\, mêle des compositions actuelles\, ainsi que des remixes \, Soft machine\, Caravan\, Hatfield & the North…)\, entre acoustique et électronique\, jazz\, rock et world  » La musique de Dies Goa Unit nous plonge dans l’atmosphère expérimentale des années 70 où fusion et musique progressive se mêlent dans le cadre d’une musique psychédélique des plus raffinée. Ce n’est pas par hasard que le trio a fait la première partie du célèbre groupe français Magma et a joué avec le bassiste et chanteur Richard Sinclair\, icône du rock progressif :\n \nVoici le lien spécifique pour l’album DGU https://guygalassini.bandcamp.com/album/nothing-has-an-end \nEn 1969\, François Szönyi et Guy Galassini commencent à jouer ensemble au sein du groupe Dies Irae. 1971 voit leurs premiers pas publics\, les concerts s’enchaînent\, autorisés ou interdits\, dans les MJC\, universités\, ou “festivals pop”. En 75 le groupe est primé au Golf Drouot\, le temple du rock parisien. La musique est sans concession et passera des Cream\, Hendrix ou Pink Floyd des débuts\, à l’improvisation totale sous l’influence du free jazz ou de groupes comme Magma ou Gong\, de musiciens comme Pharoa Sanders ou John McLaughlin. La vie du groupe continuera ainsi jusqu’en 79\, partageant l’affiche avec Jeff Seffer\, Magma\, ou Gong. À la même époque\, François Szönyi crée l’Aïghetta Quartett avec Alexandre Del Fa. Depuis 1979 cette nouvelle expérience\, bien plus intimiste\, suscite l’enthousiasme des auditoires les plus variés dans toute l’Europe\, celui de compositeurs et de musiciens comme Anthony Burgess\, l’auteur d’Orange mécanique\, ou John McLaughlin qui les invitera à jouer au sein du Time remembered group. Plus de vingt créations mondiales\, et une dizaine d’enregistrements chez Universal\, Harmonia Mundi\, Musea\, Nocturne\, etc…\, témoignent de cet intérêt pour l’ensemble (http://www.aighetta.com). Dies Goa Unit fait aujourd’hui la synthèse de ces expériences électriques\, acoustiques\, discographiques et scéniques dans un esprit d’aventure. \nEntrée 15 € / adhérent : 12 € / Tarif étudiant 10 €\nRéservation/billetterie : https://www.billetweb.fr/dies-goa-unit
URL:https://www.galerie-depardieu.com/event/dies-goa-unit/
LOCATION:Galerie Depardieu\, 6 rue du docteur Jacques Guidoni\, Nice\, 06000\, France
CATEGORIES:Agenda,Concert
ORGANIZER;CN="Association ARTEP":MAILTO:artep.association@gmail.com
END:VEVENT
BEGIN:VEVENT
DTSTART;TZID=Europe/Paris:20250213T201500
DTEND;TZID=Europe/Paris:20250213T223000
DTSTAMP:20260424T160614
CREATED:20250131T194515Z
LAST-MODIFIED:20250131T194515Z
UID:4901-1739477700-1739485800@www.galerie-depardieu.com
SUMMARY:Jellyfish Project
DESCRIPTION:Jeudi 13 Février 2025 à 20h15\nJellyfish Project \nFred D’Oelsnitz au piano\nTony Sgro à la contrebasse \nJacopo Forno à la batterie \nRépertoire jazz à 360 degrés\, de la tradition au moderne\, avec une sonorité évoquant les power trio des années 60’/70′\, comme Bill Evans\, Mccoy Tyner\, Keith Jarrett… \n \nLe Jellyfish Project est un trio dynamique\, réunissant Frédéric D’Oelsnitz au piano\, Antonio Sgro à la contrebasse et Jacopo Forno à la batterie. Leur répertoire explore les multiples facettes du jazz\, de la tradition au hard bop\, du post-bop à la drum and bass. Ils proposent des compositions originales et des réarrangements ingénieux des grands standards américains\, tant traditionnels que modernes. Toujours en quête de nouveaux horizons musicaux\, telles les méduses naviguant avec grâce dans l’océan\, ils ne cessent de surprendre et d’inspirer. \nhttps://www.instagram.com/jelly.fish.project/ \nEntrée 15 € / adhérent : 12 € / Tarif étudiant 10 €\nRéservation/billetterie : https://www.billetweb.fr/jellyfish-project
URL:https://www.galerie-depardieu.com/event/jellyfish-project/
LOCATION:Galerie Depardieu\, 6 rue du docteur Jacques Guidoni\, Nice\, 06000\, France
CATEGORIES:Agenda,Concert
ORGANIZER;CN="Association ARTEP":MAILTO:artep.association@gmail.com
END:VEVENT
BEGIN:VEVENT
DTSTART;TZID=Europe/Paris:20250221T201500
DTEND;TZID=Europe/Paris:20250221T223000
DTSTAMP:20260424T160614
CREATED:20250131T194318Z
LAST-MODIFIED:20250131T194318Z
UID:4898-1740168900-1740177000@www.galerie-depardieu.com
SUMMARY:Duo ANDRELLA
DESCRIPTION:Vendredi 21 Février 2025 à 20h15\nANDRELLA \navec Andrea Scarrone chant et Riccardo Anfosso guitare \n \nLes deux musiciens se sont rencontrés cette année pour des raisons professionnelles et ont découvert qu’ils avaient la même passion pour le jazz et la musique brésilienne.\nAndrea vient de Turin\, entre études et activités\, et possède une bonne connaissance du répertoire jazz qu’elle module avec le chant scat.\nRiccardo\, avec son expérience du genre\, l’accompagne dans ses variations \nPour cette agréable soirée de chansons\, ils prendront soin de faire ressortir la passion qui les unit. \nEntrée 12 € – adhérent : 10 € / Tarif étudiant 10 € – étudiant adhérent 8 €\nRéservation/billetterie : https://www.billetweb.fr/andrella
URL:https://www.galerie-depardieu.com/event/duo-andrella/
LOCATION:Galerie Depardieu\, 6 rue du docteur Jacques Guidoni\, Nice\, 06000\, France
CATEGORIES:Agenda,Concert
ORGANIZER;CN="Association ARTEP":MAILTO:artep.association@gmail.com
END:VEVENT
BEGIN:VEVENT
DTSTART;TZID=Europe/Paris:20250228T201500
DTEND;TZID=Europe/Paris:20250228T223000
DTSTAMP:20260424T160614
CREATED:20250131T194121Z
LAST-MODIFIED:20250131T194121Z
UID:4895-1740773700-1740781800@www.galerie-depardieu.com
SUMMARY:René Sopa/Rico Allegretti/Jean Pierre Babarit  "Voyage autour du monde"
DESCRIPTION:Vendredi 28 Février 2025 à 20h15\nRené Sopa/Rico Allegretti/Jean Pierre Babarit \nVoyage autour du monde \nRené Sopa : Accordéon\nRico Allegretti : Percussions\nJean Pierre Babarit : Guitare \n \nUn voyage en musique autour du monde avec des compositions de René Sopa en passant par Hermeto Pascoal et Astor Piazzolla avec les bongos et congas sud-américain de Rico Allegretti\nUn trio éclectique aux sonoritées colorées de l’accordéon René Sopa et la guitare de Jean Pierre Babarit \n \n \nEntrée 15 € / adhérent : 12 € / Tarif étudiant 10 €\nRéservation/billetterie :\nhttps://www.billetweb.fr/rene-sopa-rico-allegretti-jean-pierre-babarit-voyage-autour-du-monde
URL:https://www.galerie-depardieu.com/event/rene-sopa-rico-allegretti-jean-pierre-babarit-voyage-autour-du-monde/
LOCATION:Galerie Depardieu\, 6 rue du docteur Jacques Guidoni\, Nice\, 06000\, France
CATEGORIES:Agenda,Concert
ORGANIZER;CN="Association ARTEP":MAILTO:artep.association@gmail.com
END:VEVENT
END:VCALENDAR