BEGIN:VCALENDAR
VERSION:2.0
PRODID:-//Galerie Depardieu - ECPv6.15.20//NONSGML v1.0//EN
CALSCALE:GREGORIAN
METHOD:PUBLISH
X-WR-CALNAME:Galerie Depardieu
X-ORIGINAL-URL:https://www.galerie-depardieu.com
X-WR-CALDESC:Évènements pour Galerie Depardieu
REFRESH-INTERVAL;VALUE=DURATION:PT1H
X-Robots-Tag:noindex
X-PUBLISHED-TTL:PT1H
BEGIN:VTIMEZONE
TZID:Europe/Paris
BEGIN:DAYLIGHT
TZOFFSETFROM:+0100
TZOFFSETTO:+0200
TZNAME:CEST
DTSTART:20230326T010000
END:DAYLIGHT
BEGIN:STANDARD
TZOFFSETFROM:+0200
TZOFFSETTO:+0100
TZNAME:CET
DTSTART:20231029T010000
END:STANDARD
BEGIN:DAYLIGHT
TZOFFSETFROM:+0100
TZOFFSETTO:+0200
TZNAME:CEST
DTSTART:20240331T010000
END:DAYLIGHT
BEGIN:STANDARD
TZOFFSETFROM:+0200
TZOFFSETTO:+0100
TZNAME:CET
DTSTART:20241027T010000
END:STANDARD
BEGIN:DAYLIGHT
TZOFFSETFROM:+0100
TZOFFSETTO:+0200
TZNAME:CEST
DTSTART:20250330T010000
END:DAYLIGHT
BEGIN:STANDARD
TZOFFSETFROM:+0200
TZOFFSETTO:+0100
TZNAME:CET
DTSTART:20251026T010000
END:STANDARD
END:VTIMEZONE
BEGIN:VEVENT
DTSTART;TZID=Europe/Paris:20240905T143000
DTEND;TZID=Europe/Paris:20241005T183000
DTSTAMP:20260424T220236
CREATED:20240731T183242Z
LAST-MODIFIED:20240904T142925Z
UID:4721-1725546600-1728153000@www.galerie-depardieu.com
SUMMARY:Daniel Rothbart  -  Plus fugitif que la lumière
DESCRIPTION:Daniel Rothbart – Plus fugitif que la lumière\nVernissage Jeudi 5 septembre 2024 de 16h à 21h\, en présence de l’artiste\nExposition jusqu’au 5 octobre 2024\nEntrée libre \n \nLa galerie Depardieu a le plaisir de vous présenter Plus fugitif que la lumière\, le dernier travail de Daniel Rothbart. Seize collages et une installation cinétique seront exposés. More Fugitive Than Light: Poems of Rome\, Venice\, Paris\, 2016-2017\, le nouveau livre du poète et du critique d’art Richard Milazzo\, avec des collages de Rothbart\, sera également présenté. Plus fugitif que la lumière sera la douzième exposition personnelle de Daniel Rothbart à la Galerie Depardieu.\nRothbart crée des sculptures flottantes pour les mers\, les lacs\, les rivières et les citernes\, animées par le mouvement de l’eau. Ses sculptures pour la sculptures terrestres incluent des formes inspirées de vaisseaux qui font partie intégrante de ses collaborations avec d’autres artistes\, écrivains et poètes. En manipulant des cartes postales trouvées\, des photographies\, et des images fixes de films\, Daniel Rothbart explore l’identité culturelle\, le déplacement\, et la transformation de paysages avec l’arrivée de sculptures dans ses collages.\nLes projets d’atelier de Rothbart incluent RamleAnthropocene\, à la Piscine des Arches / Centre d’art contemporain Ramle CACR\, à Ramle\, en Israël ; Horloges à l’eau\, sur le fleuve Hudson / The Hudson Eye\, à Hudson\, à New York ; Théologies impénétrables\, l’Église Sainte-Élisabeth / Kunstwechsel\, à Aix-la-Chapelle\, en Allemagne ; Air de Venise\, à Venise\, en Italie ; et WATERLINES\, à la Galerie Depardieu\, à Nice\, en France. Il a exposé à la Galleria Nazionale d’Arte Moderna\, à Rome\, en Italie ; le Musée d’art contemporain MoCAB\, à Belgrade\, en Serbie ; Momenta Art et Proteus Gowanus à Brooklyn\, à New York ; à la galerie Andrea Meislin\, Exit Art\, et WhiteBox Contemporary Art Center à New York City.\nIl est l’auteur de trois livres. Jewish Metaphysics as Generative Principle in American Art (1994) explore la relation entre la culture juive et l’abstraction américaine d’après-guerre. The Story of the Phoenix (1999) examine les thèmes fluides de la création\, de la destruction et de la paternité. Seeing Naples: Reports from the Shadow of Vesuvius (2018) est un récit de voyage inspiré des expériences de Rothbart en tant que boursier Fulbright à Naples au début des années 1990. L’œuvre combine un récit personnel avec l’histoire de la ville\, ancienne et moderne\, qui parle des valeurs et de la culture napolitaine.\nRothbart a reçu une bourse du New York State Council on the Arts\, une bourse de la New York Foundation for the Arts et a également été invité à la Résidence des Artistes Herzliya\, à Herzliya\, en Israël en 2023 et à La Napoule Art Foundation\, à Mandelieu-la-Napoule\, en France en 2002. Son travail fait l’objet d’une monographie d’Enrico Pedrini publiée en 2010 par Ulisse e Calipso à Naples\, en Italie.\nLe travail de Rothbart se trouve dans des collections publiques et privées\, notamment dans le Musée d’Art Moderne de New York.\nwww.danielrothbart.org – youtube.com/danielrothbart\nMore Fugitive than Light: Poems of Rome\, Venice\, Paris\, 2016-2017 : English – Français
URL:https://www.galerie-depardieu.com/event/daniel-rothbart-plus-fugitif-que-la-lumiere/
LOCATION:Galerie Depardieu\, 6 rue du docteur Jacques Guidoni\, Nice\, 06000\, France
CATEGORIES:Agenda,exposition
END:VEVENT
BEGIN:VEVENT
DTSTART;TZID=Europe/Paris:20240912T143000
DTEND;TZID=Europe/Paris:20241026T183000
DTSTAMP:20260424T220236
CREATED:20240731T183416Z
LAST-MODIFIED:20240731T183416Z
UID:4724-1726151400-1729967400@www.galerie-depardieu.com
SUMMARY:Jean-Claude Bertrand  -  Résonances harmoniques
DESCRIPTION:Jean-Claude Bertrand – Résonances harmoniques\nVernissage Jeudi 12 Septembre 2024 de 18h à 21h\, en présence de l’artiste\nExposition jusqu’au 26 octobre 2024\nEntrée libre \n \nJean-Claude Bertrand\, né en 1948\, est passionné par toutes sortes de musiques\, musique classique et contemporaine et le jazz sa grande passion. Les émotions qui naissent en lui à l’écoute de la musique tracent un chemin créateur pour explorer les harmonies chromatiques. Serait-il possible de traduire ses émotions en couleurs ? Avec du rouge\, du bleu\, du jaune\, les trois couleurs primaires accompagnées des tonalités du blanc au noir\, Jean-Claude Bertrand se plonge dans la matérialité picturale. Le plaisir immense qu’il ressent est intact à chaque fois. Il trouve en lui la porte de la liberté intérieure\, celle qui ouvre le chemin des possibles.\nAvec la maîtrise d’une main toujours plus sûre de ses eﬀets\, Jean-Claude Bertrand entrelace et superpose les strates multiples d’une partition chromatique délicatement modulée. Les gris-bleu aux opalescences irisées se réchauﬀent d’ocres frottés\, la matité poudreuse des couleurs contraste avec la brillance laquée des écritures gestuelles. Les toiles se voilent de transparences et d’opacité translucide. En un jeu plastique subtil\, elles tissent des modulations émergeant des profondeurs\, là où le cœur de la toile palpite\, vibre\, chuchote. La musicalité de la couleur apparaît\, se dévoilant dans le silence de l’atelier. Jean-Claude Bertrand\, écoutant les couleurs vibrer à son oreille\, peint le monde invisible des modulaPons chromatiques…\nLes œuvres de Jean-Claude Bertrand sont comme un reﬂet de soi\, une image miroir d’une forme verticale qui surgit de la matière colorée. Les couleurs entrent en résonance avec le lecteur-spectateur et lui procurent des sensations et des émotions oubliées lovées au cœur de sa mémoire sensorielle.\nCatherine Koenig – Résonances harmoniques – juillet 2024
URL:https://www.galerie-depardieu.com/event/jean-claude-bertrand-resonances-harmoniques/
LOCATION:Galerie Depardieu\, 6 rue du docteur Jacques Guidoni\, Nice\, 06000\, France
CATEGORIES:Agenda,exposition
END:VEVENT
BEGIN:VEVENT
DTSTART;TZID=Europe/Paris:20241004T201500
DTEND;TZID=Europe/Paris:20241004T223000
DTSTAMP:20260424T220236
CREATED:20240926T152715Z
LAST-MODIFIED:20240926T152715Z
UID:4750-1728072900-1728081000@www.galerie-depardieu.com
SUMMARY:Raúl Waltemath Tour Vida Nómade
DESCRIPTION:Vendredi 4 Octobre 2024 à 20h15\nRaúl Waltemath\nTour Vida Nómade \nRaúl Waltemath \, musicien et chanteur chilien\, nous rend visite dans le cadre de sa deuxième tournée à travers l’Europe. \n \nNé à Conchali-Santiago du Chili\, Raúl est un musicien polyvalent\, auteur-compositeur-interprète\, producteur et manager culturel. Autodidacte\, il s’est frotté à différents genres musicaux depuis l’âge de 13 ans\, il a exploré divers genres musicaux\, du rock et du métal à la trova\, au folklore latino-américain et l’électro-pop. Le succès de sa tournée européenne en 2023\, avec plus de 40 dates dans sept pays\, a marqué un tournant dans la carrière de Raúl et a consolidé sa réputation de musicien innovant\, polyvalent et passionnant. \nDe plus\, il développe le « Projet Icare »\, un album d’exploration Electro-Pop aux thématiques urbaines qui bénéficiera de la collaboration d’artistes chiliens renommés . La sortie est prévue pour fin 2024. \n \n \n \nEntrée 15 € – adhérent : 12 € / Tarif étudiant 10 €
URL:https://www.galerie-depardieu.com/event/raul-waltemath-tour-vida-nomade/
LOCATION:Galerie Depardieu\, 6 rue du docteur Jacques Guidoni\, Nice\, 06000\, France
CATEGORIES:Agenda,Concert
ORGANIZER;CN="Association ARTEP":MAILTO:artep.association@gmail.com
END:VEVENT
BEGIN:VEVENT
DTSTART;TZID=Europe/Paris:20241005T201500
DTEND;TZID=Europe/Paris:20241005T223000
DTSTAMP:20260424T220236
CREATED:20240926T153042Z
LAST-MODIFIED:20240926T153042Z
UID:4753-1728159300-1728167400@www.galerie-depardieu.com
SUMMARY:Tango Incarnation Los Tigres Tango A dos
DESCRIPTION:Samedi 5 Octobre 2024 à 20h15\nTango Incarnation\nLos Tigres Tango A dos \nConcert de Tango Piano et Voix \nCristina Ormani chant\, Serge Salacroup piano \n \nNous avons l’immense plaisir de vous inviter à une soirée exceptionnelle dédiée à l’élégance et à la passion du tango argentin. Préparez-vous à être transportés dans un univers envoûtant et vivifiant. \nDans le tango\, il est toujours question d’amour et de philosophie de la vie. L’amour sous toutes ses formes\, « l’amour au fil des saisons ». Sa musique est un métissage incroyable de musique classique\, d’habaneras\, de musiques populaires russes\, polonaises\, espagnoles\, italiennes et bien sûre elle puise ses racines profondes et son rythme dans les traditions africaines. Elle est une création unique\, “un souvenir du futur” \, inscrite au patrimoine mondial de l’humanité. \nLe Tango argentin est un art d’appréhender la vie\, il est musique\, danse\, poésie\, art de vivre. Les plus grands auteurs argentins ont écrits pour le tango\, Homero Manzi\, Catulo Castillo\, Enrique Santo Discepolo\, Jorge Luis Borges\, Eladia Blasquez\,sans oublier\, l’uruguayen Horacio Ferrer devenu l’inséparable complice d’Astor Piazzolla\, l’enfant terrible parmi les enfants terribles du tango. \nCristina Ormani\, chanteuse\, danseuse et comédienne d’origine argentine a créé avec Los Tigres Tango\, un groupe de tango incontournable à l’origine de nombreuses créations de théâtre musical et de concerts théâtralisés. . Sa voix profonde saisit l’essence du tango et Serge Salacroup\, pianiste émérite\, l’accompagne avec fougue dans toutes les nuances du tango argentin.\nAvec Tango Incarnation\, ils vous proposent un voyage pour essayer de capturer l’essence du tango à travers ses mélodies\, ses rythmiques complexes et ses magnifiques chansons. Cristina Ormani a adapté quelques-uns de ces beaux poèmes chantés en espagnol mais dits en français pour vous permettre de cueillir les riches confidences du tango sans la barrière de la langue. \nNous vous promettons une immersion totale dans l’univers du tango\, où chaque note et chaque mot vous feront vibrer. Chaque tango est une petite histoire alors préparez-vous à vivre de belles histoires et à fredonner de belles mélodies sur le chemin du retour. Nous explorerons aussi bien le répertoire d’Astor Piazzolla que celui de ses prédécesseurs qui l’ont inspiré dans sa quête de la musique du futur. \n \nEntrée 15 € – adhérent : 12 € / Tarif étudiant 10 €
URL:https://www.galerie-depardieu.com/event/tango-incarnation-los-tigres-tango-a-dos/
LOCATION:Galerie Depardieu\, 6 rue du docteur Jacques Guidoni\, Nice\, 06000\, France
CATEGORIES:Agenda,Concert
ORGANIZER;CN="Association ARTEP":MAILTO:artep.association@gmail.com
END:VEVENT
BEGIN:VEVENT
DTSTART;TZID=Europe/Paris:20241010T143000
DTEND;TZID=Europe/Paris:20241130T183000
DTSTAMP:20260424T220236
CREATED:20240926T153234Z
LAST-MODIFIED:20240926T153234Z
UID:4756-1728570600-1732991400@www.galerie-depardieu.com
SUMMARY:Exposition Zoè Gruni  -  Motherboard
DESCRIPTION:Zoè Gruni – Motherboard\nVernissage Jeudi 10 octobre 2024 de 16h à 21h\, en présence de l’artiste\nExposition jusqu’au 30 novembre 2024\nEntrée libre \n \nLa « carte mère » est responsable de la transmission et de la synchronisation correcte de centaines de signaux différents\, tous à haute fréquence et sensibles aux perturbations entre les processeurs\, les cartes d’extension et les périphériques externes. Par conséquent\, pour que le circuit soit performant et fiable\, il est essentiel que la carte mère soit bien fabriquée. « Motherboard » est un projet sur la maternité. Il s’agit d’une série d’images photographiques prises avec le déclencheur automatique pendant des moments de jeu avec mon fils. Le « masque peint » qui leur est appliqué conduit à la transformation continuelle des personnages et parfois à l’inversion du rôle de la mère et du fils. L’ironie et le drame se mêlent à des éléments symboliques empruntés à la mémoire collective : l’antiquité\, la mythologie\, la culture pop\, la technologie numérique et les thèmes sociaux. \n« Ma recherche artistique découle de la nécessité d’exorciser la peur de la différence. À partir d’une réflexion intérieure qui tend vers une dimension collective\, mon corps est le catalyseur qui me permet d’aller à la rencontre des autres à travers différents types d’interactions. La performance est la base de mes projets. Cependant\, les actions ne sont pas conçues comme un spectacle mais comme un processus en constante évolution… Les différents médias utilisés dans les performances – photographie\, dessin\, sculpture\, vidéo et installation – me permettent d’explorer toutes les facettes et de superposer les différents moyens d’expression. Je recherche des œuvres faites à la main et artisanales qui me relient à une dimension populaire. La recherche anthropologique et socioculturelle est devenue un aspect de plus en plus important pour moi. La participation d’autres personnes à mon travail est également fondamentale. J’accueille l’autre dans le projet et l’invite à interagir\, parfois dans le rôle principal\, parfois en tant que partenaire pour créer un collectif temporaire. Travailler avec son propre ego est très complexe. Mais malgré ses difficultés\, c’est précisément ce que je veux faire : expérimenter la vie à travers l’art »\nZoè Gruni.
URL:https://www.galerie-depardieu.com/event/exposition-zoe-gruni-motherboard/
LOCATION:Galerie Depardieu\, 6 rue du docteur Jacques Guidoni\, Nice\, 06000\, France
CATEGORIES:Agenda,exposition
ORGANIZER;CN="Association ARTEP":MAILTO:artep.association@gmail.com
END:VEVENT
BEGIN:VEVENT
DTSTART;TZID=Europe/Paris:20241012T180000
DTEND;TZID=Europe/Paris:20241012T193000
DTSTAMP:20260424T220236
CREATED:20240926T153437Z
LAST-MODIFIED:20240926T153437Z
UID:4759-1728756000-1728761400@www.galerie-depardieu.com
SUMMARY:PASSION ...   GOLIARDA Dans le cadre du Festival Scènes d’automne
DESCRIPTION:Samedi 12 octobre 2024 à 18h\nPASSION …   GOLIARDA\nDans le cadre du Festival Scènes d’automne \nLECTURE à voix multiples\nTextes tirés des romans\, essais et carnets. \nCie La saeta\nMarie-Jeanne Laurent\, Emma Laurent\, Sophie de Montgolfier \n \nIl y a 100 ans naissait à Catane Goliarda Sapienza\, La scandaleuse autrice de L’ART DE LA JOIE.\nAujourd’hui reconnue\, célébrée\, son œuvre nous offre une suite de récits saisissants\, peuplés de personnages inoubliables dans l’Italie tourmentée de l’après-guerre.\nAu fil des pages nous sommes confrontés à une expérience de lecture et à une leçon de vie singulières et bouleversantes. \nEntrée 10 € – 8 € pour les adhérents
URL:https://www.galerie-depardieu.com/event/passion-goliarda-dans-le-cadre-du-festival-scenes-dautomne/
LOCATION:Galerie Depardieu\, 6 rue du docteur Jacques Guidoni\, Nice\, 06000\, France
CATEGORIES:Agenda,Lecture,theatre
ORGANIZER;CN="Association ARTEP":MAILTO:artep.association@gmail.com
END:VEVENT
BEGIN:VEVENT
DTSTART;TZID=Europe/Paris:20241013T150000
DTEND;TZID=Europe/Paris:20241013T190000
DTSTAMP:20260424T220236
CREATED:20240926T153606Z
LAST-MODIFIED:20240926T153606Z
UID:4762-1728831600-1728846000@www.galerie-depardieu.com
SUMMARY:STARTING SUNDAY à la galerie
DESCRIPTION:Dimanche 13 Octobre 2024 de 15h à 19h\nSTARTING SUNDAY à la galerie\nOrganisée par le Comité Professionnel des Galerie d’Art (CPGA) \n \n+ de 100 galeries d’art vous ouvrent leurs portes\nLes galeries d’art\, le plus grand musée gratuit de France\nOuverture exceptionnelle de la Galerie Depardieu ce dimanche 13 octobre\, avec les expositions :\nZoè Gruni – Motherboard & Jean-Claude Bertrand – Résonances harmoniques \nProgramme complet\nhttps://www.comitedesgaleriesdart.com/ \nEntrée libre
URL:https://www.galerie-depardieu.com/event/starting-sunday-a-la-galerie/
LOCATION:Galerie Depardieu\, 6 rue du docteur Jacques Guidoni\, Nice\, 06000\, France
CATEGORIES:Agenda,exposition
END:VEVENT
BEGIN:VEVENT
DTSTART;TZID=Europe/Paris:20241018T201500
DTEND;TZID=Europe/Paris:20241018T223000
DTSTAMP:20260424T220236
CREATED:20240926T153846Z
LAST-MODIFIED:20241018T161828Z
UID:4765-1729282500-1729290600@www.galerie-depardieu.com
SUMMARY:Annulé suite à l'Alerte rouge // Mando'Muse présente Mandolin Now !  Les oeuvres les plus représentatives du répertoire moderne pour mandoline et guitare. 
DESCRIPTION:Le concert est malheureusement annulé suite à l’alerte rouge. Il sera reporté à une date ultérieure. \nVendredi 18 Octobre 2024 à 20h15\nMando’Muse présente Mandolin Now ! \nLes oeuvres les plus représentatives du répertoire moderne pour mandoline et guitare.  \nMarine Riponi mandoline\nMaud Négrel guitare \n \n« Mandolin Now ! » est autant une injonction à s’offrir une pause musicale qu’une invitation à un tour du monde de la mandoline actuelle. L’ensemble des oeuvres présentées a été composé au XXème et XXIème siècle par des compositeurs des cinq continents. De l’Autriche de Norbert Sprongl au Japon de Tōru Takemitsu en passant par le Vénézuela de Ricardo Sandoval et par les musiques traditionnelles issues du répertoire nord-américain ou encore australien\, nous vous invitons à parcourir avec nous les oeuvres les plus représentatives du répertoire moderne pour mandoline et guitare.  \nAu programme :\n– Duo de Norbert Sprongl (Autriche)\n–        Solo mandoline : Requiem de Claudio Mandonico (Italie)\n–        ⁠Mandolin024 de Goshi Yoshida (Japon)\n–        Solo guitare : Équinox de Toru Takemitsu (Japon)\n–        The Last Waltz de Richard Charlton (Australie)\n–        ⁠2 duos de Eïleen Pakenham (Angleterre). : Puck dance\, Poppy in the corn\n–        3 duos de Vincent Beer-Demander (France) : La conservature en laine\, Le verre de cocadine\, Noyeux Joël\n–        Petite suite valseuse de Jean-Claude Petit (France)\n–        Satomi de Ricardo Sandoval (Vénézuéla)\n–        Medley de musique country (USA)\n–        BIS : Bis de Pierrick Houdy (France) \nLE DUO MANDO’MUSE : Marine Riponi et Maud Négrel se rencontrent en 2016 lors de la quatorzième session de l’EGMYO\, orchestre à plectres européens des jeunes\, à Otzenhausen en Allemagne\, qui réunit tous les deux ans les meilleurs mandolinistes et guitaristes de la jeune génération. Elles se retrouvent régulièrement lors de stages et académies internationales de mandoline et guitare : EGMYO 2016 en Allemagne\, EGMYO 2021 à Marseille\, Orchestre National à Plectres de France 2022 à Marseille\, Accademia Internazionale Italiana de Mandolino e Chittara 2022 à Gênes\, Orchestre Hamilton de Holanda et les 100 mandolines 2023 à Marseille … et ont l’opportunité de bénéficier des conseils des plus grands maîtres de leurs instruments. Le duo Mando’Muse\, qui ne s’appelait alors pas encore ainsi\, est né dans le cadre de leur cursus en musique de chambre dans la classe de Marc Vieillefon au Conservatoire de Marseille. Elles obtiennent leur Prix de musique de chambre mention Très bien avec félicitations du jury\, et sont récompensées par le 2ème Prix du Grand Prix Pierre Barbizet. \n \nEntrée 15 € – adhérent : 12 € / Tarif étudiant 10 €
URL:https://www.galerie-depardieu.com/event/mandomuse-presente-mandolin-now-les-oeuvres-les-plus-representatives-du-repertoire-moderne-pour-mandoline-et-guitare/
LOCATION:Galerie Depardieu\, 6 rue du docteur Jacques Guidoni\, Nice\, 06000\, France
CATEGORIES:Agenda,Concert
ORGANIZER;CN="Association ARTEP":MAILTO:artep.association@gmail.com
END:VEVENT
BEGIN:VEVENT
DTSTART;TZID=Europe/Paris:20241025T200000
DTEND;TZID=Europe/Paris:20241025T213000
DTSTAMP:20260424T220236
CREATED:20240926T154303Z
LAST-MODIFIED:20240926T154303Z
UID:4768-1729886400-1729891800@www.galerie-depardieu.com
SUMMARY:Projection films art & essai de Georges Sammut JEAN-PIERRE DUPREY\, un soleil noir  et UNE AUTRE VIE
DESCRIPTION:Vendredi 25 Octobre 2024 à 20h\nProjection films art & essai de Georges Sammut\nJEAN-PIERRE DUPREY\, un soleil noir \net UNE AUTRE VIE \n \nJean-Pierre DUPREY\, un soleil noir \, 25’00. 2024\nVoix : Paul LAURENT et Sylvie TEISSIER\nUn film de Georges SAMMUT \nParmi les poètes suicidés du Surréalisme\, il en est un\, Jean-Pierre DUPREY (1930-1959) qui alla au-delà même des lignes de crête dictées par André BRETON pour cette aventure artistique autant qu’humaine :\nDe l’Amour fou vécu avec Jacqueline à l’imaginaire délirant et onirique de ses écrits\, de son paysage mental exacerbé à la violence acérée de ses statues et peintures\, de sa révolte d’écorché vif à son geste sacrilège contre l’Etat\, ce poète de l’absolu\, «allergique à la planète»\, nous laissa le récit en lettres rouges sang de sa quête désespérée du soleil noir. \nUNE AUTRE VIE\, 33’00. 2024\navec Marius-Marc ROUX\, un film de Georges SAMMUT \nIl y a des Femmes réelles ou fantasmées\, actrices d’un long ruban d’images et un vieil Homme\, porteur lui-même de fictions diverses.\nSe joue alors entre eux un parcours mémoriel amoureux\, atomisé de poésies\, musiques et visions rêvées au gré de hasards et d’improvisations en un montage libre de tout réalisme.\nEt il y aura toujours une seconde de plus pour que cela dure encore avant la douce plongée dans une « autre vie »\, flash éternel de l’ailleurs et du nulle part sans nom. \nEntrée 6 € – Etudiant 4 €
URL:https://www.galerie-depardieu.com/event/projection-films-art-essai-de-georges-sammut-jean-pierre-duprey-un-soleil-noir-et-une-autre-vie/
LOCATION:Galerie Depardieu\, 6 rue du docteur Jacques Guidoni\, Nice\, 06000\, France
CATEGORIES:Agenda,projection
ORGANIZER;CN="Association ARTEP":MAILTO:artep.association@gmail.com
END:VEVENT
BEGIN:VEVENT
DTSTART;TZID=Europe/Paris:20241031T143000
DTEND;TZID=Europe/Paris:20241130T183000
DTSTAMP:20260424T220236
CREATED:20241004T163231Z
LAST-MODIFIED:20241004T163231Z
UID:4781-1730385000-1732991400@www.galerie-depardieu.com
SUMMARY:Exposition Natalie Victor-Retali (N_VR)  -  Intimités
DESCRIPTION:Natalie Victor-Retali (N_VR) – Intimités\nVernissage Jeudi 31 octobre 2024 de 18h à 21h\, en présence de l’artiste\nExposition jusqu’au 30 novembre 2024\nEntrée libre \n \nLa jouissance féminine\, dont on ne parle jamais\, est un enjeu majeur de la libération des\nfemmes\, ces deux entités : la Femme sacrée et la Femme jouissante devront tenir ensemble si l’on veut avancer un peu sur le chemin d’une véritable égalité. \nIl est des lieux inaccessibles\, secrets et sacrés dont certains pensent qu’ils sont à l’origine du monde. Il m’est venu l’envie de les explorer pour moi-même. \nL’autoportrait est un art difficile\, je m’y suis attelée voici déjà une décennie\, je n’étais pourtant jamais allée aussi loin dans l’exploration de moi-même\, n’hésitant pas à mettre au jour ce qui devrait rester caché mais que tout le monde rêve toujours de voir\, les visages et autres parties du corps y alternent avec le sexe lui-même comme des contrepoints à cette découverte… \nLa pulsion scopique étant un formidable aiguillon\, pourquoi ne nous permettrait-elle pas de découvrir ce qui doit être caché y compris à notre propre regard ? Voilà encore une différence majeure entre l’homme et la femme ; le premier se délectant sa vie durant de la vision de son organe génital\, la seconde devant se contenter de tenter de choisir l’Autre qui y regardera de plus près (médecin ou partenaire) dans le meilleur des cas. \nLa technique du scanner permet cette introspection d’un nouveau genre avec une grande\nprécision doublée d’un écrasement qui est une référence facétieuse à la position la plus\nhabituelle de la femme dans l’acte amoureux.
URL:https://www.galerie-depardieu.com/event/exposition-natalie-victor-retali-n_vr-intimites/
LOCATION:Galerie Depardieu\, 6 rue du docteur Jacques Guidoni\, Nice\, 06000\, France
CATEGORIES:Agenda,exposition
END:VEVENT
END:VCALENDAR