BEGIN:VCALENDAR
VERSION:2.0
PRODID:-//Galerie Depardieu - ECPv6.15.20//NONSGML v1.0//EN
CALSCALE:GREGORIAN
METHOD:PUBLISH
X-WR-CALNAME:Galerie Depardieu
X-ORIGINAL-URL:https://www.galerie-depardieu.com
X-WR-CALDESC:Évènements pour Galerie Depardieu
REFRESH-INTERVAL;VALUE=DURATION:PT1H
X-Robots-Tag:noindex
X-PUBLISHED-TTL:PT1H
BEGIN:VTIMEZONE
TZID:Europe/Paris
BEGIN:DAYLIGHT
TZOFFSETFROM:+0100
TZOFFSETTO:+0200
TZNAME:CEST
DTSTART:20230326T010000
END:DAYLIGHT
BEGIN:STANDARD
TZOFFSETFROM:+0200
TZOFFSETTO:+0100
TZNAME:CET
DTSTART:20231029T010000
END:STANDARD
BEGIN:DAYLIGHT
TZOFFSETFROM:+0100
TZOFFSETTO:+0200
TZNAME:CEST
DTSTART:20240331T010000
END:DAYLIGHT
BEGIN:STANDARD
TZOFFSETFROM:+0200
TZOFFSETTO:+0100
TZNAME:CET
DTSTART:20241027T010000
END:STANDARD
BEGIN:DAYLIGHT
TZOFFSETFROM:+0100
TZOFFSETTO:+0200
TZNAME:CEST
DTSTART:20250330T010000
END:DAYLIGHT
BEGIN:STANDARD
TZOFFSETFROM:+0200
TZOFFSETTO:+0100
TZNAME:CET
DTSTART:20251026T010000
END:STANDARD
END:VTIMEZONE
BEGIN:VEVENT
DTSTART;TZID=Europe/Paris:20240425T143000
DTEND;TZID=Europe/Paris:20240608T183000
DTSTAMP:20260425T060346
CREATED:20240329T195454Z
LAST-MODIFIED:20240329T195454Z
UID:4619-1714055400-1717871400@www.galerie-depardieu.com
SUMMARY:Exposition Marine Gambardella - Un Homme dans l’espace
DESCRIPTION:Marine Gambardella – Un Homme dans l’espace\nJeudi 25 Avril 2024 de 18h à 21h\nVernissage en présence de l’artiste\nExposition jusqu’au 8 juin 2024\nEntrée libre \n \nUn Homme dans l’espace\nTous les humanoïdes que je dessine représentent le rêve\, le souvenir\, les pensées intérieures.\nLes corps sont\, eux\, détachés d’un contexte\, d’un passé et d’une histoire. Ils vivent dans un monde\ninvisible à l’œil et ne se réfèrent à aucune tradition\, à aucun genre et aucune genèse dans un monde sans fin et en mouvement continu.\nMon travail graphique fondé sur les corps et le mouvement repose sur la contradiction. Il n’y a pas ou le plein ou le vide\, ou l’assimilation ou la répulsion\, ou la protection ou l’attaque\, ou l’intérieur ou l’extérieur… il y a tout ça à la fois.\nC’est à travers l’idée du cyborg tel que le voit Donna Haraway dans Manifeste cyborg que je propose cette série : « le cyborg est une créature qui vit dans un monde post-genre (…) Le cyborg n’a pas d’histoire de ses origines au sens occidental du terme – ultime ironie puisqu’il est aussi l’horrible conséquence\, l’apocalypse finale de l’escalade de la domination de l’individuation abstraite\, le moi par excellence\, enfin dégagé de toute dépendance\, un homme dans l’espace.» \nAnthony Roques\, danseur-chorégraphe\, premier prix du CNSMDP :\n«Faire trace de l’éphémère du mouvement. Comme une persistance rétinienne\, le corps en négatif révèle tant de grâces et de disgrâces. L’empreinte mémorielle dans le cerveau\, ce que les neuroscientifiques appellent un engramme\, Marine Gambardella s’en saisit et révèle le sublime\, le monstrueux au détour de corps en torsion\, suspendus\, entremêlés\, brûlants\, presque arrachés. Le dessin est détaillé\, précis\, avec des textures vaporeuses\, ce qu’il faut de contours déformés comme lorsque l’on ferme les yeux et que le spectre d’un souvenir nous apparaît. Cette série de dessins fait rimer puissance et pudeur. A la fois saisis par l’étrangeté\, attendris par la douceur\, et hypnotisés par la sensorialité que suggèrent ces métonymies graphiques.\nQu’est-ce qui bouillonne dans ce tumulte chorégraphique ? Une multitude d’histoires\, de vécus\, de perspectives\, mais aussi de l’abstrait\, la beauté du geste. Le corps découpé\, décuplé\, l’œuvre de Marine y redonne subtilement du vivant. C’est jaillissant. Quelque part\, le chaos est réjouissant.» \nDu lundi au samedi de 14h30 à 18h30\nEntrée libre
URL:https://www.galerie-depardieu.com/event/exposition-marine-gambardella-un-homme-dans-lespace/
LOCATION:Galerie Depardieu\, 6 rue du docteur Jacques Guidoni\, Nice\, 06000\, France
CATEGORIES:Agenda,exposition,Vernissage
END:VEVENT
BEGIN:VEVENT
DTSTART;TZID=Europe/Paris:20240503T190000
DTEND;TZID=Europe/Paris:20240503T203000
DTSTAMP:20260425T060346
CREATED:20240425T170414Z
LAST-MODIFIED:20240425T170414Z
UID:4625-1714762800-1714768200@www.galerie-depardieu.com
SUMMARY:Lecture/projection L’existence Vive
DESCRIPTION:Vendredi 3 mai 2024 à 19h\nLecture/projection L’existence Vive \nLecture par Geneviève Planté-longchamp\nProjection des photographies de Bernard Boisson \n \nEn mots et en images\, cet itinéraire sensible nous mènera progressivement du corps-nature au cœur mature\nSur une « île »\nPar une « elle » et un « il ».\nPartageons l’urgence à être ensemble\, traversés par un souffle vital qui fait respirer mieux. Car changer de regard c’est changer le monde\, et voir beau c’est aimer. \nGeneviève  Planté-longchamp\nTisser un lien intime avec soi-même\, l’autre\, et le monde a été sa vocation. Elle en a proposé la découverte et l’accompagnement par la guidance et l’enseignement de la Sophrologie\, des Voyages propices au « voir comme pour la première fois »\, ou encore des Rencontres organisées autour du lien « Nature et Sacré ». A ce jour\, elle se passionne pour la « musique des plantes ». \nBernard Boisson\nArtiste-photographe\, écrivain-penseur\, réalisateur audiovisuel\, consultant en Ecopsychologie\, Président de « Forêt Citoyenne ». Spécialiste des forêts européennes en libre évolution depuis plus de 30 ans. \nEntrée 8 € – 6 € pour les adhérents / Étudiants : 4 €
URL:https://www.galerie-depardieu.com/event/lecture-projection-lexistence-vive/
LOCATION:Galerie Depardieu\, 6 rue du docteur Jacques Guidoni\, Nice\, 06000\, France
CATEGORIES:Agenda,Lecture,projection
ORGANIZER;CN="Association ARTEP":MAILTO:artep.association@gmail.com
END:VEVENT
BEGIN:VEVENT
DTSTART;TZID=Europe/Paris:20240504T143000
DTEND;TZID=Europe/Paris:20240622T183000
DTSTAMP:20260425T060346
CREATED:20240425T170638Z
LAST-MODIFIED:20240425T170638Z
UID:4628-1714833000-1719081000@www.galerie-depardieu.com
SUMMARY:Exposition Sandi Renko - Structures visuelles optiques
DESCRIPTION:Sandi Renko – Structures visuelles optiques \nSamedi 4 Mai 2024 de 16h à 20h30\nVernissage en présence de l’artiste\nExposition jusqu’au 22 juin 2024\nEntrée libre \n \nD’origine italo-slovène\, Sandi Renko est né à Trieste en 1949. Il est diplômé de l’Institut d’art Umberto Nordio\, qui compte parmi ses professeurs Miela Reina\, Enzo Cogno\, Ugo Carà et Marcello Siard. Grâce à eux\, il commence à fréquenter le Centro Arte Viva\, qui\, à cette époque\, fait connaître à la ville les œuvres d’Enzo Mari\, de Getulio Alviani\, de Bruno Munari et d’autres. Il est ainsi attiré par le domaine expérimental de l’art cinétique et programmé. Sa première œuvre en canneté\, un médium qui déterminera le développement d’un langage artistique personnel axé sur la géométrie et la tridimensionnalité et sur l’interaction entre l’observateur et l’œuvre\, date de 1969.\nAu début des années 1970\, il s’installe à Padoue et ouvre un studio de design\, de communication visuelle et de direction artistique\, travaillant avec des entreprises de premier plan dans la conception de meubles\, de systèmes d’ameublement et d’éclairage. Stimulé par le contexte artistique et intellectuel de Padoue\, qui fait encore écho aux expériences du Gruppo N\, il commence à participer à des expositions collectives\, à des happenings et à des événements impromptus\, consolidant ainsi ses affinités avec l’art concret. Il applique également la rigueur du design à la production artistique et poursuit un parcours toujours linéaire et cohérent\, basé sur une technique personnelle.\nDepuis 2000\, encouragé par Alberto Biasi\, il intensifie son activité artistique en expérimentant de nouvelles couleurs et de nouveaux matériaux. Il s’est aventuré dans des projets synesthésiques\, produisant une série d’œuvres sonores multisensorielles.\nUne première exposition complète de sa production a été organisée en 2015 au Padiglione delle Arti à Marcon\, Venise. En 2016\, il expose aux côtés de représentants historiques de l’art programmé et cinétique\, dont Cruz-Diez\, Le Parc et Tornquist\, lors de l’exposition The sharper perception qui se tient à New York\, et l’année suivante\, il est présent à l’exposition Biasi\, Campesan\, Munari et autres amis de Verifica 8+1\, dans le cadre de la 57e Biennale de Venise.\nÀ partir de 2019\, il déménage son atelier de Padoue à Trieste. Il renoue également avec des collègues slovènes par l’intermédiaire de la ZDSLU (Association des sociétés d’artistes visuels slovènes).\nL’exposition personnelle Sandi Renko Fuori dalle righe. 50 ans de perception visuelle\, dans laquelle il a exposé plus de soixante œuvres au Palazzo del Monferrato à Alessandria.\nEn 2021\, il fait partie des artistes sélectionnés pour la sixième biennale internationale Origins in Geometry\, organisée par le Museum of Geometric and MADI Art de Dallas (TX).\nEn 2022\, l’un de ses projets a été sélectionné pour l’appel Odprta Vrata/Open Doors de l’Obalne Galerije/Coastal Galleries à Piran : Continuum\, une installation multisensorielle réalisée en collaboration avec deux jeunes créateurs\, Aleš Brce\, graphiste\, et Marko Jugovic\, compositeur.\nIl a été invité à participer à l’édition 2022 de l’exposition Palinsesti à San Vito al Tagliamento\, où il a présenté\, outre une installation spécifique\, une série d’œuvres créées pour l’occasion afin d’accompagner une sculpture cinétique.\nIl a participé à des expositions individuelles et collectives en Italie\, en Slovénie\, en Autriche\, en Croatie\, en Allemagne\, en France\, en Suisse et à New York. Il est représenté par des galeries italiennes et étrangères. \nLégende\nROTOKUBIK 224\, acrylique et aérographe sur plaque synthétique fraisée\, 143 x 143 cm\, 2024
URL:https://www.galerie-depardieu.com/event/exposition-sandi-renko-structures-visuelles-optiques/
LOCATION:Galerie Depardieu\, 6 rue du docteur Jacques Guidoni\, Nice\, 06000\, France
CATEGORIES:Agenda,exposition,Vernissage
END:VEVENT
BEGIN:VEVENT
DTSTART;TZID=Europe/Paris:20240511T201500
DTEND;TZID=Europe/Paris:20240511T223000
DTSTAMP:20260425T060346
CREATED:20240425T183011Z
LAST-MODIFIED:20240425T183011Z
UID:4633-1715458500-1715466600@www.galerie-depardieu.com
SUMMARY:Auguste Quartet
DESCRIPTION:Samedi 11 Mai 2024 à 20h15\nAuguste Quartet \nNouvel album « Exalta Calma » \nMario Allard : saxophone alto et soprano\nFélix Stüssi : piano\, compositions\nAlain Bédard : contrebasse\, compositions\nMichel Lambert : batterie \n \nAprès avoir joué “Circum Continuum” sur plusieurs continents de 2016 à 2019\, l’Auguste quartet nous revient avec un nouvel opus qui brasse aussi bien les lectures du temps\, les contrastes et les atmosphères\, que les climats sonores. Avec “Exalta calma” l’Auguste nous invite à superposer deux antipodes qui pourraient nous suggérer\, des forces variables animant l’intérieur d’un tableau\, d’une personne et/ou même d’un son.\nLa musique du quartet ne se pointe pas à la griserie de la vitesse\, mais bien aux frissons et à l’élasticité des phrases\, qui avec l’arrivée du saxophoniste Mario Allard\, bouillonne de vie\, d’énergie et d’exultation. \n \nLabel: Effendi Records nouvel album « Exalta Calma » sorti en 2021 \nOn a vu naître l’AUGUSTE quartet en 1997. Ainsi depuis 25 ans maintenant\, L’AUGUSTE quartet d’Alain Bédard\, poursuit une carrière fort intéressante qui navigue sur tous les continents. Jouant que sa musique originale\, il a évolué dans plus d’une vingtaine de pays sur 4 continents. Ainsi l’Auguste a eu la capacité et l’expertise pour mettre à bien tous ses projets dans des pays comme la Chine\, le Japon\, a Corée du Sud\, le Mexique\, les USA\, l’Italie\, la Hong-rie\, l’Irlande\, le UK\, la Belgique\, le Luxembourg\, l’Estonie\, la Pologne\, la Russie\, les Pays Bas\, l’Allemagne\, le Maroc\, l’Espagne\, le Portugal\, la France et le Canada (toutes les grandes villes et presque tous les festivals de jazz)\, etc…\nDepuis le groupe a édité 6 albums dont les CD “Auguste ”\, “ Sphère Réflexion ”\, “ Bluesy Lunedi ”\, nominé à l’ADISQ et au prix JUNO dans la catégorie meilleur album de l’année\, “ Homos Pugnax ”\, “ Circum Continum ”. \n \nExalta Calma a des orchestrations bien ficelées avec des musiciens qui sont aussi des amis. Pros jusqu’au bout. Des « mélodies » pas toujours faciles\, mais un jazz exaltant\, attirant\, parfois apaisant\, intelligent. Bravo !\nMichel Dupuis – Radio Net\, Montréal \nEntrée 15 € – adhérent : 12 € / Tarif étudiant 10 €
URL:https://www.galerie-depardieu.com/event/auguste-quartet/
LOCATION:Galerie Depardieu\, 6 rue du docteur Jacques Guidoni\, Nice\, 06000\, France
CATEGORIES:Agenda,Concert
ORGANIZER;CN="Association ARTEP":MAILTO:artep.association@gmail.com
END:VEVENT
BEGIN:VEVENT
DTSTART;TZID=Europe/Paris:20240518T180000
DTEND;TZID=Europe/Paris:20240518T200000
DTSTAMP:20260425T060346
CREATED:20240425T183222Z
LAST-MODIFIED:20240425T183222Z
UID:4635-1716055200-1716062400@www.galerie-depardieu.com
SUMMARY:L'heure d art HUGO\, ah la folie ! conférence par Kiki Baldassari
DESCRIPTION:Samedi 18 Mai 2024 à 18h\nL’heure d art – conférence par Kiki Baldassari\nHUGO\, ah la folie ! \nMots & maux \nThe Desperate Man (Self-Portrait). Private Collection. (Photo by Fine Art Images/Heritage Images/Getty Images)\nAprès sa venue pour « Jean-Michel Basquiat\, Indocile icône »\, « Caravage\, autoportrait »\, « Frida Kahlo\,  L’enfant et les Sortilèges »\, « Gone with the Wilde\, Tout l’Art d’Oscar »\, « Nicolas de Staël\, Mon art est sur les remparts » etc.\, à la galerie\, Kiki Baldassari\, conférencière assermentée & historienne de l’art nous propose un nouveau panorama artistique et sociétal. \nvisuel: Desespoir\, Gustave Courbet\, 1841 \nEntrée 10 € – 8 € pour les adhérents / Étudiants : 6 €
URL:https://www.galerie-depardieu.com/event/lheure-d-art-hugo-ah-la-folie-conference-par-kiki-baldassari/
LOCATION:Galerie Depardieu\, 6 rue du docteur Jacques Guidoni\, Nice\, 06000\, France
CATEGORIES:Agenda,Conférence
ORGANIZER;CN="Association ARTEP":MAILTO:artep.association@gmail.com
END:VEVENT
BEGIN:VEVENT
DTSTART;TZID=Europe/Paris:20240525T180000
DTEND;TZID=Europe/Paris:20240525T193000
DTSTAMP:20260425T060346
CREATED:20240502T161229Z
LAST-MODIFIED:20240502T161229Z
UID:4654-1716660000-1716665400@www.galerie-depardieu.com
SUMMARY:Lecture mise en espace  PASSION ...   GOLIARDA  -   1/ Autoportrait
DESCRIPTION:Samedi 25 Mai 2024 à 18h\nLecture mise en espace \nPASSION …   GOLIARDA  \n1/ Autoportrait \nUne enfance prémonitoire \nLECTURE à voix multiples\nTextes tirés des romans\, essais et carnets.  \n \nLa saeta\nMj Laurent\, Emma Laurent \nIl y a 100 ans naissait à Catane Goliarda Sapienza\, La scandaleuse autrice de L’ART DE LA JOIE. \nAujourd’hui reconnue\, célébrée\, son œuvre nous offre une suite de récits saisissants\, peuplés de personnages inoubliables dans l’Italie tourmentée de l’après guerre. \nAu fil des pages nous sommes confrontés à une expérience de lecture et à une leçon de vie singulières et bouleversantes.  \nEntrée 6 € / Tarif étudiant 4 €\nRéservation/billetterie :\nhttps://www.billetweb.fr/lecture-mise-en-espace-passion-goliarda-1-autoportrait
URL:https://www.galerie-depardieu.com/event/lecture-mise-en-espace-passion-goliarda-1-autoportrait/
LOCATION:Galerie Depardieu\, 6 rue du docteur Jacques Guidoni\, Nice\, 06000\, France
CATEGORIES:Agenda,Lecture
ORGANIZER;CN="Association ARTEP":MAILTO:artep.association@gmail.com
END:VEVENT
BEGIN:VEVENT
DTSTART;TZID=Europe/Paris:20240529T180000
DTEND;TZID=Europe/Paris:20240529T210000
DTSTAMP:20260425T060346
CREATED:20240527T170809Z
LAST-MODIFIED:20240527T170809Z
UID:4659-1717005600-1717016400@www.galerie-depardieu.com
SUMMARY:Jam Session
DESCRIPTION:Mercredi 29 Mai 2024 à partir de 18h\nJam Session \n \nChers amis du jazz\, on vous invite à venir écouter la « Jam session » que nous organisons ce mercredi 29 mai à la galerie\, à partir de 18h.\nNous souhaitons retrouver l’enthousiasme et la joie de vous faire partager le jazz.\nAmis musiciens\, vous pouvez participer\, venez avec votre instrument ou avec votre voix…\nC’est gratuit
URL:https://www.galerie-depardieu.com/event/jam-session/
LOCATION:Galerie Depardieu\, 6 rue du docteur Jacques Guidoni\, Nice\, 06000\, France
CATEGORIES:Agenda,Concert
ORGANIZER;CN="Association ARTEP":MAILTO:artep.association@gmail.com
END:VEVENT
BEGIN:VEVENT
DTSTART;TZID=Europe/Paris:20240531T201500
DTEND;TZID=Europe/Paris:20240531T220000
DTSTAMP:20260425T060346
CREATED:20240425T183443Z
LAST-MODIFIED:20240425T183443Z
UID:4638-1717186500-1717192800@www.galerie-depardieu.com
SUMMARY:Emmanuelle Stéphan - Récital de piano "Que ma joie demeure"
DESCRIPTION:Vendredi 31 Mai 2024 à 20h15\nMusique classique\nEmmanuelle Stéphan Récital de piano\n« Que ma joie demeure » \nEmmanuelle Stéphan\, jeune pianiste française\, a été distinguée en novembre 2023\, « en tant qu’interprète extraordinaire\, sensible et raffinée de la musique de Francis Poulenc et de la musique française » par le Consul Général de France à Florence qui lui remit la médaille Laurentienne du mérite culturel. Emmanuelle donnera un récital de piano à La Galerie Depardieu de Nice le 31 mai 2024. Le titre : « Que ma Joie Demeure » sera aussi le titre de son prochain disque et évoque un élément d’histoire vécue\, 1 an après la disparition de son maître et duo musical\, le grand pianiste Gabriel Tacchino\, qui fut l’unique élève de Francis Poulenc.\nLien vidéo : Emmanuelle Stephan en concert à Mulhouse : le retour de l’enfant prodige (francetvinfo.fr) \nLien audio : Podcast de l’émission FRANCE MUSIQUE (écouter à partir de minute 48) https://www.radiofrance.fr/francemusique/podcasts/generations-france-musique-le-live/raquel-camarinha-yoan-hereau-le-deluge-academie-orsay-royaumont-3-3-quatuor-zahir-emmanuelle-stephan-7957372 \nEntrée 12 € – adhérent : 10 € / Tarif étudiant 10 € – étudiant adhérent 8 €
URL:https://www.galerie-depardieu.com/event/emmanuelle-stephan-recital-de-piano-que-ma-joie-demeure/
LOCATION:Galerie Depardieu\, 6 rue du docteur Jacques Guidoni\, Nice\, 06000\, France
CATEGORIES:Agenda,Concert
ORGANIZER;CN="Association ARTEP":MAILTO:artep.association@gmail.com
END:VEVENT
END:VCALENDAR