BEGIN:VCALENDAR
VERSION:2.0
PRODID:-//Galerie Depardieu - ECPv6.15.20//NONSGML v1.0//EN
CALSCALE:GREGORIAN
METHOD:PUBLISH
X-ORIGINAL-URL:https://www.galerie-depardieu.com
X-WR-CALDESC:Évènements pour Galerie Depardieu
REFRESH-INTERVAL;VALUE=DURATION:PT1H
X-Robots-Tag:noindex
X-PUBLISHED-TTL:PT1H
BEGIN:VTIMEZONE
TZID:Europe/Paris
BEGIN:DAYLIGHT
TZOFFSETFROM:+0100
TZOFFSETTO:+0200
TZNAME:CEST
DTSTART:20220327T010000
END:DAYLIGHT
BEGIN:STANDARD
TZOFFSETFROM:+0200
TZOFFSETTO:+0100
TZNAME:CET
DTSTART:20221030T010000
END:STANDARD
BEGIN:DAYLIGHT
TZOFFSETFROM:+0100
TZOFFSETTO:+0200
TZNAME:CEST
DTSTART:20230326T010000
END:DAYLIGHT
BEGIN:STANDARD
TZOFFSETFROM:+0200
TZOFFSETTO:+0100
TZNAME:CET
DTSTART:20231029T010000
END:STANDARD
BEGIN:DAYLIGHT
TZOFFSETFROM:+0100
TZOFFSETTO:+0200
TZNAME:CEST
DTSTART:20240331T010000
END:DAYLIGHT
BEGIN:STANDARD
TZOFFSETFROM:+0200
TZOFFSETTO:+0100
TZNAME:CET
DTSTART:20241027T010000
END:STANDARD
END:VTIMEZONE
BEGIN:VEVENT
DTSTART;TZID=Europe/Paris:20230907T143000
DTEND;TZID=Europe/Paris:20231021T183000
DTSTAMP:20260425T185158
CREATED:20230731T164816Z
LAST-MODIFIED:20230904T151318Z
UID:4341-1694097000-1697913000@www.galerie-depardieu.com
SUMMARY:Øyvind Hjelmen  - Broken Shadow Part II & Helén Petersen - Space Below
DESCRIPTION:Øyvind Hjelmen – Broken Shadow Part II\nExposition jusqu’au 21 octobre 2023\n&\nHelén Petersen – Space Below\nExposition jusqu’au 14 octobre 2023\nVernissage Jeudi 7 septembre 2023 de 16h à 21h\nEn présence des artistes.\nDu lundi au samedi de 14h30 à 18h30\nEntrée libre \nØyvind Hjelmen – Broken Shadow Part II\nDepuis plus de 30 ans\, Øyvind Hjelmen travaille comme photographe sur l’île norvégienne de Stord. Son travail se caractérise par des images poétiques cherchant à montrer le passage du temps de manière énigmatique. Broken Shadow est la continuation de cette expression. \n \nBroken Shadow est une collection de souvenirs fragmentés. Visant l’intemporalité\, les images touchent l’enfance\, la jeunesse et l’âge adulte. Ils réfléchissent sur la façon dont nous nous rapportons à nous-mêmes et à notre environnement\, en tant qu’êtres humains. Comment nos vies d’adultes sont basées sur notre enfance et comment nous nous rapportons à nos souvenirs\, nos espoirs et nos peurs\, notre sexualité et nos rêves. \nLes images évoquent une sensation de contraste entre le poids des ombres et la légèreté du vol. Dans l’ombre\, nous sommes enracinés\, ancrés\, connectés. Briser l’ombre peut révéler une beauté qui s’y cache. Caché dans les profondeurs\, il peut y avoir de l’espoir\, mais aussi de l’incertitude et de la peur. Un souvenir – bon ou mauvais -\, peut-être bien retenu\, peut-être à peine. Fragmenté. \nHelén Petersen – Space Below\nSur fond noir se détache une sphère couleur or et des filaments iridescents. Là encore\, les formes les plus curieuses se dessinent tout en transparence et parfois s’emplissent de couleurs fluorescentes. Si certaines images peuvent évoquer des pierres précieuses et d’autres des aurores boréales\, elles semblent avant tout venir de l’au-delà et être une illustration des surprises que pourrait réserver l’espace.\nHelén Petersen nous offre à voir du jamais vu. Ce faisant\, elle ouvre en grand la porte de l’imaginaire. \n\nPourtant\, ses images dépeignent le réel – mais à une autre échelle. Il s’agit de plancton observé au microscope et saisi\, dans sa beauté comme son étrangeté\, par l’œil de la photographe. Parti pris esthétique\, elle aura opté de placer les boîtes de Pétri sur fond noir pour mieux souligner les couleurs et les lumières de ces organismes. Reste ensuite à maîtriser la mise au point\, et à saisir l’instant alors que s’orchestre sous ses yeux le vivant. Un travail de longue haleine\, mené sur plus de 10 ans. Le temps de parfaire la maîtrise technique requise et d’affûter son observation.\n« Mes images ne sont pas scientifiques » précise-t-elle. «Il s’agit avant tout de faire rêver et d’interpeller.» \nAlors que les années passent\, Helén Petersen aura observe un changement des formes récurrentes. Elle se gardera d’en tirer quelque conclusion mais souligne l’importance du plancton\, point de départ de l’activité biologique de la mer et donc de la vie.Cela ne rend-t-il pas ses images d’autant plus précieuses et uniques ?\nDelphine Dewulf\nAfter working as a journalist\, and then a scriptwriter\, Dephine Dewulf is a member of the Société Civile des Auteurs Multimédia et de la Société des Auteurs et Compositeurs Dramatiques. Among other things\, she leads creative writing workshops. For more than 20 years\, she has been using her skills in the media\, social entrepreneurship\, creativity\, film and tourism sectors.
URL:https://www.galerie-depardieu.com/event/oyvind-hjelmen-broken-shadow-part-ii-helen-hjelmen-space-below/
LOCATION:Galerie Depardieu\, 6 rue du docteur Jacques Guidoni\, Nice\, 06000\, France
CATEGORIES:Agenda,exposition
END:VEVENT
BEGIN:VEVENT
DTSTART;TZID=Europe/Paris:20230909T201500
DTEND;TZID=Europe/Paris:20230909T223000
DTSTAMP:20260425T185158
CREATED:20230731T165016Z
LAST-MODIFIED:20230904T151136Z
UID:4345-1694290500-1694298600@www.galerie-depardieu.com
SUMMARY:Concert Jazz avec la Cie So What
DESCRIPTION:Samedi 9 septembre 2023 à 20h15\nCie So What \nLa Compagnie So What pratique depuis plus de vingt ans une musique de Jazz jubilatoire\, d’écoute et de respect entre musiciens. Résultat : des mélodies écrites et des improvisations joyeuses aux influences africaines\, une musique imaginée pour le public et la scène. Un désir commun de se retrouver autour d’une musique d’aujourd’hui\, vivante\, libre\, festive\, créative. Des images musicales inspirées par la couleur et la sonorité d’une Côte d’Azur vivante.\nAlex BENVENUTO : clarinette basse ; Laurent LAPCHIN : trompette\, bugle; José SERAFINO : guitare ; Jean-Marc LAUGIER: contrebasse. \n \n  \n 
URL:https://www.galerie-depardieu.com/event/concert-jazz-avec-la-cie-so-what/
LOCATION:Galerie Depardieu\, 6 rue du docteur Jacques Guidoni\, Nice\, 06000\, France
CATEGORIES:Agenda,Concert
ORGANIZER;CN="Association ARTEP":MAILTO:artep.association@gmail.com
END:VEVENT
BEGIN:VEVENT
DTSTART;TZID=Europe/Paris:20230922T201500
DTEND;TZID=Europe/Paris:20230922T223000
DTSTAMP:20260425T185158
CREATED:20230731T165928Z
LAST-MODIFIED:20230731T165928Z
UID:4347-1695413700-1695421800@www.galerie-depardieu.com
SUMMARY:Concert jazz avec Murat Öztürk Trio Nouvel album  Aïna
DESCRIPTION:Vendredi 22 septembre 2023 à 20h15\nConcert jazz avec Murat Öztürk Trio\nNouvel album Aïna \nMurat Öztürk\, piano\nThomas Bramerie\, contrebasse\nFranck Agulhon\, batterie \n \n« Un pianiste aussi lyrique qu’élégant\, à la tête d’un superbe trio ! » DISQUE DU JOUR – Entrée en playlist  – TSF JAZZ\n« Murat Öztürk nous offre une musique qui nous guérit du brouhaha\, du chaos et de la folie du monde » . Jean-Claude Vantroyen – LE SOIR \n//// \nC’est votre retour au trio\, après deux albums aux formations plus imposantes. On est plus à l’aise quand on est moins nombreux? \nSur le précédent album\, Dün\, on était sept\, avec un gros travail d’arrangements et d’orchestration. Pour cet album\, j’avais envie de revenir à quelque chose de plus concentré\, dans tous les sens du terme : peu d’instruments\, une musique épurée\, bref\, aller à l’essentiel. C’était véritablement un album d’introspection\, favorisé\, c’est certain\, par le contexte.  \nL’intimité passe aussi par le triangle d’amis dont vous vous êtes entouré… \nAbsolument. C’est important de bien choisir ses musiciens\, ce sont eux qui vont t’accompagner\, te soutenir\, faire vivre la musique\, donc humainement\, il faut qu’il se passe des choses. L’humain est extrêmement important dans ce genre de réalisation à plusieurs\, et dans le cas de Thomas et Franck\, l’alchimie s’est faite. À partir de là\, tout est possible.  \nL’album a un vrai sens de la narration\, avec dix morceaux qui se succèdent comme des petites histoires liées l’une à l’autre… \nC’est quelque chose qui\, je crois\, revient souvent dans ma musique. Il y a quelque chose qui est lié à l’image dans ce que j’écris\, c’est un rapport à ma musique qui a toujours été présent chez moi. Dans Aïna\, j’ai voulu raconter une histoire\, je ne sais pas vraiment ce qu’elle raconte\, mais je crois que chacun peut trouver la sienne. Par ailleurs\, on a enregistré plus de titres\, ceux qui ne figurent pas sur l’album étant justement ceux qui ne collaient pas à l’histoire générale\, à la cohérence de l’album. L’idée était vraiment d’être authentique\, d’aller au fond du sentiment\, d’opérer un retour à moi-même. \nDün\, qui explorait la musique turque\, était une forme de retour à soi par les origines. Aïna offre un voyage très différent…  \nJ’ai des origines turques par mon père et italiennes par ma mère\, j’ai grandi en France\, donc j’ai été baigné par plusieurs influences. Pour Dün\, j’ai eu envie de creuser la musique turque\, que j’écoute depuis gamin mais que je n’avais jamais jouée. C’était autant une façon de revenir à moi-même qu’une sorte d’exercice de style\, mais dans lequel je n’exprimais qu’une partie de mon identité. Il y a plusieurs chemins pour venir à soi\, Dün en était un\, qui avait à voir avec les origines\, les parents. Aïna est encore plus proche de moi\, simplement parce que je me suis mis au piano et j’ai écrit ce que je ressentais\, sans me poser de questions. « Ayna »\, en turc\, c’est le miroir : c’est quelque chose qui ne triche pas. \nPropos recueilli par Valentin Maniglia
URL:https://www.galerie-depardieu.com/event/concert-jazz-avec-murat-ozturk-trio-nouvel-album-aina/
LOCATION:Galerie Depardieu\, 6 rue du docteur Jacques Guidoni\, Nice\, 06000\, France
CATEGORIES:Agenda,Concert
ORGANIZER;CN="Association ARTEP":MAILTO:artep.association@gmail.com
END:VEVENT
BEGIN:VEVENT
DTSTART;TZID=Europe/Paris:20230929T201500
DTEND;TZID=Europe/Paris:20230929T223000
DTSTAMP:20260425T185158
CREATED:20230731T171301Z
LAST-MODIFIED:20230731T171301Z
UID:4349-1696018500-1696026600@www.galerie-depardieu.com
SUMMARY:ANAPURNA présente "Les illuminations"
DESCRIPTION:Vendredi 29 Septembre 2023 à 20h15\nANAPURNA présente « Les illuminations »\nLes textes surréalistes du poète Arthur Rimbaud mis en musique et illustrés en vidéo \n \n« Les Illuminations » est un recueil de textes d’ Arthur Rimbaud\, publié en 1871. Ce recueil est considéré comme l’une des œuvres les plus importantes de la poésie française du XIXe siècle et a eu un grand impact sur la littérature et la culture modernes. Rimbaud était un poète surréaliste avant l’heure\, utilisant des images et des symboles pour exprimer ses idées de manière non conventionnelle. Les poèmes de « Illuminations » sont souvent lyriques et expérimentaux\, et traitent de thèmes tels que l’amour\, la religion\, l’histoire et la politique. Rimbaud a écrit ces poèmes lorsqu’il était très jeune\, et ils reflètent sa vision unique de l’art et de la vie.\n+d’infos\, vidéos https://anapurna.site/
URL:https://www.galerie-depardieu.com/event/anapurna-presente-les-illuminations/
LOCATION:Galerie Depardieu\, 6 rue du docteur Jacques Guidoni\, Nice\, 06000\, France
CATEGORIES:Agenda,Concert
ORGANIZER;CN="Association ARTEP":MAILTO:artep.association@gmail.com
END:VEVENT
END:VCALENDAR