BEGIN:VCALENDAR
VERSION:2.0
PRODID:-//Galerie Depardieu - ECPv6.15.20//NONSGML v1.0//EN
CALSCALE:GREGORIAN
METHOD:PUBLISH
X-WR-CALNAME:Galerie Depardieu
X-ORIGINAL-URL:https://www.galerie-depardieu.com
X-WR-CALDESC:Évènements pour Galerie Depardieu
REFRESH-INTERVAL;VALUE=DURATION:PT1H
X-Robots-Tag:noindex
X-PUBLISHED-TTL:PT1H
BEGIN:VTIMEZONE
TZID:Europe/Paris
BEGIN:DAYLIGHT
TZOFFSETFROM:+0100
TZOFFSETTO:+0200
TZNAME:CEST
DTSTART:20220327T010000
END:DAYLIGHT
BEGIN:STANDARD
TZOFFSETFROM:+0200
TZOFFSETTO:+0100
TZNAME:CET
DTSTART:20221030T010000
END:STANDARD
BEGIN:DAYLIGHT
TZOFFSETFROM:+0100
TZOFFSETTO:+0200
TZNAME:CEST
DTSTART:20230326T010000
END:DAYLIGHT
BEGIN:STANDARD
TZOFFSETFROM:+0200
TZOFFSETTO:+0100
TZNAME:CET
DTSTART:20231029T010000
END:STANDARD
BEGIN:DAYLIGHT
TZOFFSETFROM:+0100
TZOFFSETTO:+0200
TZNAME:CEST
DTSTART:20240331T010000
END:DAYLIGHT
BEGIN:STANDARD
TZOFFSETFROM:+0200
TZOFFSETTO:+0100
TZNAME:CET
DTSTART:20241027T010000
END:STANDARD
END:VTIMEZONE
BEGIN:VEVENT
DTSTART;TZID=Europe/Paris:20230330T143000
DTEND;TZID=Europe/Paris:20230513T183000
DTSTAMP:20260426T052916
CREATED:20230209T212800Z
LAST-MODIFIED:20230209T212800Z
UID:4164-1680186600-1684002600@www.galerie-depardieu.com
SUMMARY:Exposition Perrine de la Bretesche - Vague Nitescence
DESCRIPTION:Perrine de la Bretesche – Vague Nitescence\nVernissage Jeudi 30 Mars 2023 de 18h à 21h\nEn présence de l’artiste.\nExposition au sous-sol jusqu’au 13 mai 2023\nEntrée libre \n \n« Dans le texte Image fantôme écrit par le critique photographique Hervé Guibert c’est le souvenir d’images qu’il n’a pas réussi à photographier qui déclenche son besoin de les décrire. Son impossibilité à saisir les sentiments\, les attitudes des gens qu’il aime l’ont conduit vers le texte\, ses images devenant de fait fantomatiques.\nDans l’exposition Vague Nitescence la démarche s’inverse\, cette vibration de la vision est au cœur du travail de Perrine de la Bretesche . Dans la série exposée à la Galerie Depardieu\, les images sont volontairement fantomatiques\, brûlées par l’objectif. Les personnages s’étirent et se déforment laissant place à des attitudes parfois hiératiques à la limite de l’abstraction. \nL’artiste emmène le spectateur dans l’interstice de ce moment de relâchement\, bref instant entre réalité et songe lorsque la vision et l’ouïe se troublent laissant apparaître les images récentes de moment tout juste vécus. \nLa lumière surexposée\, paradoxalement\, vient effacer les détails des corps exposés que Perrine de la Bretesche ne cherche pas à montrer\, préférant mettre en avant un système narratif de groupes de personnes évoluant au bord de l’eau\, éléments immuables d’un paysage\, d’un terrain de jeu. Parfois c’est autour d’un rocher qu’apparaissent des personnages\, il devient le repère\, le signal de ses photographies qui semblent dessinées. \nPerrine de la Bretesche plonge le spectateur de ses images évanescentes dans le souvenir furtif d’un lâcher prise collectif ». \nDelphine Ract Madoux\nCommissaire d’exposition indépendante \nDirectrice artistique pendant 10 ans pour le groupe Vente Privée\, elle développe en parallèle sa pratique artistique à l’occasion de long voyage\, au Brésil notamment.\nDepuis 2019\, Perrine de la Bretesche se consacre exclusivement à la photographie\, en particulier pour la ville de Nice où les projets d’exposition se multiplient . Perrine de la Bretesche vit et travaille à Nice.
URL:https://www.galerie-depardieu.com/event/exposition-perrine-de-la-bretesche-vague-nitescence/
LOCATION:Galerie Depardieu\, 6 rue du docteur Jacques Guidoni\, Nice\, 06000\, France
CATEGORIES:Agenda,exposition
END:VEVENT
BEGIN:VEVENT
DTSTART;TZID=Europe/Paris:20230427T143000
DTEND;TZID=Europe/Paris:20230603T183000
DTSTAMP:20260426T052916
CREATED:20230331T190520Z
LAST-MODIFIED:20230331T190520Z
UID:4219-1682605800-1685817000@www.galerie-depardieu.com
SUMMARY:Les Mythologies de Maurice Renoma
DESCRIPTION:« Les Mythologies de Maurice Renoma »\nExposition de l’artiste Maurice Renoma\nVernissage le jeudi 27 avril de 16h à 21h\,\nEn présence de l’artiste.\nExposition jusqu’au 3 juin 2023\nEntrée libre \n \nMaurice Renoma\, styliste atypique et photographe à l’imaginaire foisonnant\, présente un florilège de ses Mythologies\, images mettant en scène une joyeuse hybridation entre les femmes\, les hommes et les animaux qui interroge sur notre désir très actuel de visibilité\, qui par un inquiétant paradoxe\, conduit inéluctablement à notre dilution sociale. L’habit\, ou le filtre\, fait-il le moine ? \nUn demi-siècle après l’ouvrage de Roland Barthes\, Maurice Renoma répond à sa manière\, avec humour et en images\, aux interrogations furieusement subtiles de l’écrivain.\nAprès avoir fait ressortir l’animal qui sommeille en nous dans Mythologies I\, où il avait habillé de ses mythiques blazers Renoma tout un bestiaire à poil et à plume\, Maurice Renoma met dans Mythologies II\, en exergue le féminin et le masculin qui cohabitent en chacun de nous\, et propose une version cocasse et apaisée de la dualité femme/homme\, une vision extraordinaire et poussée à son paroxysme de l’androgynie ambiante.
URL:https://www.galerie-depardieu.com/event/les-mythologies-de-maurice-renoma/
LOCATION:Galerie Depardieu\, 6 rue du docteur Jacques Guidoni\, Nice\, 06000\, France
CATEGORIES:Agenda,exposition
END:VEVENT
BEGIN:VEVENT
DTSTART;TZID=Europe/Paris:20230505T201500
DTEND;TZID=Europe/Paris:20230505T223000
DTSTAMP:20260426T052916
CREATED:20230428T161502Z
LAST-MODIFIED:20230428T161502Z
UID:4248-1683317700-1683325800@www.galerie-depardieu.com
SUMMARY:Groupe Jazz ANATOLE
DESCRIPTION:Vendredi 5 Mai 2023 à 20h15\nGroupe Jazz ANATOLE \nFranck Mazzarese – Saxophone\nMarco Lorenzi – Guitare\nJP Babarit – Contrebasse\nYannick Drogoul – Batterie \n \nLeur crédo : le Jazz pour tous ! public averti ou non\, grâce à un répertoire accessible à tous. \nLeur originalité : un répertoire qui vous fait voyager sur une période de plus d’un siècle de jazz\, reprenant un Standard par style\, du New Orléans au Jazz moderne\, avec des anecdotes permettant d’établir un lien interactif avec le public et qui fait le succès de ce groupe Antibois (une trentaine de concerts par an). \nPrésent sur la scène locale depuis 4 ans (Ramatuelle\, Les Estivales\, Saint Raphael Jazz Festival\, Nice Jazz Métropole\, Jazz au Château à Cagnes/mer\, Jammin’ Summer Juan les Pins\, Festival de Jazz du Verdon\, de Tourrettes\, Festi’Vence ….) le très sympathique groupe ANATOLE est composé de musiciens de tout âge (22 à 75 ans !) : le Jazz n’a pas de barrières générationnelles ! \nCe soir\, ce sera en quartet et Andres GARCIA (leader du groupe) fera la présentation du programme.\nUNE TRES BELLE SOIREE EN PERSPECTIVE \n \nEntrée de 10 à 15 €\nRéservation/billetterie :\nhttps://www.billetweb.fr/groupe-jazz-anatole1
URL:https://www.galerie-depardieu.com/event/groupe-jazz-anatole-2/
LOCATION:Galerie Depardieu\, 6 rue du docteur Jacques Guidoni\, Nice\, 06000\, France
CATEGORIES:Agenda,Concert
ORGANIZER;CN="Association ARTEP":MAILTO:artep.association@gmail.com
END:VEVENT
BEGIN:VEVENT
DTSTART;TZID=Europe/Paris:20230506T201500
DTEND;TZID=Europe/Paris:20230506T223000
DTSTAMP:20260426T052916
CREATED:20230428T161651Z
LAST-MODIFIED:20230428T161651Z
UID:4250-1683404100-1683412200@www.galerie-depardieu.com
SUMMARY:Hommage à Astor Piazzolla
DESCRIPTION:Samedi 6 Mai 2023 à 20h15\nHommage à Astor Piazzolla \nRené Sopa et Thierry Ravelli de retour en concert à la Galerie Depardieu \nUn concert en hommage à Astor Piazzolla\,  Hermeto Pascoal\, Richard Galliano et des compositions de René Sopa.\nUn voyage teinté d’improvisations aux rythmes latins avec deux accordéons aux sonorités suaves\, tantôt mélancoliques\, tantôt joyeuses.\nUn concert autour de la musique du monde dédié à l’accordéon. \n \nThierry RAVELLI Formé à l’école Lucien Galliano dans un registre classique\, il a étudié l’accordéon jazz sous les conseils de Richard Galliano. Comme bon nombre d’accordéonistes\, il a beaucoup accompagné dans un premier temps des orchestres de musique tsigane\, tango argentin\, musiques du monde\, du bal et des chanteurs ex : Manouchka Orchestra). Mais il s’est rapidement intéressé au jazz\, suite à une Master Class animée par Richard Galliano lui-même. \nRené SOPA De part ses origines familiales franco-portugaise René Sopa est un accordéoniste ouvert sur le monde.Sa musique est un joyeux voyage dans les univers du jazz\, du swing manouche et de la world music.Il a débuté l’accordéon avec Lucien Galliano et s’est forgé une belle réputation d’accordéonistes incontournables de la scène jazz en France. \nEntrée de 8 à 12 €\nRéservation/billetterie :\nhttps://www.billetweb.fr/hommage-a-astor-piazzolla
URL:https://www.galerie-depardieu.com/event/hommage-a-astor-piazzolla/
LOCATION:Galerie Depardieu\, 6 rue du docteur Jacques Guidoni\, Nice\, 06000\, France
CATEGORIES:Agenda,Concert
ORGANIZER;CN="Association ARTEP":MAILTO:artep.association@gmail.com
END:VEVENT
BEGIN:VEVENT
DTSTART;TZID=Europe/Paris:20230513T201500
DTEND;TZID=Europe/Paris:20230513T223000
DTSTAMP:20260426T052916
CREATED:20230428T161825Z
LAST-MODIFIED:20230428T161825Z
UID:4252-1684008900-1684017000@www.galerie-depardieu.com
SUMMARY:Récital « en mode mineur » POULENC'iade #3 par Emmanuelle Stephan\, piano
DESCRIPTION:Samedi 13 Mai 2023 à 20h15\nRécital « en mode mineur »\nPOULENC’iade #3\npar Emmanuelle Stephan\, piano \nEn 2023 nous célébrons les 60 ans de la disparition du grand compositeur français Francis Poulenc. En cette occasion\, Emmanuelle Stephan a l’honneur de présenter au public niçois 5 concerts au piano solo autour de l’œuvre de Francis Poulenc\, une série intitulée « POULENC’iades » en référence aux Schubertiades\, ces réunions musicales et culturelles privées lors desquelles étaient jouées les œuvres de Schubert. \n \n« Quand la musique classique s’inscrit dans l’histoire »\nEmmanuelle Stéphan est une jeune pianiste française dotée de nombreux prix de concours internationaux et qui s’est démarquée par sa recherche d’authenticité.\nAprès ses études à New York (Juilliard School)\, son goût pour la musique de Francis Poulenc l’a guidé vers le maître Gabriel Tacchino\, unique élève et interprète de référence du compositeur.\nRemarquée pour ses qualités interprétatives\, elle a su s’imposer aux côtés de son professeur en formant avec lui un duo de piano qui se fait entendre de Chine jusqu’au Brésil depuis 2015\, enregistra sous le label Warner Classics / Erato en 2018 et obtint en 2022 le label « Duo Francis Poulenc »\, décerné par l’héritier et détenteur des droits.\nForte de cette reconnaissance historique et quasi filiale\, Emmanuelle\, au piano solo ou en duo\, porte haut les couleurs de la grande musique de piano française\, non seulement par son interprétation parfaitement juste et authentique\, mais aussi par son éloquence tirée des multiples anecdotes et détails que son maître Gabriel Tacchino lui raconta sur le compositeur. \nEntrée de 8 à 12 €\nRéservation/billetterie : https://www.billetweb.fr/poulenciade-3-en-mode-mineur-recital-piano-par-emmanuelle-stephan
URL:https://www.galerie-depardieu.com/event/recital-en-mode-mineur-poulenciade-3-par-emmanuelle-stephan-piano/
LOCATION:Galerie Depardieu\, 6 rue du docteur Jacques Guidoni\, Nice\, 06000\, France
CATEGORIES:Agenda,Concert
ORGANIZER;CN="Association ARTEP":MAILTO:artep.association@gmail.com
END:VEVENT
BEGIN:VEVENT
DTSTART;TZID=Europe/Paris:20230519T201500
DTEND;TZID=Europe/Paris:20230519T223000
DTSTAMP:20260426T052916
CREATED:20230428T162005Z
LAST-MODIFIED:20230428T162005Z
UID:4254-1684527300-1684535400@www.galerie-depardieu.com
SUMMARY:Galerie Jazz Syndicate
DESCRIPTION:Vendredi 19 Mai 2023 à 20h15\nGalerie Jazz Syndicate \nBruno Ottavy saxophone\nChristian Depardieu guitare\nPhilippe Cordonnier contrebasse\nMagnus Parsons batterie \n \nStandards « jazz et bossa » revisités ainsi que des compositions de Magnus Parsons\, pour une soirée entre amis ! \nEntrée de 8 à 12 €\nRéservation/billetterie :\nhttps://www.billetweb.fr/galerie-jazz-syndicate1
URL:https://www.galerie-depardieu.com/event/galerie-jazz-syndicate-2/
LOCATION:Galerie Depardieu\, 6 rue du docteur Jacques Guidoni\, Nice\, 06000\, France
CATEGORIES:Agenda,Concert
ORGANIZER;CN="Association ARTEP":MAILTO:artep.association@gmail.com
END:VEVENT
BEGIN:VEVENT
DTSTART;TZID=Europe/Paris:20230525T143000
DTEND;TZID=Europe/Paris:20230729T183000
DTSTAMP:20260426T052916
CREATED:20230504T154011Z
LAST-MODIFIED:20230504T154011Z
UID:4261-1685025000-1690655400@www.galerie-depardieu.com
SUMMARY:Exposition Blandine Calendrier « Les flaques du soleil »
DESCRIPTION:Blandine Calendrier « Les flaques du soleil »\nVernissage Jeudi 25 Mai 2023 de 18h à 21h\nEn présence de l’artiste.\nExposition au sous-sol jusqu’à fin juillet 2023\nEntrée libre \n \nEtendue sous un arbre\, le feuillage épais filtre les rayons du ciel.\nVoir le monde à travers un prisme.\nTantôt élargi\, tantôt restreint.\nLes yeux grands ouverts\, les yeux plissés.\nA travers un objet déformant\, l’existence agrandie\, exagérée. Et puis\, un certain regard\, la réduire à une trace\, minimale.\nFouiller l’obscure.\nLa bulle\, le trait\, autant de germinations de cette force vibratoire\, pousse dans les plis\, les interstices.\nEt quand cette soif devient inextinguible\, la quête des lueurs s’installe.\nDéfinitivement.\nLes fragments décomposés\, épars\, se croisent\, se rejoignent\, se relient par les fils vivants de l’invisible.\nSans cesse\, se saisir de ces traces et rendre visible la lumière. \nBlandine Calendrier\nFévrier 2023 \nLieu :\nGalerie Depardieu\n6 rue du docteur Jacques Guidoni\n06000 Nice\nTel 0 966 890 274\nwww.galerie-depardieu.com\nDu lundi au samedi de 14h30 à 18h30
URL:https://www.galerie-depardieu.com/event/exposition-blandine-calendrier-les-flaques-du-soleil/
LOCATION:Galerie Depardieu\, 6 rue du docteur Jacques Guidoni\, Nice\, 06000\, France
CATEGORIES:Agenda,exposition
ORGANIZER;CN="Association ARTEP":MAILTO:artep.association@gmail.com
END:VEVENT
BEGIN:VEVENT
DTSTART;TZID=Europe/Paris:20230526T190000
DTEND;TZID=Europe/Paris:20230526T200000
DTSTAMP:20260426T052916
CREATED:20230504T154229Z
LAST-MODIFIED:20230504T154229Z
UID:4264-1685127600-1685131200@www.galerie-depardieu.com
SUMMARY:La poésie est invincible d'Abdellatif Laabi – Lecture par La Saeta
DESCRIPTION:Vendredi 26 Mai 2023 à 19h\nLa saeta / Marie Jeanne Laurent avec Paul Laurent\nPropose une lecture de\nLa poésie est invincible \nAbdellatif Laabi / le castor astral / 2022\nPréface de Jacques Alessandra  \n \n« La poésie de Laâbi est une poésie du présent\, en relation avec le plus vivant du monde\, toujours avide d’accompagner l’humain dans ses instants les plus familiers comme dans ses combats les plus graves. Elle est élan\, espoir\, injonction à vivre et à aimer la vie. D’où\, en ces temps d’incertitude et de péril planétaire\, la nécessité de la lire et de coexister avec elle. »\nJacques Alessandra. \nAbdellatif Laâbi est né en 1942 à Fès. Son combat pour la liberté lui a valu d’être longtemps emprisonné au Maroc. Il a reçu le Goncourt de la poésie et le Grand Prix de la francophonie. Chaque poème de ce livre est une trouée dans le plus intime de l’écrivain. \nEntrée 6 € / Tarif étudiant 4 €\nRéservation/billetterie : https://www.billetweb.fr/la-poesie-est-invincible
URL:https://www.galerie-depardieu.com/event/la-poesie-est-invincible-dabdellatif-laabi-lecture-par-la-saeta/
LOCATION:Galerie Depardieu\, 6 rue du docteur Jacques Guidoni\, Nice\, 06000\, France
CATEGORIES:Agenda,Lecture
ORGANIZER;CN="Association ARTEP":MAILTO:artep.association@gmail.com
END:VEVENT
BEGIN:VEVENT
DTSTART;TZID=Europe/Paris:20230531T183000
DTEND;TZID=Europe/Paris:20230531T203000
DTSTAMP:20260426T052916
CREATED:20230525T181919Z
LAST-MODIFIED:20230525T181919Z
UID:4280-1685557800-1685565000@www.galerie-depardieu.com
SUMMARY:Caravage\, autoportraits Conférence par Kiki Baldassari
DESCRIPTION:Mercredi 31 Mai 2023 – 18h30 \nCaravage\, autoportraits\nConférence par Kiki Baldassari \nUn homme en fuite\, une révolution en marche \nAprès sa venue pour «  Mark Rothko »\, « Des chants des toiles »\, « Jean-Michel Basquiat\, Indocile icône »\, etc.\, à la galerie\, Kiki Baldassari\, conférencière assermentée & historienne de l’art nous propose un nouveau panorama artistique et sociétal. \n \nvisuel/ David et Goliath\, détail\, 1609\, Galerie Borghèse \nEntrée 10 € – 8 € pour les adhérents\nÉtudiants : 6 €\nRéservation/billetterie :\nhttps://www.billetweb.fr/caravage-autoportraits-conference-par-kiki-baldassari
URL:https://www.galerie-depardieu.com/event/caravage-autoportraits-conference-par-kiki-baldassari/
LOCATION:Galerie Depardieu\, 6 rue du docteur Jacques Guidoni\, Nice\, 06000\, France
CATEGORIES:Agenda,Conférence
ORGANIZER;CN="Association ARTEP":MAILTO:artep.association@gmail.com
END:VEVENT
END:VCALENDAR