BEGIN:VCALENDAR
VERSION:2.0
PRODID:-//Galerie Depardieu - ECPv6.15.20//NONSGML v1.0//EN
CALSCALE:GREGORIAN
METHOD:PUBLISH
X-WR-CALNAME:Galerie Depardieu
X-ORIGINAL-URL:https://www.galerie-depardieu.com
X-WR-CALDESC:Évènements pour Galerie Depardieu
REFRESH-INTERVAL;VALUE=DURATION:PT1H
X-Robots-Tag:noindex
X-PUBLISHED-TTL:PT1H
BEGIN:VTIMEZONE
TZID:Europe/Paris
BEGIN:DAYLIGHT
TZOFFSETFROM:+0100
TZOFFSETTO:+0200
TZNAME:CEST
DTSTART:20240331T010000
END:DAYLIGHT
BEGIN:STANDARD
TZOFFSETFROM:+0200
TZOFFSETTO:+0100
TZNAME:CET
DTSTART:20241027T010000
END:STANDARD
BEGIN:DAYLIGHT
TZOFFSETFROM:+0100
TZOFFSETTO:+0200
TZNAME:CEST
DTSTART:20250330T010000
END:DAYLIGHT
BEGIN:STANDARD
TZOFFSETFROM:+0200
TZOFFSETTO:+0100
TZNAME:CET
DTSTART:20251026T010000
END:STANDARD
BEGIN:DAYLIGHT
TZOFFSETFROM:+0100
TZOFFSETTO:+0200
TZNAME:CEST
DTSTART:20260329T010000
END:DAYLIGHT
BEGIN:STANDARD
TZOFFSETFROM:+0200
TZOFFSETTO:+0100
TZNAME:CET
DTSTART:20261025T010000
END:STANDARD
END:VTIMEZONE
BEGIN:VEVENT
DTSTART;TZID=Europe/Paris:20251121T193000
DTEND;TZID=Europe/Paris:20251121T210000
DTSTAMP:20260424T160900
CREATED:20251031T211247Z
LAST-MODIFIED:20251031T211247Z
UID:5505-1763753400-1763758800@www.galerie-depardieu.com
SUMMARY:Soirée projection / 2 films de Georges Sammut / L. ou «la sainte de l'abîme» & LUCY...les yeux fermés
DESCRIPTION:Vendredi 21 Novembre 2025 à 19h30\nSoirée projection\n2 films de Georges Sammut\nL. ou «la sainte de l’abîme» & LUCY…les yeux fermés \n \nL. ou « la sainte de l’abîme »\, 51’00. 1998\nd’après «LES ÉCRITS DE LAURE»\navec LISA PATRIGNANI\, un film de GEORGES SAMMUT \nMarquée par la mort de son père et de ses trois oncles durant la Grande Guerre\, Colette PEIGNOT (1903-1938)\, plus connue sous le nom de LAURE traverse tous les conflits majeurs de ce début du XXeme siècle.\nDe plus\, la passion violente qui l’unit à Georges BATAILLE lui fait partager une même quête de l’Impossible sous le double signe du sacré et de l’excès.\nCe film rythmé par des images d’archives tente de rendre hommage à celle que son ami Michel LEIRIS nomma «la sainte de l’abîme». \nLUCY…les yeux fermés\, 35’00. 2025\navec SYLVIE TEISSIER\, un film de GEORGES SAMMUT \nELLE avait rencontré LUCY devant un tableau de Willem de KOONING et découvert ensemble la poésie d’Emily DICKINSON le temps d’une nuit intense presqu’irréelle.\nComment fixer l’éclair\, la mémoire d’un si lointain présent\, la sensation éblouie d’un vécu même illusoire ? Une peinture\, un poème\, un spectacle théâtral\, un film peut-être ! \nEntrée 6 € – Etudiant 4 €\nRéservation/billetterie :\nhttps://www.billetweb.fr/soiree-projection-l-ou-la-sainte-de-labime-lucy-les-yeux-fermes-de-g-sammut
URL:https://www.galerie-depardieu.com/event/soiree-projection-2-films-de-georges-sammut-l-ou-la-sainte-de-labime-lucy-les-yeux-fermes/
LOCATION:Galerie Depardieu\, 6 rue du docteur Jacques Guidoni\, Nice\, 06000\, France
CATEGORIES:Agenda,projection
ORGANIZER;CN="Association ARTEP":MAILTO:artep.association@gmail.com
END:VEVENT
END:VCALENDAR