BEGIN:VCALENDAR
VERSION:2.0
PRODID:-//Galerie Depardieu - ECPv6.15.20//NONSGML v1.0//EN
CALSCALE:GREGORIAN
METHOD:PUBLISH
X-ORIGINAL-URL:https://www.galerie-depardieu.com
X-WR-CALDESC:Évènements pour Galerie Depardieu
REFRESH-INTERVAL;VALUE=DURATION:PT1H
X-Robots-Tag:noindex
X-PUBLISHED-TTL:PT1H
BEGIN:VTIMEZONE
TZID:Europe/Paris
BEGIN:DAYLIGHT
TZOFFSETFROM:+0100
TZOFFSETTO:+0200
TZNAME:CEST
DTSTART:20230326T010000
END:DAYLIGHT
BEGIN:STANDARD
TZOFFSETFROM:+0200
TZOFFSETTO:+0100
TZNAME:CET
DTSTART:20231029T010000
END:STANDARD
BEGIN:DAYLIGHT
TZOFFSETFROM:+0100
TZOFFSETTO:+0200
TZNAME:CEST
DTSTART:20240331T010000
END:DAYLIGHT
BEGIN:STANDARD
TZOFFSETFROM:+0200
TZOFFSETTO:+0100
TZNAME:CET
DTSTART:20241027T010000
END:STANDARD
BEGIN:DAYLIGHT
TZOFFSETFROM:+0100
TZOFFSETTO:+0200
TZNAME:CEST
DTSTART:20250330T010000
END:DAYLIGHT
BEGIN:STANDARD
TZOFFSETFROM:+0200
TZOFFSETTO:+0100
TZNAME:CET
DTSTART:20251026T010000
END:STANDARD
END:VTIMEZONE
BEGIN:VEVENT
DTSTART;TZID=Europe/Paris:20240208T143000
DTEND;TZID=Europe/Paris:20240309T183000
DTSTAMP:20260425T215304
CREATED:20240126T170234Z
LAST-MODIFIED:20240131T163633Z
UID:4525-1707402600-1710009000@www.galerie-depardieu.com
SUMMARY:Véronique Champollion - L’Œuvre de Papier vernissage + projection + exposition
DESCRIPTION:Jeudi 8 février 2024\nVéronique Champollion – L’Œuvre de Papier \nVernissage de 18h à 20h\nProjection du film L’Œuvre de Papier d’Alain Amiel à 19h\nCommissariat : Alain Amiel \nExposition jusqu’au 9 mars 2024\nEntrée libre \n \nLa matière princeps de Véronique Champollion est le papier\, surtout le papier journal\, le papier portant des écritures\, dont elle détourne le sens. Elle l’utilise pour le mouler\, le sculpter\, le tordre\, et créer toutes sortes de volumes. Mais le papier journal ne sert ici que de matériau de consolidation. Les bas-reliefs présentés\, estampes mises en volume\, bénéficient de la qualité d’un papier pur chiffon\, du passage à la presse et d’une encre d’imprimerie d’une intensité exceptionnelle. Ces œuvres sont issues du besoin de dépasser le format maximum de la grande presse de l’Atelier du Safranier d’Antibes et de celui de passer à la troisième dimension. \nDepuis trois décennies\, des milliers de figurines sont nées de ses mains\, de son imagination\, de son rapport avec l’histoire de l’art ou l’histoire tout court qu’elle revisite avec humour. \n Tout commence sur des papiers neufs où sont d’abord posés ses mots\, ses croquis\, ses dessins. Elle écrit des histoires\, invente des personnages\, leur donne un caractère\, une personnalité puis les rend agissant. Après les avoir imaginés\, écrits\, décrits\, dessinés\, elle les met en volume. À ses personnages nés sur le papier en deux dimensions\, une nouvelle vie leur est donnée : ils se transforment alors en sculptures. \n Les Muses et bas-reliefs exposés\, inspirés des plafonds des palais et églises de Gênes\, sont une parodie d’éléments de décor. Il y a une certaine ironie à réaliser des bas-reliefs aux thèmes monumentaux avec un matériau si léger et fragile.  \n \n Le film : \n Alain Amiel a réalisé un film qui reprend le parcours de Véronique Champollion depuis ses études aux Arts Déco de Paris\, et à partir de son installation à Antibes\, ses activités nombreuses d’enseignante\, de performeuse et d’artiste multidisciplines. Dans son interview réalisée dans sa maison envahie par ses œuvres\, on découvre la grande variété de ses productions et l’hyperactivité que Véronique Champollion déploie depuis quelques décennies à Antibes et au bien delà.
URL:https://www.galerie-depardieu.com/event/veronique-champollion-loeuvre-de-papier-vernissage-projection/
LOCATION:Galerie Depardieu\, 6 rue du docteur Jacques Guidoni\, Nice\, 06000\, France
CATEGORIES:Agenda,exposition,projection,Vernissage
END:VEVENT
BEGIN:VEVENT
DTSTART;TZID=Europe/Paris:20240315T200000
DTEND;TZID=Europe/Paris:20240315T213000
DTSTAMP:20260425T215304
CREATED:20240224T190222Z
LAST-MODIFIED:20240224T190305Z
UID:4560-1710532800-1710538200@www.galerie-depardieu.com
SUMMARY:Projection films art & essai de Georges Sammut "TERRA AMATA" suivi de "BEAU COMME..."
DESCRIPTION:Vendredi 15 Mars 2024 à 20h\nProjection films art & essai de Georges Sammut\n« TERRA AMATA » suivi de « BEAU COMME… » \n \nTERRA AMATA 24’00. 2023.\nTextes mêlés de Daniel CASSINI et Georges SAMMUT\ninterprétés par Sylvie TEISSIER et Paul LAURENT\nUn film de Georges SAMMUT \nLe nommer ici parmi les chutes d’air et d’eau\, errant d’une souveraine absence mais corps captif de l’enclos des rochers. Il en a pour mille ans\, une seconde peut-être\, à arpenter ce récif constellé d’écume.\nIci maintenant se joue le rituel; il attend\, imaginez l’attente sans fin. \nBEAU COMME… 30’00. 2023.\nExtraits des Chants 5 et 6 des Chants de MALDOROR de LAUTRÉAMONT.\nUn film de Georges SAMMUT \nQuelle audace de poète pour lancer en 1869 dans le champ littéraire cette suite hétérogène dont ce film a voulu se faire le secrétaire en images et sons pour vérifier et actualiser cet excès de langage!\nLe plagiat est nécessaire\, le progrès l’implique. Silence! On détourne! \nEntrée 6 € – Etudiant 4 €
URL:https://www.galerie-depardieu.com/event/projection-films-art-essai-de-georges-sammut-terra-amata-suivi-de-beau-comme/
LOCATION:Galerie Depardieu\, 6 rue du docteur Jacques Guidoni\, Nice\, 06000\, France
CATEGORIES:Agenda,projection
ORGANIZER;CN="Association ARTEP":MAILTO:artep.association@gmail.com
END:VEVENT
BEGIN:VEVENT
DTSTART;TZID=Europe/Paris:20240321T190000
DTEND;TZID=Europe/Paris:20240321T203000
DTSTAMP:20260425T215304
CREATED:20240224T190841Z
LAST-MODIFIED:20240224T190841Z
UID:4567-1711047600-1711053000@www.galerie-depardieu.com
SUMMARY:Le jardin Renaissant italien - Projection du documentaire suivie d'un débat
DESCRIPTION:Jeudi 21 Mars 2024 à 19h\nLe jardin Renaissant italien\nProjection du documentaire suivie d’un débat \n \nLa Renaissance voit s’élargir le monde géographique au gré des grandes découvertes. De nombreuses innovations favoriseront les techniques\, les sciences et l’économie. Les possibilités humaines paraissent désormais infinies.\nLes philosophes italiens mettent l’Homme au centre du monde.\nA Florence\, Marcile Ficin proche de Cosimo de Medicis\, écrit à son sujet : \n« Le ciel ne lui semble pas trop haut\, ni le centre de la terre trop profond. Le temps et l’espace ne l’empêchent pas de courir partout à tout instant… Partout\, il s’efforce de commander\, d’être loué\, d’être éternel comme Dieu ». \nExpression de la philosophie du temps\, le jardin Renaissant se veut l’image d’un monde parfait.\nL’architecte théoricien Leon Batista Alberti dans son ouvrage « De l’Architecture » donne des directives très précises. La nature y est domptée\, taillée\, dirigée\, assujettie par l’homme. \nSur les terres papales\, la mode de la villégiature voit évoluer le jardin vers des tendances maniéristes\, le goût pour le paradoxe\, l’énigme\, la surprise. L’habileté des techniques hydrauliques permet des surprises\, des farces ; priorité est donnée à l’eau en mouvement\, aux cascades\, aux jets fusants\, aux chaînes d’eau. \nBien que contemporain\, le jardin de Bomarzo est l’expression d’une démarche différente\, très personnelle. Vicino Orsini nous invite\, au sein d’une nature qui a reconquis ses droits\, à un parcours initiatique littéraire et poétique. On rencontrera dans ce jardin des mystères\, d’étranges personnages\, d’étranges animaux taillés à même le rocher et nés de la mythologie antique ou d’un bestiaire fantastique. \nUn documentaire de Nicole Maria\, historienne de l’Art\nRéalisation et montage\, Richard Desserme\nEntrée 6 € / Tarif étudiant 4 €
URL:https://www.galerie-depardieu.com/event/le-jardin-renaissant-italien-projection-du-documentaire-suivie-dun-debat/
LOCATION:Galerie Depardieu\, 6 rue du docteur Jacques Guidoni\, Nice\, 06000\, France
CATEGORIES:Agenda,Conférence,projection
ORGANIZER;CN="Association ARTEP":MAILTO:artep.association@gmail.com
END:VEVENT
END:VCALENDAR