BEGIN:VCALENDAR
VERSION:2.0
PRODID:-//Galerie Depardieu - ECPv6.15.20//NONSGML v1.0//EN
CALSCALE:GREGORIAN
METHOD:PUBLISH
X-ORIGINAL-URL:https://www.galerie-depardieu.com
X-WR-CALDESC:Évènements pour Galerie Depardieu
REFRESH-INTERVAL;VALUE=DURATION:PT1H
X-Robots-Tag:noindex
X-PUBLISHED-TTL:PT1H
BEGIN:VTIMEZONE
TZID:Europe/Paris
BEGIN:DAYLIGHT
TZOFFSETFROM:+0100
TZOFFSETTO:+0200
TZNAME:CEST
DTSTART:20230326T010000
END:DAYLIGHT
BEGIN:STANDARD
TZOFFSETFROM:+0200
TZOFFSETTO:+0100
TZNAME:CET
DTSTART:20231029T010000
END:STANDARD
BEGIN:DAYLIGHT
TZOFFSETFROM:+0100
TZOFFSETTO:+0200
TZNAME:CEST
DTSTART:20240331T010000
END:DAYLIGHT
BEGIN:STANDARD
TZOFFSETFROM:+0200
TZOFFSETTO:+0100
TZNAME:CET
DTSTART:20241027T010000
END:STANDARD
BEGIN:DAYLIGHT
TZOFFSETFROM:+0100
TZOFFSETTO:+0200
TZNAME:CEST
DTSTART:20250330T010000
END:DAYLIGHT
BEGIN:STANDARD
TZOFFSETFROM:+0200
TZOFFSETTO:+0100
TZNAME:CET
DTSTART:20251026T010000
END:STANDARD
END:VTIMEZONE
BEGIN:VEVENT
DTSTART;TZID=Europe/Paris:20240425T143000
DTEND;TZID=Europe/Paris:20240608T183000
DTSTAMP:20260425T142037
CREATED:20240329T195454Z
LAST-MODIFIED:20240329T195454Z
UID:4619-1714055400-1717871400@www.galerie-depardieu.com
SUMMARY:Exposition Marine Gambardella - Un Homme dans l’espace
DESCRIPTION:Marine Gambardella – Un Homme dans l’espace\nJeudi 25 Avril 2024 de 18h à 21h\nVernissage en présence de l’artiste\nExposition jusqu’au 8 juin 2024\nEntrée libre \n \nUn Homme dans l’espace\nTous les humanoïdes que je dessine représentent le rêve\, le souvenir\, les pensées intérieures.\nLes corps sont\, eux\, détachés d’un contexte\, d’un passé et d’une histoire. Ils vivent dans un monde\ninvisible à l’œil et ne se réfèrent à aucune tradition\, à aucun genre et aucune genèse dans un monde sans fin et en mouvement continu.\nMon travail graphique fondé sur les corps et le mouvement repose sur la contradiction. Il n’y a pas ou le plein ou le vide\, ou l’assimilation ou la répulsion\, ou la protection ou l’attaque\, ou l’intérieur ou l’extérieur… il y a tout ça à la fois.\nC’est à travers l’idée du cyborg tel que le voit Donna Haraway dans Manifeste cyborg que je propose cette série : « le cyborg est une créature qui vit dans un monde post-genre (…) Le cyborg n’a pas d’histoire de ses origines au sens occidental du terme – ultime ironie puisqu’il est aussi l’horrible conséquence\, l’apocalypse finale de l’escalade de la domination de l’individuation abstraite\, le moi par excellence\, enfin dégagé de toute dépendance\, un homme dans l’espace.» \nAnthony Roques\, danseur-chorégraphe\, premier prix du CNSMDP :\n«Faire trace de l’éphémère du mouvement. Comme une persistance rétinienne\, le corps en négatif révèle tant de grâces et de disgrâces. L’empreinte mémorielle dans le cerveau\, ce que les neuroscientifiques appellent un engramme\, Marine Gambardella s’en saisit et révèle le sublime\, le monstrueux au détour de corps en torsion\, suspendus\, entremêlés\, brûlants\, presque arrachés. Le dessin est détaillé\, précis\, avec des textures vaporeuses\, ce qu’il faut de contours déformés comme lorsque l’on ferme les yeux et que le spectre d’un souvenir nous apparaît. Cette série de dessins fait rimer puissance et pudeur. A la fois saisis par l’étrangeté\, attendris par la douceur\, et hypnotisés par la sensorialité que suggèrent ces métonymies graphiques.\nQu’est-ce qui bouillonne dans ce tumulte chorégraphique ? Une multitude d’histoires\, de vécus\, de perspectives\, mais aussi de l’abstrait\, la beauté du geste. Le corps découpé\, décuplé\, l’œuvre de Marine y redonne subtilement du vivant. C’est jaillissant. Quelque part\, le chaos est réjouissant.» \nDu lundi au samedi de 14h30 à 18h30\nEntrée libre
URL:https://www.galerie-depardieu.com/event/exposition-marine-gambardella-un-homme-dans-lespace/
LOCATION:Galerie Depardieu\, 6 rue du docteur Jacques Guidoni\, Nice\, 06000\, France
CATEGORIES:Agenda,exposition,Vernissage
END:VEVENT
END:VCALENDAR