BEGIN:VCALENDAR
VERSION:2.0
PRODID:-//Galerie Depardieu - ECPv6.15.20//NONSGML v1.0//EN
CALSCALE:GREGORIAN
METHOD:PUBLISH
X-WR-CALNAME:Galerie Depardieu
X-ORIGINAL-URL:https://www.galerie-depardieu.com
X-WR-CALDESC:Évènements pour Galerie Depardieu
REFRESH-INTERVAL;VALUE=DURATION:PT1H
X-Robots-Tag:noindex
X-PUBLISHED-TTL:PT1H
BEGIN:VTIMEZONE
TZID:Europe/Paris
BEGIN:DAYLIGHT
TZOFFSETFROM:+0100
TZOFFSETTO:+0200
TZNAME:CEST
DTSTART:20250330T010000
END:DAYLIGHT
BEGIN:STANDARD
TZOFFSETFROM:+0200
TZOFFSETTO:+0100
TZNAME:CET
DTSTART:20251026T010000
END:STANDARD
BEGIN:DAYLIGHT
TZOFFSETFROM:+0100
TZOFFSETTO:+0200
TZNAME:CEST
DTSTART:20260329T010000
END:DAYLIGHT
BEGIN:STANDARD
TZOFFSETFROM:+0200
TZOFFSETTO:+0100
TZNAME:CET
DTSTART:20261025T010000
END:STANDARD
BEGIN:DAYLIGHT
TZOFFSETFROM:+0100
TZOFFSETTO:+0200
TZNAME:CEST
DTSTART:20270328T010000
END:DAYLIGHT
BEGIN:STANDARD
TZOFFSETFROM:+0200
TZOFFSETTO:+0100
TZNAME:CET
DTSTART:20271031T010000
END:STANDARD
END:VTIMEZONE
BEGIN:VEVENT
DTSTART;TZID=Europe/Paris:20260409T170000
DTEND;TZID=Europe/Paris:20260409T210000
DTSTAMP:20260423T230804
CREATED:20260227T183440Z
LAST-MODIFIED:20260227T183440Z
UID:5652-1775754000-1775768400@www.galerie-depardieu.com
SUMMARY:Autour de l'exposition II (rencontres/animations) DES COMPAGNONS DE ROUTE…
DESCRIPTION:Jeudi 9 avril 2026 à partir de 17h\nAutour de l’exposition II (rencontres/animations)\nDES COMPAGNONS DE ROUTE… \n« Artistes du XXième siècle… et suite » \n \nAu programme  :\nA partir 17h\, Présentation des livres d’artiste de Martin Miguel avec Marcel\nAlocco\, Alain Freixe\, Françoise Oriot\, Michel Butor\, Raphaël Monticelli\,\nMichaël Glück\, Michel Séonnet\, Bernard Noël\, Yves Ughes\,\nGilbert Casula\, Claude Haza\, Alexandre Bourgoin.\nA partir de 18h\, lecture par des auteurs\nA 19 h Buffet \nEntrée libre
URL:https://www.galerie-depardieu.com/event/autour-de-lexposition-ii-rencontres-animations-des-compagnons-de-route/
LOCATION:Galerie Depardieu\, 6 rue du docteur Jacques Guidoni\, Nice\, 06000\, France
CATEGORIES:Agenda,Conférence,exposition
END:VEVENT
END:VCALENDAR