BEGIN:VCALENDAR
VERSION:2.0
PRODID:-//Galerie Depardieu - ECPv6.15.20//NONSGML v1.0//EN
CALSCALE:GREGORIAN
METHOD:PUBLISH
X-WR-CALNAME:Galerie Depardieu
X-ORIGINAL-URL:https://www.galerie-depardieu.com
X-WR-CALDESC:Évènements pour Galerie Depardieu
REFRESH-INTERVAL;VALUE=DURATION:PT1H
X-Robots-Tag:noindex
X-PUBLISHED-TTL:PT1H
BEGIN:VTIMEZONE
TZID:Europe/Paris
BEGIN:DAYLIGHT
TZOFFSETFROM:+0100
TZOFFSETTO:+0200
TZNAME:CEST
DTSTART:20240331T010000
END:DAYLIGHT
BEGIN:STANDARD
TZOFFSETFROM:+0200
TZOFFSETTO:+0100
TZNAME:CET
DTSTART:20241027T010000
END:STANDARD
BEGIN:DAYLIGHT
TZOFFSETFROM:+0100
TZOFFSETTO:+0200
TZNAME:CEST
DTSTART:20250330T010000
END:DAYLIGHT
BEGIN:STANDARD
TZOFFSETFROM:+0200
TZOFFSETTO:+0100
TZNAME:CET
DTSTART:20251026T010000
END:STANDARD
BEGIN:DAYLIGHT
TZOFFSETFROM:+0100
TZOFFSETTO:+0200
TZNAME:CEST
DTSTART:20260329T010000
END:DAYLIGHT
BEGIN:STANDARD
TZOFFSETFROM:+0200
TZOFFSETTO:+0100
TZNAME:CET
DTSTART:20261025T010000
END:STANDARD
END:VTIMEZONE
BEGIN:VEVENT
DTSTART;TZID=Europe/Paris:20250116T180000
DTEND;TZID=Europe/Paris:20250116T200000
DTSTAMP:20260424T233216
CREATED:20250106T161009Z
LAST-MODIFIED:20250106T161009Z
UID:4846-1737050400-1737057600@www.galerie-depardieu.com
SUMMARY:Présentation et signature  "Ma mule collée à son soulier" par Nicole Cimadoré\, éditions La Gauloise
DESCRIPTION:Jeudi 16 Janvier 2025 à partir de 18h\nPrésentation et signature \n« Ma mule collée à son soulier » par Nicole Cimadoré\, éditions La Gauloise \nLa plage\, l’océan puis la nuit\, une longue nuit d’errance et de folie.\nUne plongée vertigineuse dans un univers mental\, familier et différent à la fois. Une présence obsédente du passé puis la découverte de l’aube. Des rencontres inattendues\, des découvertes successives avant un dénouement que vous n’oublierez pas. \n \nNicole Cimadoré\nDes plages blondes de son Maroc natal à la Méditerranée en passant par les West Indies et Paris…\nRaconter elle aime ça. Journaliste\, elle exercera sa curiosité sur plussieurs radios et journaux (RMC\, RFI\, Europe 1…). Elle enseignera au CFPJ sans cesser d’écrire. \n«… C’est ‘abord avec Aïn Sebaa\, un roman d’initatition où pointe son enfance marocaine\, qu’elle est éditée. Puis elle collabore à une comédie musiciale\, Ni ange ni bête\, et à trois ouvrages pour les Editions de la Martinière. Mais elle ne délaisse pas pour autant ses premiers amours : la scène\, le théâtre. […]\nElle vient de sortir\, ma mule collée à son soulier. Sans trop en dévoiler\, c’est hard\, mais avec toujours la bonne distance\, de l’humour et de l’autodérision\, pour que le récit tragique de cette plongée dans la folie reste captivant… »\nMichel Sajn in La Strada décembre 2024/janvier 2025. \nEntrée libre\, vente du livre sur place.
URL:https://www.galerie-depardieu.com/event/presentation-et-signature-ma-mule-collee-a-son-soulier-par-nicole-cimadore-editions-la-gauloise/
LOCATION:Galerie Depardieu\, 6 rue du docteur Jacques Guidoni\, Nice\, 06000\, France
CATEGORIES:Agenda,Conférence
ORGANIZER;CN="Association ARTEP":MAILTO:artep.association@gmail.com
END:VEVENT
END:VCALENDAR