BEGIN:VCALENDAR
VERSION:2.0
PRODID:-//Galerie Depardieu - ECPv6.15.20//NONSGML v1.0//EN
CALSCALE:GREGORIAN
METHOD:PUBLISH
X-ORIGINAL-URL:https://www.galerie-depardieu.com
X-WR-CALDESC:Évènements pour Galerie Depardieu
REFRESH-INTERVAL;VALUE=DURATION:PT1H
X-Robots-Tag:noindex
X-PUBLISHED-TTL:PT1H
BEGIN:VTIMEZONE
TZID:Europe/Paris
BEGIN:DAYLIGHT
TZOFFSETFROM:+0100
TZOFFSETTO:+0200
TZNAME:CEST
DTSTART:20230326T010000
END:DAYLIGHT
BEGIN:STANDARD
TZOFFSETFROM:+0200
TZOFFSETTO:+0100
TZNAME:CET
DTSTART:20231029T010000
END:STANDARD
BEGIN:DAYLIGHT
TZOFFSETFROM:+0100
TZOFFSETTO:+0200
TZNAME:CEST
DTSTART:20240331T010000
END:DAYLIGHT
BEGIN:STANDARD
TZOFFSETFROM:+0200
TZOFFSETTO:+0100
TZNAME:CET
DTSTART:20241027T010000
END:STANDARD
BEGIN:DAYLIGHT
TZOFFSETFROM:+0100
TZOFFSETTO:+0200
TZNAME:CEST
DTSTART:20250330T010000
END:DAYLIGHT
BEGIN:STANDARD
TZOFFSETFROM:+0200
TZOFFSETTO:+0100
TZNAME:CET
DTSTART:20251026T010000
END:STANDARD
END:VTIMEZONE
BEGIN:VEVENT
DTSTART;TZID=Europe/Paris:20240405T180000
DTEND;TZID=Europe/Paris:20240405T193000
DTSTAMP:20260425T141316
CREATED:20240329T183428Z
LAST-MODIFIED:20240329T183428Z
UID:4601-1712340000-1712345400@www.galerie-depardieu.com
SUMMARY:La MUSICOTHERAPIE ou Comment utiliser la Musique pour soigner Conférence par Alain Rattier
DESCRIPTION:Vendredi 5 avril 2024 à 18h\nLa MUSICOTHERAPIE ou Comment utiliser la Musique pour soigner\nConférence par Alain Rattier \n \nACTIVE\nLe RYTHME avec le Corps : mise en place d’un Ostinato structurant\nLa RESPIRATION gérer le souffle sur un polygone de sustentation\nL’ECOUTE de son intérieur\, de soi\, des autres\, de l’environnement\nL’AUDITION : émission\, perception (les ondes)\nLa VOIX : recherche de Tessiture : Soprano\, Alto\, Ténor\, Basse\nL’INSTRUMENTARIUM\, les Timbres : Bois\, Peau\, Métal…\nLe CORPS en MOUVEMENT : Espace\, Temps\, Latéralisation \nPASSIVE\nAUDITION d’une musique Relaxante et Dessin : Expression picturale\nAUDITION de Cinq Œuvres différents (extraits) : VERBALISATION\nLa RELAXATION : démonstration / Contrôle du corps : détente\nERGONOMIE et CREATIVITE sous induction musicale \nCONFERENCE\nPrésentée et Animée par : Alain RATTIER\nNé en 1948 dans les Hautes Pyrénées\, famille de musiciens :\nGrand-­‐père guitare-­‐chant\, une tante violoniste\, ses parents chantent dans une chorale avec des accents basques\nA 7 ans débute par le piano\, à 11 le voisin lui apprend la guitare\, la trompette à 14\nAu Conservatoire de Toulouse : Trombone\, Contrebasse\, Composition Chef d’orchestre à Sud Radio plus tard dirige un Big Band avec lequel il jouera aux USA (La Nouvelle Orléans)\, mais le Jazz Band lui permet de faire deux Tours du Monde (invité) pour : Méridien\, Alliance Française\, Club Med\, Festivals\nIl crée 15 Ecoles de Musique autour de Nîmes et lance plusieurs Festivals de Jazz :\nLe Grau du Roi 30\, Lunel\, Juvignac\,Castries 34\,Orange\,Bollène\,Villes sur Auzon 84\nLa DRAC deMontpellier l’inscrit en Musicothérapie lors de sa création\nIl ira à Lyon pour découvrir les Méthodes Actives (Orff)\nQuand il a 11 ans son Professeur passe à la Télévison en noir et blanc pour l’émission « Cinq Colonnes à la Une » et dirige un orchestre avec 70 malades mentaux internés… Lui a choisi plus tard de « donner leur voix » aux enfants Autistes et Trisomiques : un vœu\, une voie pour guérir les Maux par les Mots …\nCette somme d’expériences en fait un prodige à voir et écoute \nEntrée 10 € – 8 € pour les adhérents / Étudiants : 6 €
URL:https://www.galerie-depardieu.com/event/la-musicotherapie-ou-comment-utiliser-la-musique-pour-soigner-conference-par-alain-rattier/
LOCATION:Galerie Depardieu\, 6 rue du docteur Jacques Guidoni\, Nice\, 06000\, France
CATEGORIES:Agenda,Conférence
ORGANIZER;CN="Association ARTEP":MAILTO:artep.association@gmail.com
END:VEVENT
END:VCALENDAR