BEGIN:VCALENDAR
VERSION:2.0
PRODID:-//Galerie Depardieu - ECPv6.15.20//NONSGML v1.0//EN
CALSCALE:GREGORIAN
METHOD:PUBLISH
X-ORIGINAL-URL:https://www.galerie-depardieu.com
X-WR-CALDESC:Évènements pour Galerie Depardieu
REFRESH-INTERVAL;VALUE=DURATION:PT1H
X-Robots-Tag:noindex
X-PUBLISHED-TTL:PT1H
BEGIN:VTIMEZONE
TZID:Europe/Paris
BEGIN:DAYLIGHT
TZOFFSETFROM:+0100
TZOFFSETTO:+0200
TZNAME:CEST
DTSTART:20220327T010000
END:DAYLIGHT
BEGIN:STANDARD
TZOFFSETFROM:+0200
TZOFFSETTO:+0100
TZNAME:CET
DTSTART:20221030T010000
END:STANDARD
BEGIN:DAYLIGHT
TZOFFSETFROM:+0100
TZOFFSETTO:+0200
TZNAME:CEST
DTSTART:20230326T010000
END:DAYLIGHT
BEGIN:STANDARD
TZOFFSETFROM:+0200
TZOFFSETTO:+0100
TZNAME:CET
DTSTART:20231029T010000
END:STANDARD
BEGIN:DAYLIGHT
TZOFFSETFROM:+0100
TZOFFSETTO:+0200
TZNAME:CEST
DTSTART:20240331T010000
END:DAYLIGHT
BEGIN:STANDARD
TZOFFSETFROM:+0200
TZOFFSETTO:+0100
TZNAME:CET
DTSTART:20241027T010000
END:STANDARD
END:VTIMEZONE
BEGIN:VEVENT
DTSTART;TZID=Europe/Paris:20231021T183000
DTEND;TZID=Europe/Paris:20231021T200000
DTSTAMP:20260425T232429
CREATED:20230922T201233Z
LAST-MODIFIED:20230922T201233Z
UID:4395-1697913000-1697918400@www.galerie-depardieu.com
SUMMARY:VAN GOGH LES RACINES DU MAL  Conférence par Kiki Baldassari
DESCRIPTION:Samedi 21 Octobre 2023 à 18h30\nVAN GOGH LES RACINES DU MAL \nConférence par Kiki Baldassari \n »…et vint le sang\, de l’oreille au coup de feu\, retour sur le drame intime hors des mythologies » \n \nAprès sa venue pour « Jean-Michel Basquiat\, Indocile icône »\, « Caravage\, autoportrait »\, « Frida Kahlo\,  L’enfant et les Sortilèges »\, « L’heure d’art [Dali/Freud] » etc.\, à la galerie\, Kiki Baldassari\, conférencière assermentée & historienne de l’art nous propose un nouveau panorama artistique et sociétal. \nEntrée 10 € – 8 € pour les adhérents\nÉtudiants : 6 €\nRéservation/billetterie : https://www.billetweb.fr/van-gogh-les-racines-du-mal
URL:https://www.galerie-depardieu.com/event/van-gogh-les-racines-du-mal-conference-par-kiki-baldassari/
LOCATION:Galerie Depardieu\, 6 rue du docteur Jacques Guidoni\, Nice\, 06000\, France
CATEGORIES:Agenda,Conférence
ORGANIZER;CN="Association ARTEP":MAILTO:artep.association@gmail.com
END:VEVENT
END:VCALENDAR