BEGIN:VCALENDAR
VERSION:2.0
PRODID:-//Galerie Depardieu - ECPv6.15.20//NONSGML v1.0//EN
CALSCALE:GREGORIAN
METHOD:PUBLISH
X-ORIGINAL-URL:https://www.galerie-depardieu.com
X-WR-CALDESC:Évènements pour Galerie Depardieu
REFRESH-INTERVAL;VALUE=DURATION:PT1H
X-Robots-Tag:noindex
X-PUBLISHED-TTL:PT1H
BEGIN:VTIMEZONE
TZID:Europe/Paris
BEGIN:DAYLIGHT
TZOFFSETFROM:+0100
TZOFFSETTO:+0200
TZNAME:CEST
DTSTART:20240331T010000
END:DAYLIGHT
BEGIN:STANDARD
TZOFFSETFROM:+0200
TZOFFSETTO:+0100
TZNAME:CET
DTSTART:20241027T010000
END:STANDARD
BEGIN:DAYLIGHT
TZOFFSETFROM:+0100
TZOFFSETTO:+0200
TZNAME:CEST
DTSTART:20250330T010000
END:DAYLIGHT
BEGIN:STANDARD
TZOFFSETFROM:+0200
TZOFFSETTO:+0100
TZNAME:CET
DTSTART:20251026T010000
END:STANDARD
BEGIN:DAYLIGHT
TZOFFSETFROM:+0100
TZOFFSETTO:+0200
TZNAME:CEST
DTSTART:20260329T010000
END:DAYLIGHT
BEGIN:STANDARD
TZOFFSETFROM:+0200
TZOFFSETTO:+0100
TZNAME:CET
DTSTART:20261025T010000
END:STANDARD
END:VTIMEZONE
BEGIN:VEVENT
DTSTART;TZID=Europe/Paris:20250705T180000
DTEND;TZID=Europe/Paris:20250705T200000
DTSTAMP:20260424T124344
CREATED:20250611T165524Z
LAST-MODIFIED:20250617T164944Z
UID:5396-1751738400-1751745600@www.galerie-depardieu.com
SUMMARY:Nôtre Dame\, hier/aujourd'hui/demain  Conférence par Kiki Baldassari
DESCRIPTION:Samedi 5 Juillet 2025 à 18h\nNôtre Dame\nhier  aujourd’hui demain\nConférence par Kiki Baldassari \n \nKiki Baldassari\, conférencière assermentée & historienne de l’art nous propose un nouveau panorama artistique et sociétal\, autour du thème Nôtre Dame\, hier  aujourd’hui demain. \nKiki Baldassari a déjà présenté entre autres à la galerie : « Jean-Michel Basquiat\, Indocile icône »\, « Caravage\, autoportrait »\, « Frida Kahlo\,  L’enfant et les Sortilèges »\, « Gone with the Wilde\, Tout l’Art d’Oscar »\, « Nicolas de Staël\, Mon art est sur les remparts » etc. \nCette conférence est en coréalisation avec La Saeta. \nvisuel/ Brassai\, 1933 \nEntrée 10 € – 8 € pour les adhérents / Étudiants : 6 €\nRéservation/billetterie : https://www.billetweb.fr/notre-dame-hier-aujourdhui-demain-conference-par-kiki-baldassari
URL:https://www.galerie-depardieu.com/event/notre-dame-conference-par-kiki-baldassari/
LOCATION:Galerie Depardieu\, 6 rue du docteur Jacques Guidoni\, Nice\, 06000\, France
CATEGORIES:Agenda,Conférence
ORGANIZER;CN="Association ARTEP":MAILTO:artep.association@gmail.com
END:VEVENT
END:VCALENDAR