BEGIN:VCALENDAR
VERSION:2.0
PRODID:-//Galerie Depardieu - ECPv6.15.20//NONSGML v1.0//EN
CALSCALE:GREGORIAN
METHOD:PUBLISH
X-WR-CALNAME:Galerie Depardieu
X-ORIGINAL-URL:https://www.galerie-depardieu.com
X-WR-CALDESC:Évènements pour Galerie Depardieu
REFRESH-INTERVAL;VALUE=DURATION:PT1H
X-Robots-Tag:noindex
X-PUBLISHED-TTL:PT1H
BEGIN:VTIMEZONE
TZID:Europe/Paris
BEGIN:DAYLIGHT
TZOFFSETFROM:+0100
TZOFFSETTO:+0200
TZNAME:CEST
DTSTART:20230326T010000
END:DAYLIGHT
BEGIN:STANDARD
TZOFFSETFROM:+0200
TZOFFSETTO:+0100
TZNAME:CET
DTSTART:20231029T010000
END:STANDARD
BEGIN:DAYLIGHT
TZOFFSETFROM:+0100
TZOFFSETTO:+0200
TZNAME:CEST
DTSTART:20240331T010000
END:DAYLIGHT
BEGIN:STANDARD
TZOFFSETFROM:+0200
TZOFFSETTO:+0100
TZNAME:CET
DTSTART:20241027T010000
END:STANDARD
BEGIN:DAYLIGHT
TZOFFSETFROM:+0100
TZOFFSETTO:+0200
TZNAME:CEST
DTSTART:20250330T010000
END:DAYLIGHT
BEGIN:STANDARD
TZOFFSETFROM:+0200
TZOFFSETTO:+0100
TZNAME:CET
DTSTART:20251026T010000
END:STANDARD
END:VTIMEZONE
BEGIN:VEVENT
DTSTART;TZID=Europe/Paris:20240921T180000
DTEND;TZID=Europe/Paris:20240921T200000
DTSTAMP:20260425T043124
CREATED:20240731T183917Z
LAST-MODIFIED:20240731T183917Z
UID:4730-1726941600-1726948800@www.galerie-depardieu.com
SUMMARY:Nikki de Saint-Phalle  KO/CHAOS Conférence par Kiki Baldassari
DESCRIPTION:Samedi 21 Septembre 2024 à 18h\nNikki de Saint-Phalle \nKO/CHAOS\nConférence par Kiki Baldassari \n« Il existe dans le cœur humain un désir de tout détruire. Détruire c’est affirmer qu’on existe envers et contre tout » \nAprès sa venue pour « Jean-Michel Basquiat\, Indocile icône »\, « Caravage\, autoportrait »\, « Frida Kahlo\,  L’enfant et les Sortilèges »\, « Gone with the Wilde\, Tout l’Art d’Oscar »\, « Nicolas de Staël\, Mon art est sur les remparts » etc.\, à la galerie\, Kiki Baldassari\, conférencière assermentée & historienne de l’art nous propose un nouveau panorama artistique et sociétal. \nEntrée 10 € – 8 € pour les adhérents / Étudiants : 6 €\nRéservation/billetterie :\nhttps://www.billetweb.fr/nikki-de-saint-phalle-ko-chaos-conference-par-kiki-baldassari
URL:https://www.galerie-depardieu.com/event/nikki-de-saint-phalle-ko-chaos-conference-par-kiki-baldassari/
LOCATION:Galerie Depardieu\, 6 rue du docteur Jacques Guidoni\, Nice\, 06000\, France
CATEGORIES:Agenda,Conférence
ORGANIZER;CN="Association ARTEP":MAILTO:artep.association@gmail.com
END:VEVENT
END:VCALENDAR