BEGIN:VCALENDAR
VERSION:2.0
PRODID:-//Galerie Depardieu - ECPv6.15.20//NONSGML v1.0//EN
CALSCALE:GREGORIAN
METHOD:PUBLISH
X-ORIGINAL-URL:https://www.galerie-depardieu.com
X-WR-CALDESC:Évènements pour Galerie Depardieu
REFRESH-INTERVAL;VALUE=DURATION:PT1H
X-Robots-Tag:noindex
X-PUBLISHED-TTL:PT1H
BEGIN:VTIMEZONE
TZID:Europe/Paris
BEGIN:DAYLIGHT
TZOFFSETFROM:+0100
TZOFFSETTO:+0200
TZNAME:CEST
DTSTART:20220327T010000
END:DAYLIGHT
BEGIN:STANDARD
TZOFFSETFROM:+0200
TZOFFSETTO:+0100
TZNAME:CET
DTSTART:20221030T010000
END:STANDARD
BEGIN:DAYLIGHT
TZOFFSETFROM:+0100
TZOFFSETTO:+0200
TZNAME:CEST
DTSTART:20230326T010000
END:DAYLIGHT
BEGIN:STANDARD
TZOFFSETFROM:+0200
TZOFFSETTO:+0100
TZNAME:CET
DTSTART:20231029T010000
END:STANDARD
BEGIN:DAYLIGHT
TZOFFSETFROM:+0100
TZOFFSETTO:+0200
TZNAME:CEST
DTSTART:20240331T010000
END:DAYLIGHT
BEGIN:STANDARD
TZOFFSETFROM:+0200
TZOFFSETTO:+0100
TZNAME:CET
DTSTART:20241027T010000
END:STANDARD
END:VTIMEZONE
BEGIN:VEVENT
DTSTART;TZID=Europe/Paris:20230422T183000
DTEND;TZID=Europe/Paris:20230422T200000
DTSTAMP:20260426T063641
CREATED:20230331T190340Z
LAST-MODIFIED:20230331T190340Z
UID:4216-1682188200-1682193600@www.galerie-depardieu.com
SUMMARY:Vermeer intime Conférence par Kiki Baldassari
DESCRIPTION:Samedi 22 Avril 2023 – 18h30 \nVermeer intime\nConférence par Kiki Baldassari \nvisuel : La Jeune Fille à la perle\, c.1665\, Mauritshuis\, La Haye \nEn son petit théâtre\, Vermeer joue tour à tour au dramaturge\, au metteur en scène\, à l’accessoiriste\, au régisseur lumière voire …à l’interprète.\nEntrons dans le jeu\, enfilons les perles. \nAprès sa venue pour «  Mark Rothko »\, « Des chants des toiles »\, « Jean-Michel Basquiat\, Indocile icône »\, « Frida Kahlo – L’enfant et les Sortilèges » etc.\, à la galerie\, Kiki Baldassari\, conférencière assermentée & historienne de l’art nous propose un nouveau panorama artistique et sociétal.
URL:https://www.galerie-depardieu.com/event/vermeer-intime-conference-par-kiki-baldassari/
LOCATION:Galerie Depardieu\, 6 rue du docteur Jacques Guidoni\, Nice\, 06000\, France
CATEGORIES:Agenda,Conférence
ORGANIZER;CN="Association ARTEP":MAILTO:artep.association@gmail.com
END:VEVENT
END:VCALENDAR