BEGIN:VCALENDAR
VERSION:2.0
PRODID:-//Galerie Depardieu - ECPv6.15.20//NONSGML v1.0//EN
CALSCALE:GREGORIAN
METHOD:PUBLISH
X-ORIGINAL-URL:https://www.galerie-depardieu.com
X-WR-CALDESC:Évènements pour Galerie Depardieu
REFRESH-INTERVAL;VALUE=DURATION:PT1H
X-Robots-Tag:noindex
X-PUBLISHED-TTL:PT1H
BEGIN:VTIMEZONE
TZID:Europe/Paris
BEGIN:DAYLIGHT
TZOFFSETFROM:+0100
TZOFFSETTO:+0200
TZNAME:CEST
DTSTART:20250330T010000
END:DAYLIGHT
BEGIN:STANDARD
TZOFFSETFROM:+0200
TZOFFSETTO:+0100
TZNAME:CET
DTSTART:20251026T010000
END:STANDARD
BEGIN:DAYLIGHT
TZOFFSETFROM:+0100
TZOFFSETTO:+0200
TZNAME:CEST
DTSTART:20260329T010000
END:DAYLIGHT
BEGIN:STANDARD
TZOFFSETFROM:+0200
TZOFFSETTO:+0100
TZNAME:CET
DTSTART:20261025T010000
END:STANDARD
BEGIN:DAYLIGHT
TZOFFSETFROM:+0100
TZOFFSETTO:+0200
TZNAME:CEST
DTSTART:20270328T010000
END:DAYLIGHT
BEGIN:STANDARD
TZOFFSETFROM:+0200
TZOFFSETTO:+0100
TZNAME:CET
DTSTART:20271031T010000
END:STANDARD
END:VTIMEZONE
BEGIN:VEVENT
DTSTART;TZID=Europe/Paris:20260404T201500
DTEND;TZID=Europe/Paris:20260404T223000
DTSTAMP:20260424T015057
CREATED:20260330T185558Z
LAST-MODIFIED:20260330T185558Z
UID:5671-1775333700-1775341800@www.galerie-depardieu.com
SUMMARY:ChiC to ChicK - The Chick Corea Tribute band
DESCRIPTION:Samedi 4 avril 2026 à 20h15\nChiC to ChicK\nThe Chick Corea Tribute band \nConcert hommage : entre musique live et récit de la carrière de Chick Corea.\nChick Corea nous a quitté en 2021. Aussi\, le groupe « ChiC to ChicK »\, salué par Chick COREA lui-même\, raconte l’histoire de la carrière et de la musique d’un des plus grands pianistes de jazz de ces 50 dernières années. \nChick Corea c’est une centaine de disques\, plus de quarante ans de créativité\, 50 nominations et environ 20 Grammy Awards. Il était un des pionniers du Jazz Fusion avec notamment le groupe Return to Forever\, puis son EleKtric Band légendaire. \nC’est un voyage entre standards\, jazz pur et jazz rock fusion qui vous est raconté par le batteur Arnoïse et son groupe\, un tour de piste en musique d’un des géants de la scène mondiale. \nLine-up\nFrédéric d’Oelsniz : piano – clavier\nLasha Lucaselias : basse\nArnoïse : batterie\nLorenzo Herrnhut-Girola : guitare\nLéo Morini : saxophones \n \nhttps://arnoisedrum.wixsite.com/chictochick \nEntrée 15 € / adhérent : 12 € / Tarif étudiant 10 €\nRéservation/billetterie : https://www.billetweb.fr/chic-to-chick-the-chick-corea-tribute-band
URL:https://www.galerie-depardieu.com/event/chic-to-chick-the-chick-corea-tribute-band/
LOCATION:Galerie Depardieu\, 6 rue du docteur Jacques Guidoni\, Nice\, 06000\, France
CATEGORIES:Agenda,Concert
ORGANIZER;CN="Association ARTEP":MAILTO:artep.association@gmail.com
END:VEVENT
END:VCALENDAR