BEGIN:VCALENDAR
VERSION:2.0
PRODID:-//Galerie Depardieu - ECPv6.15.20//NONSGML v1.0//EN
CALSCALE:GREGORIAN
METHOD:PUBLISH
X-WR-CALNAME:Galerie Depardieu
X-ORIGINAL-URL:https://www.galerie-depardieu.com
X-WR-CALDESC:Évènements pour Galerie Depardieu
REFRESH-INTERVAL;VALUE=DURATION:PT1H
X-Robots-Tag:noindex
X-PUBLISHED-TTL:PT1H
BEGIN:VTIMEZONE
TZID:Europe/Paris
BEGIN:DAYLIGHT
TZOFFSETFROM:+0100
TZOFFSETTO:+0200
TZNAME:CEST
DTSTART:20250330T010000
END:DAYLIGHT
BEGIN:STANDARD
TZOFFSETFROM:+0200
TZOFFSETTO:+0100
TZNAME:CET
DTSTART:20251026T010000
END:STANDARD
BEGIN:DAYLIGHT
TZOFFSETFROM:+0100
TZOFFSETTO:+0200
TZNAME:CEST
DTSTART:20260329T010000
END:DAYLIGHT
BEGIN:STANDARD
TZOFFSETFROM:+0200
TZOFFSETTO:+0100
TZNAME:CET
DTSTART:20261025T010000
END:STANDARD
BEGIN:DAYLIGHT
TZOFFSETFROM:+0100
TZOFFSETTO:+0200
TZNAME:CEST
DTSTART:20270328T010000
END:DAYLIGHT
BEGIN:STANDARD
TZOFFSETFROM:+0200
TZOFFSETTO:+0100
TZNAME:CET
DTSTART:20271031T010000
END:STANDARD
END:VTIMEZONE
BEGIN:VEVENT
DTSTART;TZID=Europe/Paris:20260220T201500
DTEND;TZID=Europe/Paris:20260220T223000
DTSTAMP:20260424T031352
CREATED:20260126T191155Z
LAST-MODIFIED:20260126T191155Z
UID:5608-1771618500-1771626600@www.galerie-depardieu.com
SUMMARY:CAFÉ MUSIC - Concert pour violon\, piano et mezzo-soprano
DESCRIPTION:Vendredi 20 Février 2026 à 20h15\nCafé Music\nConcert pour violon\, piano et mezzo-soprano \nLjubica Damčević – violin\, mezzo-soprano \nNikola Vidojević – piano \n \n« Café Music » est un projet de concert qui fait revivre l’atmosphère des cafés\, salons et coins de rue européens à travers un répertoire mêlant musique classique légère\, influences jazz et inspirations folkloriques. Le programme invite le public à un voyage musical à travers le temps et les styles\, avec des œuvres de Fritz Kreisler\, Edward Elgar\, Astor Piazzolla\, Francis Poulenc\, Kurt Weill\, Paul Schoenfield\, entre autres. Le caractère cabaret du programme et sa forme accessible en font un concert adapté aussi bien aux salles de concert qu’aux lieux plus intimistes. \nInstagram: https://www.instagram.com/le_duo_music/\nFacebook: https://www.facebook.com/LeDuoMusicOfficial/\nYouTube: https://www.youtube.com/@LeDuo-music \nEntrée 15 € / adhérent : 12 € / Tarif étudiant 10 €\nRéservation/billetterie : https://www.billetweb.fr/cafe-music
URL:https://www.galerie-depardieu.com/event/cafe-music-concert-pour-violon-piano-et-mezzo-soprano/
LOCATION:Galerie Depardieu\, 6 rue du docteur Jacques Guidoni\, Nice\, 06000\, France
CATEGORIES:Agenda,Concert
ORGANIZER;CN="Association ARTEP":MAILTO:artep.association@gmail.com
END:VEVENT
END:VCALENDAR