BEGIN:VCALENDAR
VERSION:2.0
PRODID:-//Galerie Depardieu - ECPv6.15.20//NONSGML v1.0//EN
CALSCALE:GREGORIAN
METHOD:PUBLISH
X-ORIGINAL-URL:https://www.galerie-depardieu.com
X-WR-CALDESC:Évènements pour Galerie Depardieu
REFRESH-INTERVAL;VALUE=DURATION:PT1H
X-Robots-Tag:noindex
X-PUBLISHED-TTL:PT1H
BEGIN:VTIMEZONE
TZID:Europe/Paris
BEGIN:DAYLIGHT
TZOFFSETFROM:+0100
TZOFFSETTO:+0200
TZNAME:CEST
DTSTART:20240331T010000
END:DAYLIGHT
BEGIN:STANDARD
TZOFFSETFROM:+0200
TZOFFSETTO:+0100
TZNAME:CET
DTSTART:20241027T010000
END:STANDARD
BEGIN:DAYLIGHT
TZOFFSETFROM:+0100
TZOFFSETTO:+0200
TZNAME:CEST
DTSTART:20250330T010000
END:DAYLIGHT
BEGIN:STANDARD
TZOFFSETFROM:+0200
TZOFFSETTO:+0100
TZNAME:CET
DTSTART:20251026T010000
END:STANDARD
BEGIN:DAYLIGHT
TZOFFSETFROM:+0100
TZOFFSETTO:+0200
TZNAME:CEST
DTSTART:20260329T010000
END:DAYLIGHT
BEGIN:STANDARD
TZOFFSETFROM:+0200
TZOFFSETTO:+0100
TZNAME:CET
DTSTART:20261025T010000
END:STANDARD
END:VTIMEZONE
BEGIN:VEVENT
DTSTART;TZID=Europe/Paris:20251119T201500
DTEND;TZID=Europe/Paris:20251119T223000
DTSTAMP:20260424T084441
CREATED:20251031T211100Z
LAST-MODIFIED:20251031T211100Z
UID:5502-1763583300-1763591400@www.galerie-depardieu.com
SUMMARY:Pierre Marcus Trio
DESCRIPTION:Mercredi 19 Novembre 2025 à 20h15\nPierre Marcus Trio \nPierre Marcus : Contrebasse\nJeremy Hinnekens : Piano\nDamien Françon : Batterie \n \nLe Pierre Marcus Trio Parisien propose un moment de jazz vivant et complice\, mêlant compositions originales de Pierre et Jérémy à quelques standards revisités. \nAmis de longue date\, les trois musiciens partagent une véritable connivence musicale\, faite d’écoute\, d’échanges et d’improvisations inspirées. \n \nEntrée 15 € / adhérent : 12 € / Tarif étudiant 10 €\nRéservation/billetterie : https://www.billetweb.fr/pierre-marcus-trio3
URL:https://www.galerie-depardieu.com/event/pierre-marcus-trio-2/
LOCATION:Galerie Depardieu\, 6 rue du docteur Jacques Guidoni\, Nice\, 06000\, France
CATEGORIES:Agenda,Concert
ORGANIZER;CN="Association ARTEP":MAILTO:artep.association@gmail.com
END:VEVENT
END:VCALENDAR