BEGIN:VCALENDAR
VERSION:2.0
PRODID:-//Galerie Depardieu - ECPv6.15.20//NONSGML v1.0//EN
CALSCALE:GREGORIAN
METHOD:PUBLISH
X-ORIGINAL-URL:https://www.galerie-depardieu.com
X-WR-CALDESC:Évènements pour Galerie Depardieu
REFRESH-INTERVAL;VALUE=DURATION:PT1H
X-Robots-Tag:noindex
X-PUBLISHED-TTL:PT1H
BEGIN:VTIMEZONE
TZID:Europe/Paris
BEGIN:DAYLIGHT
TZOFFSETFROM:+0100
TZOFFSETTO:+0200
TZNAME:CEST
DTSTART:20240331T010000
END:DAYLIGHT
BEGIN:STANDARD
TZOFFSETFROM:+0200
TZOFFSETTO:+0100
TZNAME:CET
DTSTART:20241027T010000
END:STANDARD
BEGIN:DAYLIGHT
TZOFFSETFROM:+0100
TZOFFSETTO:+0200
TZNAME:CEST
DTSTART:20250330T010000
END:DAYLIGHT
BEGIN:STANDARD
TZOFFSETFROM:+0200
TZOFFSETTO:+0100
TZNAME:CET
DTSTART:20251026T010000
END:STANDARD
BEGIN:DAYLIGHT
TZOFFSETFROM:+0100
TZOFFSETTO:+0200
TZNAME:CEST
DTSTART:20260329T010000
END:DAYLIGHT
BEGIN:STANDARD
TZOFFSETFROM:+0200
TZOFFSETTO:+0100
TZNAME:CET
DTSTART:20261025T010000
END:STANDARD
END:VTIMEZONE
BEGIN:VEVENT
DTSTART;TZID=Europe/Paris:20250920T201500
DTEND;TZID=Europe/Paris:20250920T223000
DTSTAMP:20260424T125327
CREATED:20250801T173710Z
LAST-MODIFIED:20250801T173710Z
UID:5427-1758399300-1758407400@www.galerie-depardieu.com
SUMMARY:Carl Mayotte Quintet
DESCRIPTION:Samedi 20 Septembre 2025 à 20h15\nCarl Mayotte Quintet \nAvec\nCarl Mayotte – Basse et composition    \nGabriel Cyr – Guitare \nDamien-Jade Cyr – Saxophones \nFrancis Grégoire – Claviers \nStéphane Chamberland – Batterie \n\n \nGrand lauréat du Félix pour l’album jazz de l’année à l’ADISQ en 2022 pour son troisième album Escale ainsi que du titre Révélation Jazz Radio-Canada 2020-2021\, Carl Mayotte est l’un des jeunes bassistes et jazzmen les plus en vogue au Québec et au Canada en ce moment. Ayant commencé sa carrière professionnelle à l’âge de 16 ans et complété une maîtrise en interprétation jazz à l’Université McGill\, sa virtuosité et sa versatilité ont été remarquées par plusieurs musiciens et critiques\, dont le légendaire bassiste Alain Caron et le populaire Bass Magazine. De plus\, il crée\, à l’été 2022\, un nouveau camp musical jazz au Kamouraska réunissant des musiciens de tous les âges et de tous les niveaux. L’un des buts du jeune musicien est de démocratiser le jazz et de ramener ce genre musical à l’avant-plan. À cet effet\, il vient de publier son premier livre avec Hudson Music: The Ultimate Jazz Fusion Play-Along For Bass. \nSon dernier album Carnaval est sortie\, automne 2023.\nCarnaval est la rencontre unique et rarement entendue entre un quintette de jazz fusion\, un ensemble de percussions brésiliennes et un quintette à vent classique (hautbois\, clarinette\, cor français\, basson et flûte)\, le tout se mélangeant à travers les sonorités latines\, rock et jazz. Cet album entraînera l’auditeur dans un voyage vers le sud et au travers d’une multitude de paysages\, de climats sonores et de surprises musicales aux reliefs époustouflants. Plusieurs invités de renom se retrouvent sur ce futur album\, dont la légende de la guitare jazz Sylvain Luc. \n« Très bel album. Les compositions sont inspirées et les arrangements sont soit sophistiqués soit plus épurés\, mais toujours efficaces. Très belle réalisation. Carl est un excellent bassiste\, mais il laisse beaucoup de place aux musiciens qui l’accompagnent sur cet album\, ce qui sert bien sa musique et est un signe de maturité. Bravo ! »\nAlain Caron\, bassiste émérite du groupe Uzeb \n \n \nhttps://carlmayotte.com \nEntrée 15 € / adhérent : 12 € / Tarif étudiant 10 €\nRéservation/billetterie : https://www.billetweb.fr/carl-mayotte-quintet
URL:https://www.galerie-depardieu.com/event/carl-mayotte-quintet/
LOCATION:Galerie Depardieu\, 6 rue du docteur Jacques Guidoni\, Nice\, 06000\, France
CATEGORIES:Agenda,Concert
ORGANIZER;CN="Association ARTEP":MAILTO:artep.association@gmail.com
END:VEVENT
END:VCALENDAR