BEGIN:VCALENDAR
VERSION:2.0
PRODID:-//Galerie Depardieu - ECPv6.15.20//NONSGML v1.0//EN
CALSCALE:GREGORIAN
METHOD:PUBLISH
X-WR-CALNAME:Galerie Depardieu
X-ORIGINAL-URL:https://www.galerie-depardieu.com
X-WR-CALDESC:Évènements pour Galerie Depardieu
REFRESH-INTERVAL;VALUE=DURATION:PT1H
X-Robots-Tag:noindex
X-PUBLISHED-TTL:PT1H
BEGIN:VTIMEZONE
TZID:Europe/Paris
BEGIN:DAYLIGHT
TZOFFSETFROM:+0100
TZOFFSETTO:+0200
TZNAME:CEST
DTSTART:20240331T010000
END:DAYLIGHT
BEGIN:STANDARD
TZOFFSETFROM:+0200
TZOFFSETTO:+0100
TZNAME:CET
DTSTART:20241027T010000
END:STANDARD
BEGIN:DAYLIGHT
TZOFFSETFROM:+0100
TZOFFSETTO:+0200
TZNAME:CEST
DTSTART:20250330T010000
END:DAYLIGHT
BEGIN:STANDARD
TZOFFSETFROM:+0200
TZOFFSETTO:+0100
TZNAME:CET
DTSTART:20251026T010000
END:STANDARD
BEGIN:DAYLIGHT
TZOFFSETFROM:+0100
TZOFFSETTO:+0200
TZNAME:CEST
DTSTART:20260329T010000
END:DAYLIGHT
BEGIN:STANDARD
TZOFFSETFROM:+0200
TZOFFSETTO:+0100
TZNAME:CET
DTSTART:20261025T010000
END:STANDARD
END:VTIMEZONE
BEGIN:VEVENT
DTSTART;TZID=Europe/Paris:20250731T201500
DTEND;TZID=Europe/Paris:20250731T223000
DTSTAMP:20260424T142653
CREATED:20250611T171342Z
LAST-MODIFIED:20250611T171342Z
UID:5405-1753992900-1754001000@www.galerie-depardieu.com
SUMMARY:Duo Itinera
DESCRIPTION:Jeudi 31 Juillet 2025 à 20h15\nDuo Itinera \nLe Duo Itinera est né de la collaboration de deux musiciens : Soﬁa Brunello (piano et clavier)\, Riccardo Chiarion (guitare électrique\, synthé et compositions).\nLe répertoire interprété par l’Itinera Duo a ses racines dans le jazz\, embrassant des combinaisons qui vont des douces sonorités classiques à la rugosité du rock. \n \nLa caractéristique des spectacles du groupe se manifeste dans l’implication constante du public\, qui est guidé à travers une alternance de diﬀérentes atmosphères\, mélodies et rythmes ; un voyage imaginaire dont l’auditeur reviendra renouvelé et plein d’émotions.\nLes nombreuses représentations en Italie et à l’étranger soulignent le très haut niveau artistique des musiciens qui composent l’Itinera Duo. Ils ont à leur actif un riche répertoire d’enregistrements et de concerts\, dans lequel ils ont collaboré avec des artistes de renommée mondiale. \nRiccardo Chiarion\nL’un des guitaristes de jazz italiens les plus renommés\, a collaboré avec :\nK. Wheeler (K. Jarrett\, D. Holland\, B. Frisell)\, J. Taylor (J. Surman\, J. Garbarek\,\nG. Evans)\, C. Laurence (Sting\, P. Gabriel\, J. Mitchell)\, M. France (S. Swallow\, R. Towner\, L. Konitz)\, M. Gibbs (J. Pastorius\, P. Metheny\, J. Scoﬁeld) et bien d’autres.\nIl a enregistré plusieurs CD en tant que leader\, co-leader et sideman.\nIl a remporté des prix spéciaux dans plusieurs concours de jazz tels que :\nPremio Nazionale delle Arti – 3 fois\nXVIIe édition du prix « Lilian Caraian »\nViva il Jazz – Concours international pour les groupes de jazz\nActuellement\, il est professeur de guitare jazz et coordinateur du département Jazz au conservatoire de musique « Giuseppe Tartini » de Trieste.\nIl gère une chaîne YouTube avec plus de 7000 abonnés qui sont passionnés par la guitare jazz. \nSoﬁa Brunello\nElle a abordé la musique dès son plus jeune âge\, jouant du piano et du violon.\nAprès avoir terminé ses études de piano aux conservatoires de Venise et d’Udine\, elle s’est produite dans de nombreux pays du monde\, de l’Italie au Mexique\, dans diverses formations : du récital solo à la musique de chambre en passant par l’orchestre. Elle interprète des répertoires allant de la musique classique à la musique contemporaine. Elle a également été sélectionnée comme artiste pour un concert à la Biennale de Venise.\nCe qui l’a toujours intéressée le plus dans son approche du piano est la recherche d’une richesse sonore\, timbrale et expressive qui lui permette de communiquer\, à travers les sons\, une large gamme de sensations perceptibles par le public.\nSon objectif\, à chaque représentation\, est de faire vivre à l’auditeur une expérience émotionnelle percutante.\nAu fil du temps\, elle a enrichi le spectre de ses capacités musicales avec des expériences liées à l’improvisation et aux sons de la musique moderne et contemporaine\, ainsi qu’à l’utilisation de la musique comme véhicule relationnel. \n \nhttps://www.youtube.com/@ItineraDuo \nhttps://itineraduoeng.blogspot.com/2024/06/itinera-duo.html \nEntrée 15 € / adhérent : 12 € / Tarif étudiant 10 €\nRéservation/billetterie : https://www.billetweb.fr/duo-itinera
URL:https://www.galerie-depardieu.com/event/duo-itinera/
LOCATION:Galerie Depardieu\, 6 rue du docteur Jacques Guidoni\, Nice\, 06000\, France
CATEGORIES:Agenda,Concert
ORGANIZER;CN="Association ARTEP":MAILTO:artep.association@gmail.com
END:VEVENT
END:VCALENDAR