BEGIN:VCALENDAR
VERSION:2.0
PRODID:-//Galerie Depardieu - ECPv6.15.20//NONSGML v1.0//EN
CALSCALE:GREGORIAN
METHOD:PUBLISH
X-WR-CALNAME:Galerie Depardieu
X-ORIGINAL-URL:https://www.galerie-depardieu.com
X-WR-CALDESC:Évènements pour Galerie Depardieu
REFRESH-INTERVAL;VALUE=DURATION:PT1H
X-Robots-Tag:noindex
X-PUBLISHED-TTL:PT1H
BEGIN:VTIMEZONE
TZID:Europe/Paris
BEGIN:DAYLIGHT
TZOFFSETFROM:+0100
TZOFFSETTO:+0200
TZNAME:CEST
DTSTART:20240331T010000
END:DAYLIGHT
BEGIN:STANDARD
TZOFFSETFROM:+0200
TZOFFSETTO:+0100
TZNAME:CET
DTSTART:20241027T010000
END:STANDARD
BEGIN:DAYLIGHT
TZOFFSETFROM:+0100
TZOFFSETTO:+0200
TZNAME:CEST
DTSTART:20250330T010000
END:DAYLIGHT
BEGIN:STANDARD
TZOFFSETFROM:+0200
TZOFFSETTO:+0100
TZNAME:CET
DTSTART:20251026T010000
END:STANDARD
BEGIN:DAYLIGHT
TZOFFSETFROM:+0100
TZOFFSETTO:+0200
TZNAME:CEST
DTSTART:20260329T010000
END:DAYLIGHT
BEGIN:STANDARD
TZOFFSETFROM:+0200
TZOFFSETTO:+0100
TZNAME:CET
DTSTART:20261025T010000
END:STANDARD
END:VTIMEZONE
BEGIN:VEVENT
DTSTART;TZID=Europe/Paris:20250620T201500
DTEND;TZID=Europe/Paris:20250620T223000
DTSTAMP:20260424T173718
CREATED:20250527T155632Z
LAST-MODIFIED:20250527T155632Z
UID:5381-1750450500-1750458600@www.galerie-depardieu.com
SUMMARY:Le Gallery Jazz Syndicate
DESCRIPTION:Vendredi 20 Juin 2025 à 20h15\nLe Gallery Jazz Syndicate \nAvec \nMagnus Parsons\, batterie\, compos\nMikko Ville\, piano\nMarco\, basse \nChristian Depardieu\, guitare\, compos \n \nLe Gallery Jazz Syndicate vous invite à partager une soirée en toute amitié\, autour d’un verre le vendredi 20 juin à 20h15. \nPas un concert formel. Jam session souhaitée. Amenez votre instrument …\nNous jouerons ensemble quelques standards\, bossa et compositions. \nEntrée libre et gratuite.
URL:https://www.galerie-depardieu.com/event/le-gallery-jazz-syndicate/
LOCATION:Galerie Depardieu\, 6 rue du docteur Jacques Guidoni\, Nice\, 06000\, France
CATEGORIES:Agenda,Concert
ORGANIZER;CN="Association ARTEP":MAILTO:artep.association@gmail.com
END:VEVENT
END:VCALENDAR