BEGIN:VCALENDAR
VERSION:2.0
PRODID:-//Galerie Depardieu - ECPv6.15.20//NONSGML v1.0//EN
CALSCALE:GREGORIAN
METHOD:PUBLISH
X-WR-CALNAME:Galerie Depardieu
X-ORIGINAL-URL:https://www.galerie-depardieu.com
X-WR-CALDESC:Évènements pour Galerie Depardieu
REFRESH-INTERVAL;VALUE=DURATION:PT1H
X-Robots-Tag:noindex
X-PUBLISHED-TTL:PT1H
BEGIN:VTIMEZONE
TZID:Europe/Paris
BEGIN:DAYLIGHT
TZOFFSETFROM:+0100
TZOFFSETTO:+0200
TZNAME:CEST
DTSTART:20240331T010000
END:DAYLIGHT
BEGIN:STANDARD
TZOFFSETFROM:+0200
TZOFFSETTO:+0100
TZNAME:CET
DTSTART:20241027T010000
END:STANDARD
BEGIN:DAYLIGHT
TZOFFSETFROM:+0100
TZOFFSETTO:+0200
TZNAME:CEST
DTSTART:20250330T010000
END:DAYLIGHT
BEGIN:STANDARD
TZOFFSETFROM:+0200
TZOFFSETTO:+0100
TZNAME:CET
DTSTART:20251026T010000
END:STANDARD
BEGIN:DAYLIGHT
TZOFFSETFROM:+0100
TZOFFSETTO:+0200
TZNAME:CEST
DTSTART:20260329T010000
END:DAYLIGHT
BEGIN:STANDARD
TZOFFSETFROM:+0200
TZOFFSETTO:+0100
TZNAME:CET
DTSTART:20261025T010000
END:STANDARD
END:VTIMEZONE
BEGIN:VEVENT
DTSTART;TZID=Europe/Paris:20250530T201500
DTEND;TZID=Europe/Paris:20250530T223000
DTSTAMP:20260424T173718
CREATED:20250506T152320Z
LAST-MODIFIED:20250506T152320Z
UID:5356-1748636100-1748644200@www.galerie-depardieu.com
SUMMARY:BehiaSwing and Latin Jazz
DESCRIPTION:Vendredi 30 Mai 2025 à 20h15\nBehiaSwing and Latin Jazz \nBehia chant\nPatrick Barbato contrebasse\nJean Baptiste Bolazzi piano\nAndré Guiglion batterie \nSes enregistrements (4 CD réalisés) ainsi que ses concerts sur de prestigieuses scènes françaises et étrangères ont été accueillis élogieusement par les chroniqueurs de la presse jazz. Voix chaude\, bien timbrée se pliant à toutes les nuances\, indéniable sens du swing\, Behia détaille avec sensibilité les classiques\, … (Jazz Magazine)\, bien secondée par un solide trio. \nPour vibrer au rythme des plus grands moments du jazz.\nUn rendez-vous incontournable pour les amateurs de jazz et de rythmes latins. \n \n \nhttps://www.behiajazz.com/ \nEntrée 15 € / adhérent : 12 € / Tarif étudiant 10 €\nRéservation/billetterie : https://www.billetweb.fr/behiaswing-and-latin-jazz
URL:https://www.galerie-depardieu.com/event/behiaswing-and-latin-jazz/
LOCATION:Galerie Depardieu\, 6 rue du docteur Jacques Guidoni\, Nice\, 06000\, France
CATEGORIES:Agenda,Concert
ORGANIZER;CN="Association ARTEP":MAILTO:artep.association@gmail.com
END:VEVENT
END:VCALENDAR