BEGIN:VCALENDAR
VERSION:2.0
PRODID:-//Galerie Depardieu - ECPv6.15.20//NONSGML v1.0//EN
CALSCALE:GREGORIAN
METHOD:PUBLISH
X-ORIGINAL-URL:https://www.galerie-depardieu.com
X-WR-CALDESC:Évènements pour Galerie Depardieu
REFRESH-INTERVAL;VALUE=DURATION:PT1H
X-Robots-Tag:noindex
X-PUBLISHED-TTL:PT1H
BEGIN:VTIMEZONE
TZID:Europe/Paris
BEGIN:DAYLIGHT
TZOFFSETFROM:+0100
TZOFFSETTO:+0200
TZNAME:CEST
DTSTART:20240331T010000
END:DAYLIGHT
BEGIN:STANDARD
TZOFFSETFROM:+0200
TZOFFSETTO:+0100
TZNAME:CET
DTSTART:20241027T010000
END:STANDARD
BEGIN:DAYLIGHT
TZOFFSETFROM:+0100
TZOFFSETTO:+0200
TZNAME:CEST
DTSTART:20250330T010000
END:DAYLIGHT
BEGIN:STANDARD
TZOFFSETFROM:+0200
TZOFFSETTO:+0100
TZNAME:CET
DTSTART:20251026T010000
END:STANDARD
BEGIN:DAYLIGHT
TZOFFSETFROM:+0100
TZOFFSETTO:+0200
TZNAME:CEST
DTSTART:20260329T010000
END:DAYLIGHT
BEGIN:STANDARD
TZOFFSETFROM:+0200
TZOFFSETTO:+0100
TZNAME:CET
DTSTART:20261025T010000
END:STANDARD
END:VTIMEZONE
BEGIN:VEVENT
DTSTART;TZID=Europe/Paris:20250411T201500
DTEND;TZID=Europe/Paris:20250411T223000
DTSTAMP:20260424T205013
CREATED:20250328T191321Z
LAST-MODIFIED:20250328T191321Z
UID:5290-1744402500-1744410600@www.galerie-depardieu.com
SUMMARY:Arnoïse jazz project - Power Trio
DESCRIPTION:Vendredi 11 Avril 2025 à 20h15\nArnoïse jazz project – Power Trio \nRobert Persi – Piano\nLasha Lucaselias – Basse\nArnoïse – Batterie \n \nLe Arnoïse jazz project\, en version Power Trio\, vous propose des compositions jazz funk fusion originales et des reprises revisitées étonnantes et détonantes truffées d’improvisations : Chick Corea\, Herbie Hancock\, Hendrix\, Coltrane\, Miles Davis\, Stevie Wonder\, etc. \nLes 3 musiciens sans concessions et sans tabous sont de la région Niçoise\, reconnus pas leurs pairs et salués par de nombreuses stars du jazz fusion comme par exemple John Mc Laughlin ou Chick Corea eux mêmes ! \n \n \nEntrée 15 € – adhérent : 12 € / Tarif étudiant 10 €\nRéservation/billetterie : https://www.billetweb.fr/arnoise-jazz-project-power-trio2
URL:https://www.galerie-depardieu.com/event/arnoise-jazz-project-power-trio-2/
LOCATION:Galerie Depardieu\, 6 rue du docteur Jacques Guidoni\, Nice\, 06000\, France
CATEGORIES:Agenda,Concert
ORGANIZER;CN="Association ARTEP":MAILTO:artep.association@gmail.com
END:VEVENT
END:VCALENDAR