BEGIN:VCALENDAR
VERSION:2.0
PRODID:-//Galerie Depardieu - ECPv6.15.20//NONSGML v1.0//EN
CALSCALE:GREGORIAN
METHOD:PUBLISH
X-ORIGINAL-URL:https://www.galerie-depardieu.com
X-WR-CALDESC:Évènements pour Galerie Depardieu
REFRESH-INTERVAL;VALUE=DURATION:PT1H
X-Robots-Tag:noindex
X-PUBLISHED-TTL:PT1H
BEGIN:VTIMEZONE
TZID:Europe/Paris
BEGIN:DAYLIGHT
TZOFFSETFROM:+0100
TZOFFSETTO:+0200
TZNAME:CEST
DTSTART:20240331T010000
END:DAYLIGHT
BEGIN:STANDARD
TZOFFSETFROM:+0200
TZOFFSETTO:+0100
TZNAME:CET
DTSTART:20241027T010000
END:STANDARD
BEGIN:DAYLIGHT
TZOFFSETFROM:+0100
TZOFFSETTO:+0200
TZNAME:CEST
DTSTART:20250330T010000
END:DAYLIGHT
BEGIN:STANDARD
TZOFFSETFROM:+0200
TZOFFSETTO:+0100
TZNAME:CET
DTSTART:20251026T010000
END:STANDARD
BEGIN:DAYLIGHT
TZOFFSETFROM:+0100
TZOFFSETTO:+0200
TZNAME:CEST
DTSTART:20260329T010000
END:DAYLIGHT
BEGIN:STANDARD
TZOFFSETFROM:+0200
TZOFFSETTO:+0100
TZNAME:CET
DTSTART:20261025T010000
END:STANDARD
END:VTIMEZONE
BEGIN:VEVENT
DTSTART;TZID=Europe/Paris:20250201T201500
DTEND;TZID=Europe/Paris:20250201T223000
DTSTAMP:20260424T235817
CREATED:20250106T162310Z
LAST-MODIFIED:20250106T162310Z
UID:4862-1738440900-1738449000@www.galerie-depardieu.com
SUMMARY:DIES GOA UNIT
DESCRIPTION:Samedi 1er Février 2025 à 20h15\nDIES GOA UNIT\nFrançois Szönyi (guitare électrique -chant)\nAlexandre Del Fa (basse\, Guitare\, chant)\nGuy Galassini (batterie et flûte traversière) \n \n« Les expériences passées des trois musiciens se sont amalgamées pour créer une musique éclectique aux influences multiples proposant un programme qui\, dans un esprit d’aventure\, mêle des compositions actuelles\, ainsi que des remixes \, Soft machine\, Caravan\, Hatfield & the North…)\, entre acoustique et électronique\, jazz\, rock et world  » La musique de Dies Goa Unit nous plonge dans l’atmosphère expérimentale des années 70 où fusion et musique progressive se mêlent dans le cadre d’une musique psychédélique des plus raffinée. Ce n’est pas par hasard que le trio a fait la première partie du célèbre groupe français Magma et a joué avec le bassiste et chanteur Richard Sinclair\, icône du rock progressif :\n \nVoici le lien spécifique pour l’album DGU https://guygalassini.bandcamp.com/album/nothing-has-an-end \nEn 1969\, François Szönyi et Guy Galassini commencent à jouer ensemble au sein du groupe Dies Irae. 1971 voit leurs premiers pas publics\, les concerts s’enchaînent\, autorisés ou interdits\, dans les MJC\, universités\, ou “festivals pop”. En 75 le groupe est primé au Golf Drouot\, le temple du rock parisien. La musique est sans concession et passera des Cream\, Hendrix ou Pink Floyd des débuts\, à l’improvisation totale sous l’influence du free jazz ou de groupes comme Magma ou Gong\, de musiciens comme Pharoa Sanders ou John McLaughlin. La vie du groupe continuera ainsi jusqu’en 79\, partageant l’affiche avec Jeff Seffer\, Magma\, ou Gong. À la même époque\, François Szönyi crée l’Aïghetta Quartett avec Alexandre Del Fa. Depuis 1979 cette nouvelle expérience\, bien plus intimiste\, suscite l’enthousiasme des auditoires les plus variés dans toute l’Europe\, celui de compositeurs et de musiciens comme Anthony Burgess\, l’auteur d’Orange mécanique\, ou John McLaughlin qui les invitera à jouer au sein du Time remembered group. Plus de vingt créations mondiales\, et une dizaine d’enregistrements chez Universal\, Harmonia Mundi\, Musea\, Nocturne\, etc…\, témoignent de cet intérêt pour l’ensemble (http://www.aighetta.com). Dies Goa Unit fait aujourd’hui la synthèse de ces expériences électriques\, acoustiques\, discographiques et scéniques dans un esprit d’aventure. \nEntrée 15 € / adhérent : 12 € / Tarif étudiant 10 €\nRéservation/billetterie : https://www.billetweb.fr/dies-goa-unit
URL:https://www.galerie-depardieu.com/event/dies-goa-unit/
LOCATION:Galerie Depardieu\, 6 rue du docteur Jacques Guidoni\, Nice\, 06000\, France
CATEGORIES:Agenda,Concert
ORGANIZER;CN="Association ARTEP":MAILTO:artep.association@gmail.com
END:VEVENT
END:VCALENDAR