BEGIN:VCALENDAR
VERSION:2.0
PRODID:-//Galerie Depardieu - ECPv6.15.20//NONSGML v1.0//EN
CALSCALE:GREGORIAN
METHOD:PUBLISH
X-WR-CALNAME:Galerie Depardieu
X-ORIGINAL-URL:https://www.galerie-depardieu.com
X-WR-CALDESC:Évènements pour Galerie Depardieu
REFRESH-INTERVAL;VALUE=DURATION:PT1H
X-Robots-Tag:noindex
X-PUBLISHED-TTL:PT1H
BEGIN:VTIMEZONE
TZID:Europe/Paris
BEGIN:DAYLIGHT
TZOFFSETFROM:+0100
TZOFFSETTO:+0200
TZNAME:CEST
DTSTART:20230326T010000
END:DAYLIGHT
BEGIN:STANDARD
TZOFFSETFROM:+0200
TZOFFSETTO:+0100
TZNAME:CET
DTSTART:20231029T010000
END:STANDARD
BEGIN:DAYLIGHT
TZOFFSETFROM:+0100
TZOFFSETTO:+0200
TZNAME:CEST
DTSTART:20240331T010000
END:DAYLIGHT
BEGIN:STANDARD
TZOFFSETFROM:+0200
TZOFFSETTO:+0100
TZNAME:CET
DTSTART:20241027T010000
END:STANDARD
BEGIN:DAYLIGHT
TZOFFSETFROM:+0100
TZOFFSETTO:+0200
TZNAME:CEST
DTSTART:20250330T010000
END:DAYLIGHT
BEGIN:STANDARD
TZOFFSETFROM:+0200
TZOFFSETTO:+0100
TZNAME:CET
DTSTART:20251026T010000
END:STANDARD
END:VTIMEZONE
BEGIN:VEVENT
DTSTART;TZID=Europe/Paris:20241214T201500
DTEND;TZID=Europe/Paris:20241214T223000
DTSTAMP:20260425T031303
CREATED:20241126T172623Z
LAST-MODIFIED:20241126T172623Z
UID:4825-1734207300-1734215400@www.galerie-depardieu.com
SUMMARY:Histoire du tango en chanson par Los Tigres Tango duo
DESCRIPTION:Samedi 14 décembre 2024 à 20h15 \nHistoire du tango en chanson\nLos Tigres Tango duo \nConcert de Tango Piano et Voix \nCristina Ormani chant\, Serge Salacroup piano \nUne histoire toujours en devenir faite d’histoires singulières\, de figures légendaires et de bouleversements bien réels. Venez vivre un voyage à travers le temps avec la chanteuse de tango Cristina Ormani qui sera accompagnée au piano par Serge Salacroup. Cristina Ormani vous racontera l’histoire du tango à travers ses chansons\, vous suivrez l’évolution de la poésie\, de la musique et de la danse. \nOffrez-vous un moment d’évasion et de bonheur avec cet art si contemporain\, le tango argentin. Un concert passionnant et passionné pour vous réchauffer au cœur de l’hiver. \n \nLe Tango argentin est un art d’appréhender la vie\, il est musique\, danse\, poésie\, art de vivre. Les plus grands auteurs argentins ont écrits pour le tango\, Homero Manzi\, Catulo Castillo\, Enrique Santo Discepolo\, Jorge Luis Borges\, Eladia Blasquez\,sans oublier\, l’uruguayen Horacio Ferrer devenu l’inséparable complice d’Astor Piazzolla\, l’enfant terrible parmi les enfants terribles du tango. \nCristina Ormani\, chanteuse\, danseuse et comédienne d’origine argentine a créé avec Los Tigres Tango\, un groupe de tango incontournable à l’origine de nombreuses créations de théâtre musical et de concerts théâtralisés. . Sa voix profonde saisit l’essence du tango et Serge Salacroup\, pianiste émérite\, l’accompagne avec fougue dans toutes les nuances du tango argentin.\nAvec Tango Incarnation\, ils vous proposent un voyage pour essayer de capturer l’essence du tango à travers ses mélodies\, ses rythmiques complexes et ses magnifiques chansons. Cristina Ormani a adapté quelques-uns de ces beaux poèmes chantés en espagnol mais dits en français pour vous permettre de cueillir les riches confidences du tango sans la barrière de la langue. \n \nEntrée 15 € – adhérent : 12 € / Tarif étudiant 10 €\nRéservation/billetterie : https://www.billetweb.fr/histoire-du-tango-en-chanson
URL:https://www.galerie-depardieu.com/event/histoire-du-tango-en-chanson-par-los-tigres-tango-duo/
LOCATION:Galerie Depardieu\, 6 rue du docteur Jacques Guidoni\, Nice\, 06000\, France
CATEGORIES:Agenda,Concert
ORGANIZER;CN="Association ARTEP":MAILTO:artep.association@gmail.com
END:VEVENT
END:VCALENDAR