BEGIN:VCALENDAR
VERSION:2.0
PRODID:-//Galerie Depardieu - ECPv6.15.20//NONSGML v1.0//EN
CALSCALE:GREGORIAN
METHOD:PUBLISH
X-WR-CALNAME:Galerie Depardieu
X-ORIGINAL-URL:https://www.galerie-depardieu.com
X-WR-CALDESC:Évènements pour Galerie Depardieu
REFRESH-INTERVAL;VALUE=DURATION:PT1H
X-Robots-Tag:noindex
X-PUBLISHED-TTL:PT1H
BEGIN:VTIMEZONE
TZID:Europe/Paris
BEGIN:DAYLIGHT
TZOFFSETFROM:+0100
TZOFFSETTO:+0200
TZNAME:CEST
DTSTART:20230326T010000
END:DAYLIGHT
BEGIN:STANDARD
TZOFFSETFROM:+0200
TZOFFSETTO:+0100
TZNAME:CET
DTSTART:20231029T010000
END:STANDARD
BEGIN:DAYLIGHT
TZOFFSETFROM:+0100
TZOFFSETTO:+0200
TZNAME:CEST
DTSTART:20240331T010000
END:DAYLIGHT
BEGIN:STANDARD
TZOFFSETFROM:+0200
TZOFFSETTO:+0100
TZNAME:CET
DTSTART:20241027T010000
END:STANDARD
BEGIN:DAYLIGHT
TZOFFSETFROM:+0100
TZOFFSETTO:+0200
TZNAME:CEST
DTSTART:20250330T010000
END:DAYLIGHT
BEGIN:STANDARD
TZOFFSETFROM:+0200
TZOFFSETTO:+0100
TZNAME:CET
DTSTART:20251026T010000
END:STANDARD
END:VTIMEZONE
BEGIN:VEVENT
DTSTART;TZID=Europe/Paris:20241213T201500
DTEND;TZID=Europe/Paris:20241213T223000
DTSTAMP:20260425T031331
CREATED:20241126T172355Z
LAST-MODIFIED:20241126T172355Z
UID:4822-1734120900-1734129000@www.galerie-depardieu.com
SUMMARY:Diwan duo
DESCRIPTION:Vendredi 13 décembre 2024 à 20h15\nDiwan duo \nLe duo Diwan est née d’une collaboration entre deux musiciens :\nMohamed Beddiar\, compositeur\, flutiste et pianiste\, et\nAbd Chakur Boussougou\, compositeur\, contrebassiste Luthiste et multi-instrumentiste. \n \n« ..La musique du Diwan est l’esprit et la vision contemplative du monde et de ce qu’il contient de vivant et de poétique.L’expérience solide de nos deux multi-instrumentistes et compositeurs nous offre un répertoire au-delà de toute attente. \nUne réunion inspirée\, à fleur de peau\, tout en velours\, accompagnant l’auditeur vers une sérénité intérieure\, un bien-être\, un voyage musical intemporel unique et surprenant évoquant à travers leur répertoire\, de compositions originales\, les gammes arabes\, touareg\, riwan/diwan/Nüba sikka Nord-Africaines\, Berbères\, flamenco avec les harmonies classiques et jazz du piano toujours riches et élégantes… » \nhttps://mediterraneanjazzp.wixsite.com/diwanduo/musique \nEntrée 15 € – adhérent : 12 € / Tarif étudiant 10 €\nRéservation/billetterie : https://www.billetweb.fr/diwan-duo
URL:https://www.galerie-depardieu.com/event/diwan-duo/
LOCATION:Galerie Depardieu\, 6 rue du docteur Jacques Guidoni\, Nice\, 06000\, France
CATEGORIES:Agenda,Concert
ORGANIZER;CN="Association ARTEP":MAILTO:artep.association@gmail.com
END:VEVENT
END:VCALENDAR