BEGIN:VCALENDAR
VERSION:2.0
PRODID:-//Galerie Depardieu - ECPv6.15.20//NONSGML v1.0//EN
CALSCALE:GREGORIAN
METHOD:PUBLISH
X-WR-CALNAME:Galerie Depardieu
X-ORIGINAL-URL:https://www.galerie-depardieu.com
X-WR-CALDESC:Évènements pour Galerie Depardieu
REFRESH-INTERVAL;VALUE=DURATION:PT1H
X-Robots-Tag:noindex
X-PUBLISHED-TTL:PT1H
BEGIN:VTIMEZONE
TZID:Europe/Paris
BEGIN:DAYLIGHT
TZOFFSETFROM:+0100
TZOFFSETTO:+0200
TZNAME:CEST
DTSTART:20230326T010000
END:DAYLIGHT
BEGIN:STANDARD
TZOFFSETFROM:+0200
TZOFFSETTO:+0100
TZNAME:CET
DTSTART:20231029T010000
END:STANDARD
BEGIN:DAYLIGHT
TZOFFSETFROM:+0100
TZOFFSETTO:+0200
TZNAME:CEST
DTSTART:20240331T010000
END:DAYLIGHT
BEGIN:STANDARD
TZOFFSETFROM:+0200
TZOFFSETTO:+0100
TZNAME:CET
DTSTART:20241027T010000
END:STANDARD
BEGIN:DAYLIGHT
TZOFFSETFROM:+0100
TZOFFSETTO:+0200
TZNAME:CEST
DTSTART:20250330T010000
END:DAYLIGHT
BEGIN:STANDARD
TZOFFSETFROM:+0200
TZOFFSETTO:+0100
TZNAME:CET
DTSTART:20251026T010000
END:STANDARD
END:VTIMEZONE
BEGIN:VEVENT
DTSTART;TZID=Europe/Paris:20241206T201500
DTEND;TZID=Europe/Paris:20241206T223000
DTSTAMP:20260425T031152
CREATED:20241126T172003Z
LAST-MODIFIED:20241126T172003Z
UID:4816-1733516100-1733524200@www.galerie-depardieu.com
SUMMARY:Duo Trait d’union
DESCRIPTION:Vendredi 6 décembre 2024 à 20h15\nDuo Trait d’union\n«  Un concert en improvisation complète » \nJean-François Trubert piano\nMikko-Ville Luolajan-Mikkola violon \nrpt\nLa musique de Mikko-Ville et de Jean-François est à l’image de leur rencontre : née du hasard et de la curiosité\, et du désir de jouer ensemble. Trait d’union\, comme ceux qui lient leurs prénoms respectifs et qui les relient dans l’action musicale : sous le signe de l’exploration et de la créativité sans frontières\, déracinés mais ancrés dans le plaisir du son et des accords. \nLaissez-vous emporter dans une expérience libre et pleine d’émotions : un concert en improvisation complète\, sans partitions ni supports\, seulement dans l’instinct du moment. \nEntrée 12 € / adhérent : 10 € / Tarif étudiant 8 €\nRéservation/billetterie : https://www.billetweb.fr/duo-trait-d-union
URL:https://www.galerie-depardieu.com/event/duo-trait-dunion/
LOCATION:Galerie Depardieu\, 6 rue du docteur Jacques Guidoni\, Nice\, 06000\, France
CATEGORIES:Agenda,Concert
ORGANIZER;CN="Association ARTEP":MAILTO:artep.association@gmail.com
END:VEVENT
END:VCALENDAR