BEGIN:VCALENDAR
VERSION:2.0
PRODID:-//Galerie Depardieu - ECPv6.15.20//NONSGML v1.0//EN
CALSCALE:GREGORIAN
METHOD:PUBLISH
X-WR-CALNAME:Galerie Depardieu
X-ORIGINAL-URL:https://www.galerie-depardieu.com
X-WR-CALDESC:Évènements pour Galerie Depardieu
REFRESH-INTERVAL;VALUE=DURATION:PT1H
X-Robots-Tag:noindex
X-PUBLISHED-TTL:PT1H
BEGIN:VTIMEZONE
TZID:Europe/Paris
BEGIN:DAYLIGHT
TZOFFSETFROM:+0100
TZOFFSETTO:+0200
TZNAME:CEST
DTSTART:20230326T010000
END:DAYLIGHT
BEGIN:STANDARD
TZOFFSETFROM:+0200
TZOFFSETTO:+0100
TZNAME:CET
DTSTART:20231029T010000
END:STANDARD
BEGIN:DAYLIGHT
TZOFFSETFROM:+0100
TZOFFSETTO:+0200
TZNAME:CEST
DTSTART:20240331T010000
END:DAYLIGHT
BEGIN:STANDARD
TZOFFSETFROM:+0200
TZOFFSETTO:+0100
TZNAME:CET
DTSTART:20241027T010000
END:STANDARD
BEGIN:DAYLIGHT
TZOFFSETFROM:+0100
TZOFFSETTO:+0200
TZNAME:CEST
DTSTART:20250330T010000
END:DAYLIGHT
BEGIN:STANDARD
TZOFFSETFROM:+0200
TZOFFSETTO:+0100
TZNAME:CET
DTSTART:20251026T010000
END:STANDARD
END:VTIMEZONE
BEGIN:VEVENT
DTSTART;TZID=Europe/Paris:20241123T201500
DTEND;TZID=Europe/Paris:20241123T223000
DTSTAMP:20260425T045207
CREATED:20241031T190642Z
LAST-MODIFIED:20241031T190642Z
UID:4799-1732392900-1732401000@www.galerie-depardieu.com
SUMMARY:AUGUSTE quartet Spécial "Québec Jazz"
DESCRIPTION:Samedi 23 Novembre 2024 à 20h15\nAUGUSTE quartet\nSpécial « Québec Jazz » \nMario Allard: saxophone alto et soprano saxophone ; \nMarie-Fatima Rudolf : piano\, compositions ; \nAlain Bédard: contrebasse\, compositions ; \nMichel Lambert: batterie compositions. \nJAZZ LAB ORCHESTRA STUDIO PICOLO\nDepuis 2 décennies\, Alain Bédard\, poursuit une carrière fort active avec L’AUGUSTE quartet\, qu’il promène sur tous les continents. Jouant que sa musique originale\, le groupe a évolué dans des dizaines de pays sur 4 continents en donnant des centaines de concerts en Chine\, au Japon\, en Corée du Sud\, au Mexique\, aux USA\, en Italie\, en Hongrie\, en Irlande\, au UK\, en Belgique\, au Luxembourg\, en Estonie\, en Pologne\, en Russie\, en Hollande\, en Allemagne\, au Maroc\, en Espagne\, au Portugal\, en France et surtout au Canada (toutes les grandes villes et presque tous les festivals de jazz).\nIl a édité 6 albums dont les CD “Auguste”\, “Sphère Réflexion”\, “Bluesy Lunedi“ nominé à l’ADISQ et au prix JUNO dans la catégorie meilleur album de l’année 2010\, “Homos Pugnax”\, “Circum Continum” et « Exalta Calma » Hit Couleurs jazz (Fr). L’Auguste quartet prépare actuellement la musique d’un nouvel album sous la forme de « Particules Sonores » quantiquement\, inquantifiable dans le temps et l’espace. \n \nEntrée 15 € – adhérent : 12 € / Tarif étudiant 10 €
URL:https://www.galerie-depardieu.com/event/auguste-quartet-special-quebec-jazz/
LOCATION:Galerie Depardieu\, 6 rue du docteur Jacques Guidoni\, Nice\, 06000\, France
CATEGORIES:Agenda,Concert
ORGANIZER;CN="Association ARTEP":MAILTO:artep.association@gmail.com
END:VEVENT
END:VCALENDAR