BEGIN:VCALENDAR
VERSION:2.0
PRODID:-//Galerie Depardieu - ECPv6.15.20//NONSGML v1.0//EN
CALSCALE:GREGORIAN
METHOD:PUBLISH
X-WR-CALNAME:Galerie Depardieu
X-ORIGINAL-URL:https://www.galerie-depardieu.com
X-WR-CALDESC:Évènements pour Galerie Depardieu
REFRESH-INTERVAL;VALUE=DURATION:PT1H
X-Robots-Tag:noindex
X-PUBLISHED-TTL:PT1H
BEGIN:VTIMEZONE
TZID:Europe/Paris
BEGIN:DAYLIGHT
TZOFFSETFROM:+0100
TZOFFSETTO:+0200
TZNAME:CEST
DTSTART:20230326T010000
END:DAYLIGHT
BEGIN:STANDARD
TZOFFSETFROM:+0200
TZOFFSETTO:+0100
TZNAME:CET
DTSTART:20231029T010000
END:STANDARD
BEGIN:DAYLIGHT
TZOFFSETFROM:+0100
TZOFFSETTO:+0200
TZNAME:CEST
DTSTART:20240331T010000
END:DAYLIGHT
BEGIN:STANDARD
TZOFFSETFROM:+0200
TZOFFSETTO:+0100
TZNAME:CET
DTSTART:20241027T010000
END:STANDARD
BEGIN:DAYLIGHT
TZOFFSETFROM:+0100
TZOFFSETTO:+0200
TZNAME:CEST
DTSTART:20250330T010000
END:DAYLIGHT
BEGIN:STANDARD
TZOFFSETFROM:+0200
TZOFFSETTO:+0100
TZNAME:CET
DTSTART:20251026T010000
END:STANDARD
END:VTIMEZONE
BEGIN:VEVENT
DTSTART;TZID=Europe/Paris:20240615T201500
DTEND;TZID=Europe/Paris:20240615T223000
DTSTAMP:20260425T124401
CREATED:20240605T145322Z
LAST-MODIFIED:20240605T145322Z
UID:4673-1718482500-1718490600@www.galerie-depardieu.com
SUMMARY:Jembi & To // Concert compositions originales pop/rock/jazz/latino
DESCRIPTION:Samedi 15 Juin 2024 à 20h15\nJembi & To\nConcert compositions originales pop/rock/jazz/latino \n \nJembi est auteur\, compositeur\, interprète et se produit sur scène en jouant de plusieurs instruments : guitare\, saxophone\, clarinette\, trompette\, ﬂute traversière\, harmonica\, violon… sur des compositions personnelles françaises Jazz/ latino /pop/rock.\nIl est accompagné d’un bassiste\, guitariste Roberto Rositano.\nJembi a réalisé un album il y a une vingtaine d’années « Hotel San Sébastian ».\nConcert compositions originales pop/rock/jazz/latino \n« L’artiste multi-instrumentiste nous a véritablement séduit de par son charisme et son talent … des textes originaux sur des rythmes variés… l’ambiance était au rendez-vous » La comedia \n \nEntrée 12 € – adhérent : 10 € / Tarif étudiant 10 € – étudiant adhérent 8 €
URL:https://www.galerie-depardieu.com/event/jembi-to-concert-compositions-originales-pop-rock-jazz-latino/
LOCATION:Galerie Depardieu\, 6 rue du docteur Jacques Guidoni\, Nice\, 06000\, France
CATEGORIES:Agenda,Concert
ORGANIZER;CN="Association ARTEP":MAILTO:artep.association@gmail.com
END:VEVENT
END:VCALENDAR