BEGIN:VCALENDAR
VERSION:2.0
PRODID:-//Galerie Depardieu - ECPv6.15.20//NONSGML v1.0//EN
CALSCALE:GREGORIAN
METHOD:PUBLISH
X-ORIGINAL-URL:https://www.galerie-depardieu.com
X-WR-CALDESC:Évènements pour Galerie Depardieu
REFRESH-INTERVAL;VALUE=DURATION:PT1H
X-Robots-Tag:noindex
X-PUBLISHED-TTL:PT1H
BEGIN:VTIMEZONE
TZID:Europe/Paris
BEGIN:DAYLIGHT
TZOFFSETFROM:+0100
TZOFFSETTO:+0200
TZNAME:CEST
DTSTART:20230326T010000
END:DAYLIGHT
BEGIN:STANDARD
TZOFFSETFROM:+0200
TZOFFSETTO:+0100
TZNAME:CET
DTSTART:20231029T010000
END:STANDARD
BEGIN:DAYLIGHT
TZOFFSETFROM:+0100
TZOFFSETTO:+0200
TZNAME:CEST
DTSTART:20240331T010000
END:DAYLIGHT
BEGIN:STANDARD
TZOFFSETFROM:+0200
TZOFFSETTO:+0100
TZNAME:CET
DTSTART:20241027T010000
END:STANDARD
BEGIN:DAYLIGHT
TZOFFSETFROM:+0100
TZOFFSETTO:+0200
TZNAME:CEST
DTSTART:20250330T010000
END:DAYLIGHT
BEGIN:STANDARD
TZOFFSETFROM:+0200
TZOFFSETTO:+0100
TZNAME:CET
DTSTART:20251026T010000
END:STANDARD
END:VTIMEZONE
BEGIN:VEVENT
DTSTART;TZID=Europe/Paris:20240607T201500
DTEND;TZID=Europe/Paris:20240607T223000
DTSTAMP:20260425T124639
CREATED:20240605T144420Z
LAST-MODIFIED:20240605T144448Z
UID:4663-1717791300-1717799400@www.galerie-depardieu.com
SUMMARY:Sharron McLeod & Jo Kaiat Duo Jazz
DESCRIPTION:Vendredi 7 Juin 2024 à 20h15\nSharron McLeod & Jo Kaiat\nDuo Jazz \nSharron McLeod chant\nJo Kaiat piano \n \nSharron McLeod est une chanteuse canadienne de jazz. Elle a joué et vécu à Toronto\, Vancouver\, New York\, et aujourd’hui Nice.\n‘Souvenirs de New York’ Sharron McLeod et moi vous amènerons vivre ce que nous avons vécu là-bas (chacun de notre côté)\, avec beaucoup d authenticité … » Jo Kaiat \n« Chanter juste avec un autre musicien\, c’est intime. Nos deux imaginations créent un monde que l’on partage entre nous et avec le public. Le public devient une partie de ce que nous faisons. C’est beau. »\nCette soirée sera un duo voix et piano avec l’excellent pianiste niçois Jo Kaiat qui est connu pour sa creativité et ses compositions originales. Au programme\, des standards classiques et des compositions du jazz.\nLes chansons classiques sont jouées d’une façon unique\, c’est une aventure. \nEntrée 12 € – adhérent : 10 € / Tarif étudiant 10 € – étudiant adhérent 8 €
URL:https://www.galerie-depardieu.com/event/sharron-mcleod-jo-kaiat-duo-jazz/
LOCATION:Galerie Depardieu\, 6 rue du docteur Jacques Guidoni\, Nice\, 06000\, France
CATEGORIES:Agenda,Concert
ORGANIZER;CN="Association ARTEP":MAILTO:artep.association@gmail.com
END:VEVENT
END:VCALENDAR