BEGIN:VCALENDAR
VERSION:2.0
PRODID:-//Galerie Depardieu - ECPv6.15.20//NONSGML v1.0//EN
CALSCALE:GREGORIAN
METHOD:PUBLISH
X-ORIGINAL-URL:https://www.galerie-depardieu.com
X-WR-CALDESC:Évènements pour Galerie Depardieu
REFRESH-INTERVAL;VALUE=DURATION:PT1H
X-Robots-Tag:noindex
X-PUBLISHED-TTL:PT1H
BEGIN:VTIMEZONE
TZID:Europe/Paris
BEGIN:DAYLIGHT
TZOFFSETFROM:+0100
TZOFFSETTO:+0200
TZNAME:CEST
DTSTART:20230326T010000
END:DAYLIGHT
BEGIN:STANDARD
TZOFFSETFROM:+0200
TZOFFSETTO:+0100
TZNAME:CET
DTSTART:20231029T010000
END:STANDARD
BEGIN:DAYLIGHT
TZOFFSETFROM:+0100
TZOFFSETTO:+0200
TZNAME:CEST
DTSTART:20240331T010000
END:DAYLIGHT
BEGIN:STANDARD
TZOFFSETFROM:+0200
TZOFFSETTO:+0100
TZNAME:CET
DTSTART:20241027T010000
END:STANDARD
BEGIN:DAYLIGHT
TZOFFSETFROM:+0100
TZOFFSETTO:+0200
TZNAME:CEST
DTSTART:20250330T010000
END:DAYLIGHT
BEGIN:STANDARD
TZOFFSETFROM:+0200
TZOFFSETTO:+0100
TZNAME:CET
DTSTART:20251026T010000
END:STANDARD
END:VTIMEZONE
BEGIN:VEVENT
DTSTART;TZID=Europe/Paris:20240427T201500
DTEND;TZID=Europe/Paris:20240427T223000
DTSTAMP:20260425T155247
CREATED:20240426T165936Z
LAST-MODIFIED:20240426T165936Z
UID:4650-1714248900-1714257000@www.galerie-depardieu.com
SUMMARY:BEHIA SWING PROJECT
DESCRIPTION:Samedi 27 Avril 2024 à 20h15\nBEHIA SWING PROJECT \nBehia au chant\,\nCharly Laz au piano\, \nPatrick Barbato à la contrebasse\, \nAndré Guiglion à la batterie. \n \nLe concert BehiaSwing Project raconte l’évolution du jazz\, personnifiée par les célébrités des années 30 à nos jours.\nAu cours de ce concert\, Behia replace certains morceaux cultes dans le contexte souvent passionnant de la vie des auteurs et interprètes présentés.\nMélodies\, blues et swing festifs avec des musiciens qui apportent leur touche de modernisme aux grands thèmes et standards.\nSes enregistrements CD ainsi que ses concerts sur de prestigieuses scènes françaises et étrangères ont été accueillis élogieusement par les chroniqueurs de la presse jazz. \n« Voix chaude\, bien timbrée se pliant à toutes les nuances\, indéniable sens du swing\,\nBehia détaille avec sensibilité les classiques\, bien secondée par un solide quartet. »\nJacques Aboucaya \, JAZZMAGAZINE. \n« Une maitrise extraordinaire de la voix et des mélodies. Behia est une suprême\n« entertainer » au sens noble du terme. »\nMichel Delorme\, Membre de l ‘Académie des victoires du Jazz . \n \nEntrée 15 € – adhérent : 12 € / Tarif étudiant 10 €
URL:https://www.galerie-depardieu.com/event/behia-swing-project/
LOCATION:Galerie Depardieu\, 6 rue du docteur Jacques Guidoni\, Nice\, 06000\, France
CATEGORIES:Agenda,Concert
ORGANIZER;CN="Association ARTEP":MAILTO:artep.association@gmail.com
END:VEVENT
END:VCALENDAR