BEGIN:VCALENDAR
VERSION:2.0
PRODID:-//Galerie Depardieu - ECPv6.15.20//NONSGML v1.0//EN
CALSCALE:GREGORIAN
METHOD:PUBLISH
X-WR-CALNAME:Galerie Depardieu
X-ORIGINAL-URL:https://www.galerie-depardieu.com
X-WR-CALDESC:Évènements pour Galerie Depardieu
REFRESH-INTERVAL;VALUE=DURATION:PT1H
X-Robots-Tag:noindex
X-PUBLISHED-TTL:PT1H
BEGIN:VTIMEZONE
TZID:Europe/Paris
BEGIN:DAYLIGHT
TZOFFSETFROM:+0100
TZOFFSETTO:+0200
TZNAME:CEST
DTSTART:20230326T010000
END:DAYLIGHT
BEGIN:STANDARD
TZOFFSETFROM:+0200
TZOFFSETTO:+0100
TZNAME:CET
DTSTART:20231029T010000
END:STANDARD
BEGIN:DAYLIGHT
TZOFFSETFROM:+0100
TZOFFSETTO:+0200
TZNAME:CEST
DTSTART:20240331T010000
END:DAYLIGHT
BEGIN:STANDARD
TZOFFSETFROM:+0200
TZOFFSETTO:+0100
TZNAME:CET
DTSTART:20241027T010000
END:STANDARD
BEGIN:DAYLIGHT
TZOFFSETFROM:+0100
TZOFFSETTO:+0200
TZNAME:CEST
DTSTART:20250330T010000
END:DAYLIGHT
BEGIN:STANDARD
TZOFFSETFROM:+0200
TZOFFSETTO:+0100
TZNAME:CET
DTSTART:20251026T010000
END:STANDARD
END:VTIMEZONE
BEGIN:VEVENT
DTSTART;TZID=Europe/Paris:20240420T201500
DTEND;TZID=Europe/Paris:20240420T223000
DTSTAMP:20260425T155018
CREATED:20240329T195246Z
LAST-MODIFIED:20240329T195246Z
UID:4616-1713644100-1713652200@www.galerie-depardieu.com
SUMMARY:Badou Quartet Class'A
DESCRIPTION:Samedi 20 Avril 2024 à 20h15\nBadou Quartet Class’A \nBADOU chant & percu\nALAIN DESHAYES contrebasse\nPAPY MALLO guitare\nSEBASTIEN PIROMALLI guitare \n \nBadou & la Class’A est un groupe de musique du monde d’origine du Sénégal. Formé en 2022\, le groupe est connu pour son style unique mêlant des influences afrobeat\, reggae\, jazz et soul. \nBadou MANDIANG est un chanteur et compositeur talentueux. Avec une voix puissante et un talent charismatique\, depuis ses débuts\, Badou & la Class’A ont parcouru un long chemin. Le groupe est composé de noms de scènes nationales et internationales\, captivant les fous par leur énergie contagieuse et leurs performances dynamiques. Les concerts sont décrits comme des expériences inexplicables\, ou le public est transporté dans un voyage musical qui traverse les rythmes de l’Afrique et les sonorités modernes. \nNos chansons sont souvent empreintes de messages positifs et engagés\, abordant des thèmes tels que l’amour\, l’unité\, la paix et l’espoir. La musique reflète l’héritage culturel et la volonté de promouvoir la diversité et l’inclusion. \n \nLe groupe est une collaboration à parts égales avec d’autres artistes de renom dans le domaine des musiques du monde\, créée par les ponts entre différentes cultures et genres musicaux. \nNotre ouverture d’esprit et notre volonté de repousser les frontières musicales ont contribué à notre popularité croissante et à notre reconnaissance dans l’industrie musicale. \nBadou & la Class’A continuent de produire et en projet d’enregistrer de nouvelles musiques\, explorant les nouveaux horizons sonores. Notre passion pour la musique du monde et notre dévouement à créer une connexion émotionnelle avec notre public font de nous un groupe incontournable sur la scène internationale de la musique Afro fusion. \nAvec notre talent indéniable\, notre énergie contagieuse et notre message positif\, Badou & la Class’A est prêt à conquérir le cœur des amateurs de musique du monde\, partout dans le monde. \nEntrée 15 € – adhérent : 12 € / Tarif étudiant 10 €
URL:https://www.galerie-depardieu.com/event/badou-quartet-classa/
LOCATION:Galerie Depardieu\, 6 rue du docteur Jacques Guidoni\, Nice\, 06000\, France
CATEGORIES:Agenda,Concert
ORGANIZER;CN="Association ARTEP":MAILTO:artep.association@gmail.com
END:VEVENT
END:VCALENDAR