BEGIN:VCALENDAR
VERSION:2.0
PRODID:-//Galerie Depardieu - ECPv6.15.20//NONSGML v1.0//EN
CALSCALE:GREGORIAN
METHOD:PUBLISH
X-WR-CALNAME:Galerie Depardieu
X-ORIGINAL-URL:https://www.galerie-depardieu.com
X-WR-CALDESC:Évènements pour Galerie Depardieu
REFRESH-INTERVAL;VALUE=DURATION:PT1H
X-Robots-Tag:noindex
X-PUBLISHED-TTL:PT1H
BEGIN:VTIMEZONE
TZID:Europe/Paris
BEGIN:DAYLIGHT
TZOFFSETFROM:+0100
TZOFFSETTO:+0200
TZNAME:CEST
DTSTART:20230326T010000
END:DAYLIGHT
BEGIN:STANDARD
TZOFFSETFROM:+0200
TZOFFSETTO:+0100
TZNAME:CET
DTSTART:20231029T010000
END:STANDARD
BEGIN:DAYLIGHT
TZOFFSETFROM:+0100
TZOFFSETTO:+0200
TZNAME:CEST
DTSTART:20240331T010000
END:DAYLIGHT
BEGIN:STANDARD
TZOFFSETFROM:+0200
TZOFFSETTO:+0100
TZNAME:CET
DTSTART:20241027T010000
END:STANDARD
BEGIN:DAYLIGHT
TZOFFSETFROM:+0100
TZOFFSETTO:+0200
TZNAME:CEST
DTSTART:20250330T010000
END:DAYLIGHT
BEGIN:STANDARD
TZOFFSETFROM:+0200
TZOFFSETTO:+0100
TZNAME:CET
DTSTART:20251026T010000
END:STANDARD
END:VTIMEZONE
BEGIN:VEVENT
DTSTART;TZID=Europe/Paris:20240419T201500
DTEND;TZID=Europe/Paris:20240419T223000
DTSTAMP:20260425T155018
CREATED:20240329T184318Z
LAST-MODIFIED:20240329T184318Z
UID:4613-1713557700-1713565800@www.galerie-depardieu.com
SUMMARY:PounkIPA Jazz trio
DESCRIPTION:Vendredi 19 Avril 2024 à 20h15\nPounkIPA Jazz trio \nNastasia Fidanza chant\nAndréas Schedl piano\nGilles Baud contrebasse \nLe groupe PounkIPA est un trio de jazz compose d’une chanteuse\, d’un clavier et d’un contrebassiste. Il propose\, a travers l’association amajazz06 des prestations musicales de qualite\, Le repertoire est compose de standards de jazz (d’Ella Fitzgerald a Norah Jones en passant par Fats Waller ou Nina Simone) ainsi que des reprises « jazzy » de standards pop rock (Cure\, Police\, Sade par exemple.) \n \nLe groupe existe maintenant depuis plusieurs annees\, avec une experience de la scene\, a travers de\nnombreux concerts\, notamment ses participations aux festivals « jazz sous la bigaradiers » a La Gaude\, ou les « journees du patrimoine » a Menton. \n \nNastasia Fidanza : possedant une voix exceptionnelle\, elle chante depuis son enfance. Apres s’etre\nproduite en duo dans de nombreux pubs de la cote\, elle decouvre le jazz a travers notamment Ella\nFitzgerald\, Billie Holyday\, ou Madeleine Peyroux et se passionne pour cette musique. Elle participe a la formation du trio PounkIPA en 2019.\nAndreas Schedl : apres avoir etudie le piano classique\, il decouvre le jazz et decide de se consacrer a ce style de musique. Il joue avec de nombreux musiciens\, notamment au cours de ses voyages\, avant de fonder un duo avec Gilles en 2015. Seduit par la voix de Nastasia\, il fonde egalement avec beaucoup d’enthousiasme le trio PounkIPA.\nGilles Baud : Apres la guitare classique\, il joue de la basse electrique dans des formations tres eclectiques (variete\, rock progressif\, folk\, blues) avant de s’orienter vers le jazz. Il decouvre la contrebasse il y a quelques annees\, ce qui accentue sa passion pour le jazz. Il donne beaucoup de concerts\, jouant dans differentes formations\, dont le trio PounkIPA qu’il affectionne particulierement. \nEntrée 15 € – adhérent : 12 € / Tarif étudiant 10 €
URL:https://www.galerie-depardieu.com/event/pounkipa-jazz-trio-2/
LOCATION:Galerie Depardieu\, 6 rue du docteur Jacques Guidoni\, Nice\, 06000\, France
CATEGORIES:Agenda,Concert
ORGANIZER;CN="Association ARTEP":MAILTO:artep.association@gmail.com
END:VEVENT
END:VCALENDAR