BEGIN:VCALENDAR
VERSION:2.0
PRODID:-//Galerie Depardieu - ECPv6.15.20//NONSGML v1.0//EN
CALSCALE:GREGORIAN
METHOD:PUBLISH
X-WR-CALNAME:Galerie Depardieu
X-ORIGINAL-URL:https://www.galerie-depardieu.com
X-WR-CALDESC:Évènements pour Galerie Depardieu
REFRESH-INTERVAL;VALUE=DURATION:PT1H
X-Robots-Tag:noindex
X-PUBLISHED-TTL:PT1H
BEGIN:VTIMEZONE
TZID:Europe/Paris
BEGIN:DAYLIGHT
TZOFFSETFROM:+0100
TZOFFSETTO:+0200
TZNAME:CEST
DTSTART:20230326T010000
END:DAYLIGHT
BEGIN:STANDARD
TZOFFSETFROM:+0200
TZOFFSETTO:+0100
TZNAME:CET
DTSTART:20231029T010000
END:STANDARD
BEGIN:DAYLIGHT
TZOFFSETFROM:+0100
TZOFFSETTO:+0200
TZNAME:CEST
DTSTART:20240331T010000
END:DAYLIGHT
BEGIN:STANDARD
TZOFFSETFROM:+0200
TZOFFSETTO:+0100
TZNAME:CET
DTSTART:20241027T010000
END:STANDARD
BEGIN:DAYLIGHT
TZOFFSETFROM:+0100
TZOFFSETTO:+0200
TZNAME:CEST
DTSTART:20250330T010000
END:DAYLIGHT
BEGIN:STANDARD
TZOFFSETFROM:+0200
TZOFFSETTO:+0100
TZNAME:CET
DTSTART:20251026T010000
END:STANDARD
END:VTIMEZONE
BEGIN:VEVENT
DTSTART;TZID=Europe/Paris:20240406T201500
DTEND;TZID=Europe/Paris:20240406T223000
DTSTAMP:20260425T155018
CREATED:20240329T183618Z
LAST-MODIFIED:20240329T183618Z
UID:4604-1712434500-1712442600@www.galerie-depardieu.com
SUMMARY:Dans mon piano Concert piano-voix de Sophie Tavera
DESCRIPTION:Samedi 6 avril 2024 à 20h15\nDans mon piano\nConcert piano-voix de Sophie Tavera.\nAccompagnée de Christophe Antipas\, aux percussions \nChansons françaises\, compositions originales. Influences : Chopin\, Léo Ferré\, Gainsbourg…. \nPour Sophie Tavera\, vivre sans piano c’est être un marin sans voile\, sans gouvernail\, c’est errer dans la vie sans faire le point sur les étoiles….\nPiano\, amant \, compagnon avec lui elle va sa route\, sous d’autres doigts\, d’ivoire noir et blanc.\n(Franck Thomas\, parolier de Berliner\, Jonas\, Polnareﬀ….) \nFièvreuse brune vibrante des mots et notes qu’elle écrit\, Sophie Tavera donne de nouveaux frissons à la passion. (Hélène Hazera \, France culture) \nSophie Tavera\, la femme née dans un piano \n \nEntrée 12 € – adhérent : 10 € / Tarif étudiant 10 € – étudiant adhérent 8 €
URL:https://www.galerie-depardieu.com/event/dans-mon-piano-concert-piano-voix-de-sophie-tavera-2/
LOCATION:Galerie Depardieu\, 6 rue du docteur Jacques Guidoni\, Nice\, 06000\, France
CATEGORIES:Agenda,Concert
ORGANIZER;CN="Association ARTEP":MAILTO:artep.association@gmail.com
END:VEVENT
END:VCALENDAR