BEGIN:VCALENDAR
VERSION:2.0
PRODID:-//Galerie Depardieu - ECPv6.15.20//NONSGML v1.0//EN
CALSCALE:GREGORIAN
METHOD:PUBLISH
X-ORIGINAL-URL:https://www.galerie-depardieu.com
X-WR-CALDESC:Évènements pour Galerie Depardieu
REFRESH-INTERVAL;VALUE=DURATION:PT1H
X-Robots-Tag:noindex
X-PUBLISHED-TTL:PT1H
BEGIN:VTIMEZONE
TZID:Europe/Paris
BEGIN:DAYLIGHT
TZOFFSETFROM:+0100
TZOFFSETTO:+0200
TZNAME:CEST
DTSTART:20230326T010000
END:DAYLIGHT
BEGIN:STANDARD
TZOFFSETFROM:+0200
TZOFFSETTO:+0100
TZNAME:CET
DTSTART:20231029T010000
END:STANDARD
BEGIN:DAYLIGHT
TZOFFSETFROM:+0100
TZOFFSETTO:+0200
TZNAME:CEST
DTSTART:20240331T010000
END:DAYLIGHT
BEGIN:STANDARD
TZOFFSETFROM:+0200
TZOFFSETTO:+0100
TZNAME:CET
DTSTART:20241027T010000
END:STANDARD
BEGIN:DAYLIGHT
TZOFFSETFROM:+0100
TZOFFSETTO:+0200
TZNAME:CEST
DTSTART:20250330T010000
END:DAYLIGHT
BEGIN:STANDARD
TZOFFSETFROM:+0200
TZOFFSETTO:+0100
TZNAME:CET
DTSTART:20251026T010000
END:STANDARD
END:VTIMEZONE
BEGIN:VEVENT
DTSTART;TZID=Europe/Paris:20240308T201500
DTEND;TZID=Europe/Paris:20240308T223000
DTSTAMP:20260425T172845
CREATED:20240224T185354Z
LAST-MODIFIED:20240224T185354Z
UID:4551-1709928900-1709937000@www.galerie-depardieu.com
SUMMARY:LE VOYAGE D’HIVER Franz Schubert Récital
DESCRIPTION:Vendredi 8 Mars 2024 à 20h15\nLE VOYAGE D’HIVER Récital\nFranz Schubert \nchant – Jennifer Pellagaud\npiano – Julien Martineau \n \nDès les premiers accords au piano de « Gute Nacht » (« Bonne nuit ») en ouverture du cycle\, le ton est donné.\nPosée sur un rythme répété et implacable\, une voix élégiaque nous invite à l’un des voyages les plus emblématiques de l’histoire de la musique.\nVoyage poétique où la mélancolie se confond avec une forme de plaisir\, la tristesse avec la lumière\, l’introspection avec le paysage.\nVoyage initiatique que les amours et amitiés humaines déçues conduisent au dépouillement et à la solitude. Seule une parfaite communion avec la nature et le monde animal offre l’opportunité à l’auditeur-voyageur de renouer\, dans le renoncement\, avec une énergie vitale telle qu’elle sait se montrer aux portes de la mort. \nIl faut dire que cette dernière attend impatiemment le compositeur au moment où il jette ses forces physiques et morales dans la création de ce cycle\, son chef-d’œuvre absolu. Franz Schubert a 30 ans lorsqu’il met en musique vingt-quatre poèmes de Wilhelm Müller composant le Winterreise (Voyage d’hiver). Il s’éteint un an plus tard. \nLes pastilles poétiques proposées par le pianiste Julien Martineau sont une alternative à la traduction littérale des poèmes deWilhelm Müller. Elles suggèrent le sens tout en conservant le lyrisme des mots du poète. \nOriginaire de Nouvelle-Calédonie\, Jennifer Pellagaud obtient son master en Suisse à la Haute École de Musique à Fribourg.\nElle crée sur scène le premier rôle dans Le Ruisseau noir\, création de Guy-François Leuenberger et Elsa Rooke à Genève. Elle chante Sœur Blanche dans les Dialogues des carmélites\, Elle dans La Voix humaine\, Adina dans l’Elixir d’amour et Pamina dans La flûte enchantée. Elle monte La Voix humaine qu’elle donne à deux reprises en Suisse.\nElle forme avec la pianiste Juliette Aridon un duo ayant à cœur d’interpréter le répertoire du lied et de la mélodie. Elles gagnent le concours des « Jeunes Voix Buissonnières » organisé par l’EnsembleDe Caelis\, ce qui leur permet de créer leur programme « L’Orient-Express » qu’elles jouent à diverses reprises en Normandie ainsi qu’au musée des arts asiatiques à Nice.\nEnfin\, attachée à ses terres d’origines\, elle se présente comme candidate pour la Nouvelle-Calédonie au concours des Voix des Outre-mer en 2022 dont elle est finaliste à l’opéra Bastille. Elle retrouve les Voix des Outre-mer en étant sélectionnée pour le rôle d’Antonia/Giulietta dans les Contes d’Hoffman\, spectacle qui bénéficie d’une tournée actuelle dans les territoires d’Outre-mer. \nNatif de Vendée\, et après des études aux Conservatoires d’Angers (J. Lemée) et Boulogne-Billancourt (P.A. Gaye)\, Julien Martineau est admis en septembre 2001 au CNSMD de Lyon dans la classe de Hortense Cartier-Bresson et Thierry Rosbach\, reprise un an plus tard par Edson Elias. Il y achèvera son cursus en obtenant\, en juin 2005\, son Diplôme National Supérieur d’Etudes Musicales de piano\, mention très bien\, à l’unanimité\, avec les félicitations du jury.\nIl est lauréat de plusieurs concours internationaux\, Lalla Meryem (Maroc)\, Valberg (à 4 mains avec Laetitia Grisi) et du Concours International de Musique de Chambre de Lyon (avec la mezzo-soprano Anaïk Morel).\nTitulaire du Certificat d’Aptitude il enseigne le piano au CRR de Toulon avant de devenir accompagnateur au CRR de Nice. Il se produit régulièrement en musique de chambre ainsi qu’en soliste.\nSa pratique de différents styles musicaux l’amène naturellement à développer une activité de compositeur (court-métrages pour France2\, Arte\, Tv5) et d’arrangeur de chansons. Enfin de 2007 à 2016 il fait partie de la troupe des Pianotokés avec laquelle ils donnent dans toute la France leur spectacle de théâtre musical humoristique « Le Match de Piano ». \nEntrée 15 € – adhérent : 12 € / Tarif étudiant 10 €
URL:https://www.galerie-depardieu.com/event/le-voyage-dhiver-franz-schubert-recital/
LOCATION:Galerie Depardieu\, 6 rue du docteur Jacques Guidoni\, Nice\, 06000\, France
CATEGORIES:Agenda,Concert
ORGANIZER;CN="Association ARTEP":MAILTO:artep.association@gmail.com
END:VEVENT
END:VCALENDAR