BEGIN:VCALENDAR
VERSION:2.0
PRODID:-//Galerie Depardieu - ECPv6.15.20//NONSGML v1.0//EN
CALSCALE:GREGORIAN
METHOD:PUBLISH
X-ORIGINAL-URL:https://www.galerie-depardieu.com
X-WR-CALDESC:Évènements pour Galerie Depardieu
REFRESH-INTERVAL;VALUE=DURATION:PT1H
X-Robots-Tag:noindex
X-PUBLISHED-TTL:PT1H
BEGIN:VTIMEZONE
TZID:Europe/Paris
BEGIN:DAYLIGHT
TZOFFSETFROM:+0100
TZOFFSETTO:+0200
TZNAME:CEST
DTSTART:20230326T010000
END:DAYLIGHT
BEGIN:STANDARD
TZOFFSETFROM:+0200
TZOFFSETTO:+0100
TZNAME:CET
DTSTART:20231029T010000
END:STANDARD
BEGIN:DAYLIGHT
TZOFFSETFROM:+0100
TZOFFSETTO:+0200
TZNAME:CEST
DTSTART:20240331T010000
END:DAYLIGHT
BEGIN:STANDARD
TZOFFSETFROM:+0200
TZOFFSETTO:+0100
TZNAME:CET
DTSTART:20241027T010000
END:STANDARD
BEGIN:DAYLIGHT
TZOFFSETFROM:+0100
TZOFFSETTO:+0200
TZNAME:CEST
DTSTART:20250330T010000
END:DAYLIGHT
BEGIN:STANDARD
TZOFFSETFROM:+0200
TZOFFSETTO:+0100
TZNAME:CET
DTSTART:20251026T010000
END:STANDARD
END:VTIMEZONE
BEGIN:VEVENT
DTSTART;TZID=Europe/Paris:20240229T201500
DTEND;TZID=Europe/Paris:20240229T223000
DTSTAMP:20260425T173419
CREATED:20230922T200940Z
LAST-MODIFIED:20240126T171704Z
UID:4392-1709237700-1709245800@www.galerie-depardieu.com
SUMMARY:Concert jazz avec Gentiane MG Trio "Walls Made of Glass"
DESCRIPTION:Jeudi 29 Février 2024 à 20h15\nGentiane MG Trio\n« Walls Made of Glass » \nEntourée de ses acolytes de longue date LEVI DOVER (contrebasse) et LOUIS-VINCENT HAMEL (batterie)\, GENTIANE MG offre avec Walls Made of Glass un album aussi beau qu’intense\, sur lequel l’exploration sonore règne. « Walls Made of Glass » est l’aboutissement d’une bulle intemporelle dans laquelle elle est entrée depuis deux ans\, explique MG. Son objectif étant de capturer des moments significatifs\, beaux et vivants issus du lien profond qu’elle ressent avec son environnement : objets\, animaux\, plantes\, sons\, etc. Ces inspirations ont engendré 10 pièces lumineuses\, passionnées et pleines de contrastes\, interprétées dans un paysage acoustique fascinant et imaginatif. Le trio\, qui a développé son propre langage musical grâce aux années passées sur la route\, transcende les genres et tend vers la créativité libre. Avec ses compositions\, GENTIANE arrive à créer une cohésion formidablement portée par sa solide section rythmique. \n\n \nGENTIANE MG a étudié au Conservatoire de Musique du Québec à Chicoutimi avant de quitter la région pour poursuivre des études supérieures à Montréal en interprétation jazz. Deux fois boursière de l’Université McGill\, elle y a étudié aux côtés de Jan Yarczyk\, Rémi Bolduc\, Andre White et Jean-Michel Pilc.\n \nAvec trois albums à son actif\, « Eternal Cycle » (2017)\, « Wonderland » (2019) et « Walls Made of Glass » (2022)\, elle a reçu plusieurs prix dont le Prix Opus Découverte de l’année (2020)\, le Prix Révélation Radio – Canada Jazz (2018) et le Prix François-Marcaurelle de la Guilde des musiciens et musiciennes du Québec (2017). Elle s’est produite au Canada\, au Mexique\, en Chine\, en Côte d’Ivoire\, en Allemagne et en France et s’est illustrée auprès de nombreux musiciens tels que Christine Jensen\, Andre White\, Jim Doxas\, Chet Doxas\, Yannick Rieu\, Jeremy Pelt\, Jean-Michel Pilc et Ira Coleman. \n \nhttps://www.gentianemg.com/ \nEntrée 15 € – adhérent : 12 € / Tarif étudiant 10 €\nRéservation/billetterie : https://www.billetweb.fr/gentiane-mg-trio
URL:https://www.galerie-depardieu.com/event/gentiane-mg-trio/
LOCATION:Galerie Depardieu\, 6 rue du docteur Jacques Guidoni\, Nice\, 06000\, France
CATEGORIES:Agenda,Concert
ORGANIZER;CN="Association ARTEP":MAILTO:artep.association@gmail.com
END:VEVENT
END:VCALENDAR