BEGIN:VCALENDAR
VERSION:2.0
PRODID:-//Galerie Depardieu - ECPv6.15.20//NONSGML v1.0//EN
CALSCALE:GREGORIAN
METHOD:PUBLISH
X-WR-CALNAME:Galerie Depardieu
X-ORIGINAL-URL:https://www.galerie-depardieu.com
X-WR-CALDESC:Évènements pour Galerie Depardieu
REFRESH-INTERVAL;VALUE=DURATION:PT1H
X-Robots-Tag:noindex
X-PUBLISHED-TTL:PT1H
BEGIN:VTIMEZONE
TZID:Europe/Paris
BEGIN:DAYLIGHT
TZOFFSETFROM:+0100
TZOFFSETTO:+0200
TZNAME:CEST
DTSTART:20230326T010000
END:DAYLIGHT
BEGIN:STANDARD
TZOFFSETFROM:+0200
TZOFFSETTO:+0100
TZNAME:CET
DTSTART:20231029T010000
END:STANDARD
BEGIN:DAYLIGHT
TZOFFSETFROM:+0100
TZOFFSETTO:+0200
TZNAME:CEST
DTSTART:20240331T010000
END:DAYLIGHT
BEGIN:STANDARD
TZOFFSETFROM:+0200
TZOFFSETTO:+0100
TZNAME:CET
DTSTART:20241027T010000
END:STANDARD
BEGIN:DAYLIGHT
TZOFFSETFROM:+0100
TZOFFSETTO:+0200
TZNAME:CEST
DTSTART:20250330T010000
END:DAYLIGHT
BEGIN:STANDARD
TZOFFSETFROM:+0200
TZOFFSETTO:+0100
TZNAME:CET
DTSTART:20251026T010000
END:STANDARD
END:VTIMEZONE
BEGIN:VEVENT
DTSTART;TZID=Europe/Paris:20240216T201500
DTEND;TZID=Europe/Paris:20240216T223000
DTSTAMP:20260425T185704
CREATED:20240126T171224Z
LAST-MODIFIED:20240126T171224Z
UID:4532-1708114500-1708122600@www.galerie-depardieu.com
SUMMARY:Aki Rissanen piano solo - Divided Horizon
DESCRIPTION:Vendredi 16 février 2024 à 20h15\nAki Rissanen piano solo\nDivided Horizon \n \nLe pianiste Aki Rissanen s’est rapidement hissé sur les cimes du jazz finlandais. Ces dernières années\, il s’est aussi forgé un nom sur la scène internationale notamment en tant que leader de son trio éponyme. Issu du piano classique\, il a toujours senti son coeur pencher vers la musique improvisée et le jazz. À l’issue d’une formation classique de 12 ans\, il s’est tourné vers l’apprentissage du jazz et de la musique improvisée\, intégrant l’Academie Sibelius d’Helsinki et le Conservatoire national supérieur de musique de Paris\, et suivant des cours particuliers à New York et Cologne. En 2009\, après 7 ans d’études en piano jazz et composition\, il sort du département de jazz de l’Académie Sibelius master en poche. Parmi ses professeurs on peut mentionner Jarmo Savolainen\, Jukkis Uotila\, Kirmo Lintinen\, John Taylor\, Jim Beard\, Riccardo del Fra et Hervé Sellin. \n \nEn plus des récompenses obtenues en compétition solo piano au festival de jazz de Montreux et à la Défense en France\, Rissanen se distingue par son travail avec le saxophoniste Dave Liebman sur le label allemand Ozella Music et le trompettiste Verneri Pohjola sur le label britannique Editions Records et le label allemand ACT Music. Il a aussi collaboré avec UMO Jazz Orchestra\, The Finnish Radio Symphony Orchestra\, Lahti Symphony Orchestra\, Dave Liebman\, Rick Margitza\, Randy Brecker\, Sten Sandell\, Tim Hagans\, Emil Strandberg and Robert Ikiz pour ne citer qu’eux. Il s’est produit dans la plupart des pays européens\, aux USA\, au Japon\, en Chine ainsi qu’en Afrique du nord. \nSon album ‘Divided Horizon’ sorti par un label britannique Edition Records \n« Un album magistral” Radio France FIP:\nhttps://www.radiofrance.fr/fip/divided-horizon-les-mondes-multiples-et-envoutants-d-aki-rissanen-2496161 \nEntrée 12 € – adhérent : 10 € / Tarif étudiant 10 € – étudiant adhérent 8 €
URL:https://www.galerie-depardieu.com/event/aki-rissanen-piano-solo-divided-horizon/
LOCATION:Galerie Depardieu\, 6 rue du docteur Jacques Guidoni\, Nice\, 06000\, France
CATEGORIES:Agenda,Concert
ORGANIZER;CN="Association ARTEP":MAILTO:artep.association@gmail.com
END:VEVENT
END:VCALENDAR