BEGIN:VCALENDAR
VERSION:2.0
PRODID:-//Galerie Depardieu - ECPv6.15.20//NONSGML v1.0//EN
CALSCALE:GREGORIAN
METHOD:PUBLISH
X-ORIGINAL-URL:https://www.galerie-depardieu.com
X-WR-CALDESC:Évènements pour Galerie Depardieu
REFRESH-INTERVAL;VALUE=DURATION:PT1H
X-Robots-Tag:noindex
X-PUBLISHED-TTL:PT1H
BEGIN:VTIMEZONE
TZID:Europe/Paris
BEGIN:DAYLIGHT
TZOFFSETFROM:+0100
TZOFFSETTO:+0200
TZNAME:CEST
DTSTART:20230326T010000
END:DAYLIGHT
BEGIN:STANDARD
TZOFFSETFROM:+0200
TZOFFSETTO:+0100
TZNAME:CET
DTSTART:20231029T010000
END:STANDARD
BEGIN:DAYLIGHT
TZOFFSETFROM:+0100
TZOFFSETTO:+0200
TZNAME:CEST
DTSTART:20240331T010000
END:DAYLIGHT
BEGIN:STANDARD
TZOFFSETFROM:+0200
TZOFFSETTO:+0100
TZNAME:CET
DTSTART:20241027T010000
END:STANDARD
BEGIN:DAYLIGHT
TZOFFSETFROM:+0100
TZOFFSETTO:+0200
TZNAME:CEST
DTSTART:20250330T010000
END:DAYLIGHT
BEGIN:STANDARD
TZOFFSETFROM:+0200
TZOFFSETTO:+0100
TZNAME:CET
DTSTART:20251026T010000
END:STANDARD
END:VTIMEZONE
BEGIN:VEVENT
DTSTART;TZID=Europe/Paris:20240202T201500
DTEND;TZID=Europe/Paris:20240202T223000
DTSTAMP:20260425T185847
CREATED:20240126T165941Z
LAST-MODIFIED:20240126T165941Z
UID:4522-1706904900-1706913000@www.galerie-depardieu.com
SUMMARY:The Sonny Side 4et
DESCRIPTION:Vendredi 2 Février 2024 à 20h15\nThe Sonny Side 4et \n \nFranck Taschini\, sax tenor et soprano\nRiccardo Anfosso\, guitare électrique\nGiuliano Raimondo\, contrebasse\nEnzo Cioffi\, batterie \nThe Sonny Side 4et est un projet qui rend hommage au grand compositeur saxophoniste américain Sonny Rollins.\nLe répertoire proposé retrace ses compositions les plus célèbres. \nEntrée 15 € – adhérent : 12 € / Tarif étudiant 10 €
URL:https://www.galerie-depardieu.com/event/the-sonny-side-4et/
LOCATION:Galerie Depardieu\, 6 rue du docteur Jacques Guidoni\, Nice\, 06000\, France
CATEGORIES:Agenda,Concert
ORGANIZER;CN="Association ARTEP":MAILTO:artep.association@gmail.com
END:VEVENT
END:VCALENDAR