BEGIN:VCALENDAR
VERSION:2.0
PRODID:-//Galerie Depardieu - ECPv6.15.20//NONSGML v1.0//EN
CALSCALE:GREGORIAN
METHOD:PUBLISH
X-WR-CALNAME:Galerie Depardieu
X-ORIGINAL-URL:https://www.galerie-depardieu.com
X-WR-CALDESC:Évènements pour Galerie Depardieu
REFRESH-INTERVAL;VALUE=DURATION:PT1H
X-Robots-Tag:noindex
X-PUBLISHED-TTL:PT1H
BEGIN:VTIMEZONE
TZID:Europe/Paris
BEGIN:DAYLIGHT
TZOFFSETFROM:+0100
TZOFFSETTO:+0200
TZNAME:CEST
DTSTART:20230326T010000
END:DAYLIGHT
BEGIN:STANDARD
TZOFFSETFROM:+0200
TZOFFSETTO:+0100
TZNAME:CET
DTSTART:20231029T010000
END:STANDARD
BEGIN:DAYLIGHT
TZOFFSETFROM:+0100
TZOFFSETTO:+0200
TZNAME:CEST
DTSTART:20240331T010000
END:DAYLIGHT
BEGIN:STANDARD
TZOFFSETFROM:+0200
TZOFFSETTO:+0100
TZNAME:CET
DTSTART:20241027T010000
END:STANDARD
BEGIN:DAYLIGHT
TZOFFSETFROM:+0100
TZOFFSETTO:+0200
TZNAME:CEST
DTSTART:20250330T010000
END:DAYLIGHT
BEGIN:STANDARD
TZOFFSETFROM:+0200
TZOFFSETTO:+0100
TZNAME:CET
DTSTART:20251026T010000
END:STANDARD
END:VTIMEZONE
BEGIN:VEVENT
DTSTART;TZID=Europe/Paris:20240119T201500
DTEND;TZID=Europe/Paris:20240119T223000
DTSTAMP:20260425T201544
CREATED:20231222T151239Z
LAST-MODIFIED:20231222T151239Z
UID:4497-1705695300-1705703400@www.galerie-depardieu.com
SUMMARY:MICHEL REIS PIANO SOLO “For A Better Tomorrow”
DESCRIPTION:Vendredi 19 janvier 2024 à 20h15\nMICHEL REIS PIANO SOLO\n“For A Better Tomorrow” \nMichel Reis collabore régulièrement avec Joshua Redman ou Vince Mendoza. C’est “un conteur musical » a écrit Dan McCleneghan dans All About Jazz. C’est particulièrement vrai lorsqu’il donne un concert piano solo\, où l’on remarque non seulement son talent de compositeur\, mais aussi son sens aigu de l’interprétation. Dans ses concerts solos\, Reis mélange compositions écrites et improvisations libres. Par cette approche\, il donne non seulement un sens plus profond à ses compositions\, mais toute l’atmosphère d’un concert devient une toute autre expérience\, car il prend en considération l’espace donné et son public afin de s’exprimer le plus authentiquement possible. Les compositions de Reis comportent toujours un caractère très mélodique. « Catchy » d’un côté\, accessibles immédiatement par le public mais avec toujours une complexité qui permet aux morceaux de ne paraître ni banals ni plats. C’est une musique qui fait appel à tous les sens. Il vient juste de terminer son troisième album solo “For A Better Tomorrow” composé de toutes nouvelles compositions qui paraîtra en janvier 2024 sur le Label CAM Jazz.\nAprès ses études\, Michel Reis s’est installé à New York pour se plonger dans la scène professionnelle newyorkaise\, se produisant régulièrement avec différents groupes en tant que leader et sideman. C’est à New York\, que Michel Reis rencontre le compositeur et orchestrateur David Spear\, qui a eu une grande influence sur sa carrière et dont il est resté un ami proche. Il a effectué de nombreuses tournées dans le monde entier\, se produisant en Europe\, en Asie\, en Amérique du Nord et du Sud\, ainsi qu’en Afrique. Salué comme un « formidable pianiste » par Downbeat Magazine\, Michel Reis est devenu ces dernières années un artiste de renommée internationale. Il s’est produit dans de nombreuses salles et festivals parmi les plus célèbres du monde\, notamment au Blue Note Jazz Club de New York\, au Lincoln Center\, au Tokyo Jazz Festival\, à l’Olympia à Paris\, au Panama Jazz Festival\, au Montreux Jazz Festival\, aux Rendez-Vous de l’Erdre à Nantes\, au Duc des Lombards à Paris etc. . Michel Reis a collaboré avec Joshua Redman\, Vince Mendoza\, Didier Lookwood\, Richard Bona\, Jeff Ballard\, Esperanza Spalding\, Louis Moutin\, Mauro Gargano\, Jonathan Orland\, Takashi Sugawa etc. \nVidéo with Joshua Redman:  \n \nVidéo with Vince Mendoza:  \n \n Vidéo:  \n \n  \nSite : https://michelreis.com/ \n 
URL:https://www.galerie-depardieu.com/event/michel-reis-piano-solo-for-a-better-tomorrow/
LOCATION:Galerie Depardieu\, 6 rue du docteur Jacques Guidoni\, Nice\, 06000\, France
CATEGORIES:Agenda,Concert
ORGANIZER;CN="Association ARTEP":MAILTO:artep.association@gmail.com
END:VEVENT
END:VCALENDAR