BEGIN:VCALENDAR
VERSION:2.0
PRODID:-//Galerie Depardieu - ECPv6.15.20//NONSGML v1.0//EN
CALSCALE:GREGORIAN
METHOD:PUBLISH
X-WR-CALNAME:Galerie Depardieu
X-ORIGINAL-URL:https://www.galerie-depardieu.com
X-WR-CALDESC:Évènements pour Galerie Depardieu
REFRESH-INTERVAL;VALUE=DURATION:PT1H
X-Robots-Tag:noindex
X-PUBLISHED-TTL:PT1H
BEGIN:VTIMEZONE
TZID:Europe/Paris
BEGIN:DAYLIGHT
TZOFFSETFROM:+0100
TZOFFSETTO:+0200
TZNAME:CEST
DTSTART:20220327T010000
END:DAYLIGHT
BEGIN:STANDARD
TZOFFSETFROM:+0200
TZOFFSETTO:+0100
TZNAME:CET
DTSTART:20221030T010000
END:STANDARD
BEGIN:DAYLIGHT
TZOFFSETFROM:+0100
TZOFFSETTO:+0200
TZNAME:CEST
DTSTART:20230326T010000
END:DAYLIGHT
BEGIN:STANDARD
TZOFFSETFROM:+0200
TZOFFSETTO:+0100
TZNAME:CET
DTSTART:20231029T010000
END:STANDARD
BEGIN:DAYLIGHT
TZOFFSETFROM:+0100
TZOFFSETTO:+0200
TZNAME:CEST
DTSTART:20240331T010000
END:DAYLIGHT
BEGIN:STANDARD
TZOFFSETFROM:+0200
TZOFFSETTO:+0100
TZNAME:CET
DTSTART:20241027T010000
END:STANDARD
END:VTIMEZONE
BEGIN:VEVENT
DTSTART;TZID=Europe/Paris:20231209T201500
DTEND;TZID=Europe/Paris:20231209T223000
DTSTAMP:20260425T215727
CREATED:20231116T173628Z
LAST-MODIFIED:20231116T173628Z
UID:4465-1702152900-1702161000@www.galerie-depardieu.com
SUMMARY:Nomad  - Simon Denizart & Elli Miller Maboungou
DESCRIPTION:Samedi 9 Décembre 2023 à 20h15\nNomad  – Simon Denizart & Elli Miller Maboungou \nSimon Denizart piano\nElli Miller Maboungou calebasse\, percussions \n \nC’est une invitation au voyage que nous propose NOMAD et une rencontre inédite entre le piano du compositeur Simon Denizart et la calebasse du percussionniste virtuose Elli Miller Maboungou. \nEnsemble\, il forme un duo dynamique et original où “les univers déployés sont sensibles\,empreints de swing et hautement délectables” (Christophe Rodriguez\, sortiesjazznights.ca).\nIls repoussent les frontières des esthétiques instrumentales traditionnelles et offrent un voyage éclectique au travers d’une musique rythmée\, mélodieuse et cinématique.\nAprès quatorze mois à parcourir le Texas\, la Californie\, le Canada\, le Maroc ou la France\, la vie nomade fût une formidable source d’inspiration et prétexte à raconter ces voyages\, ces histoires et ces rencontres. La musique est ainsi venue se substituer au carnet de voyage qui recèle de si nombreux souvenirs et secrets. \n \n \nEntrée 15 € – adhérent : 12 € / Tarif étudiant 10 €\nRéservation/billetterie : https://www.billetweb.fr/nomad-simon-denizart-elli-miller-maboungou
URL:https://www.galerie-depardieu.com/event/nomad-simon-denizart-elli-miller-maboungou/
LOCATION:Galerie Depardieu\, 6 rue du docteur Jacques Guidoni\, Nice\, 06000\, France
CATEGORIES:Agenda,Concert
ORGANIZER;CN="Association ARTEP":MAILTO:artep.association@gmail.com
END:VEVENT
END:VCALENDAR