BEGIN:VCALENDAR
VERSION:2.0
PRODID:-//Galerie Depardieu - ECPv6.15.20//NONSGML v1.0//EN
CALSCALE:GREGORIAN
METHOD:PUBLISH
X-ORIGINAL-URL:https://www.galerie-depardieu.com
X-WR-CALDESC:Évènements pour Galerie Depardieu
REFRESH-INTERVAL;VALUE=DURATION:PT1H
X-Robots-Tag:noindex
X-PUBLISHED-TTL:PT1H
BEGIN:VTIMEZONE
TZID:Europe/Paris
BEGIN:DAYLIGHT
TZOFFSETFROM:+0100
TZOFFSETTO:+0200
TZNAME:CEST
DTSTART:20220327T010000
END:DAYLIGHT
BEGIN:STANDARD
TZOFFSETFROM:+0200
TZOFFSETTO:+0100
TZNAME:CET
DTSTART:20221030T010000
END:STANDARD
BEGIN:DAYLIGHT
TZOFFSETFROM:+0100
TZOFFSETTO:+0200
TZNAME:CEST
DTSTART:20230326T010000
END:DAYLIGHT
BEGIN:STANDARD
TZOFFSETFROM:+0200
TZOFFSETTO:+0100
TZNAME:CET
DTSTART:20231029T010000
END:STANDARD
BEGIN:DAYLIGHT
TZOFFSETFROM:+0100
TZOFFSETTO:+0200
TZNAME:CEST
DTSTART:20240331T010000
END:DAYLIGHT
BEGIN:STANDARD
TZOFFSETFROM:+0200
TZOFFSETTO:+0100
TZNAME:CET
DTSTART:20241027T010000
END:STANDARD
END:VTIMEZONE
BEGIN:VEVENT
DTSTART;TZID=Europe/Paris:20231124T190000
DTEND;TZID=Europe/Paris:20231124T200000
DTSTAMP:20260425T232331
CREATED:20231026T155026Z
LAST-MODIFIED:20231026T155026Z
UID:4431-1700852400-1700856000@www.galerie-depardieu.com
SUMMARY:SE FAIRE VIRER de Manon Delatre (éditions du commun)  Lu par Emma Laurent\, Cie La Saeta
DESCRIPTION:Vendredi 24 Novembre 2023 à 19h\nSE FAIRE VIRER de Manon Delatre (éditions du commun) \nLu par Emma Laurent\, Cie La Saeta \n \nUn témoignage vivant\, net et précis de la souffrance au travail.\nManon Delatre est projectionniste dans un cinéma d’art et d’essai parisien mais un premier changement perturbe sa vie : l’arrivée de la pellicule numérique.\nDe fil en aiguille\, son taf\, son job\, son boulot va se transformer en un enfer à fuir absolument.\nUn texte à entendre et à débattre. \n J’ai envie d’écrire comment ça s’est passé. Avant que le souvenir ne s’efface. Le déroulé des faits\, les dates\, les paroles prononcées\, les gens. […]\nJe me souviens de ces longs mois. Tandis que je me démenais pour quitter « mon » entreprise […]\nOn m’a souvent demandé « tu pars pour faire quoi ? ». Ah ben ça alors\, vaste question… Faire quoi ?\nAujourd’hui encore\, plus d’un an après\, je n’en ai strictement aucune idée. Vivre\, tout simplement peut-être. Galérer c’est sûr […] Mais vivre\, errer\, vadrouiller\, sentir l’air qui me traverse […] \nManon Delatre \nEntrée 6 € / Tarif étudiant 4 €\nRéservation/billetterie :\nhttps://www.billetweb.fr/se-faire-virer-de-manon-delatre-lecture-mise-en-espace-par-emma-laurent-cie-la-saeta
URL:https://www.galerie-depardieu.com/event/se-faire-virer-de-manon-delatre-editions-du-commun-lu-par-emma-laurent-cie-la-saeta/
LOCATION:Galerie Depardieu\, 6 rue du docteur Jacques Guidoni\, Nice\, 06000\, France
CATEGORIES:Agenda,Concert
ORGANIZER;CN="Association ARTEP":MAILTO:artep.association@gmail.com
END:VEVENT
END:VCALENDAR