BEGIN:VCALENDAR
VERSION:2.0
PRODID:-//Galerie Depardieu - ECPv6.15.20//NONSGML v1.0//EN
CALSCALE:GREGORIAN
METHOD:PUBLISH
X-WR-CALNAME:Galerie Depardieu
X-ORIGINAL-URL:https://www.galerie-depardieu.com
X-WR-CALDESC:Évènements pour Galerie Depardieu
REFRESH-INTERVAL;VALUE=DURATION:PT1H
X-Robots-Tag:noindex
X-PUBLISHED-TTL:PT1H
BEGIN:VTIMEZONE
TZID:Europe/Paris
BEGIN:DAYLIGHT
TZOFFSETFROM:+0100
TZOFFSETTO:+0200
TZNAME:CEST
DTSTART:20220327T010000
END:DAYLIGHT
BEGIN:STANDARD
TZOFFSETFROM:+0200
TZOFFSETTO:+0100
TZNAME:CET
DTSTART:20221030T010000
END:STANDARD
BEGIN:DAYLIGHT
TZOFFSETFROM:+0100
TZOFFSETTO:+0200
TZNAME:CEST
DTSTART:20230326T010000
END:DAYLIGHT
BEGIN:STANDARD
TZOFFSETFROM:+0200
TZOFFSETTO:+0100
TZNAME:CET
DTSTART:20231029T010000
END:STANDARD
BEGIN:DAYLIGHT
TZOFFSETFROM:+0100
TZOFFSETTO:+0200
TZNAME:CEST
DTSTART:20240331T010000
END:DAYLIGHT
BEGIN:STANDARD
TZOFFSETFROM:+0200
TZOFFSETTO:+0100
TZNAME:CET
DTSTART:20241027T010000
END:STANDARD
END:VTIMEZONE
BEGIN:VEVENT
DTSTART;TZID=Europe/Paris:20231123T201500
DTEND;TZID=Europe/Paris:20231123T223000
DTSTAMP:20260425T232201
CREATED:20231026T154833Z
LAST-MODIFIED:20231026T154833Z
UID:4428-1700770500-1700778600@www.galerie-depardieu.com
SUMMARY:Carol Nakari Trio - So JazzyPopSoulInternational ! So Funny ! So Nakari !
DESCRIPTION:Jeudi 23 Novembre 2023 à 20h15\nCarol Nakari Trio\nSo JazzyPopSoulInternational ! So Funny ! So Nakari ! \nCarol Nakari au chant\nAlexandre Gaubert à la guitare\nRémi LeFlohic à la contrebasse \n \nSo JazzyPopSoulInternational !\nSo Funny !\nSo Nakari !\nD’Ella en passant par Trénet ainsi que Sting et bien d’autres …\nAvec une subtile interactivité avec le public …\nChanteuse-auteur-compositeur\, Carol Nakari est dotée d’une voix chaude et empreinte de douceur. \n \nEntrée 15 € – adhérent : 12 € / Tarif étudiant 10 €\nRéservation/billetterie : https://www.billetweb.fr/carol-nakari-trio-so-jazzypopsoulinternational
URL:https://www.galerie-depardieu.com/event/carol-nakari-trio-so-jazzypopsoulinternational-so-funny-so-nakari/
LOCATION:Galerie Depardieu\, 6 rue du docteur Jacques Guidoni\, Nice\, 06000\, France
CATEGORIES:Agenda,Concert
ORGANIZER;CN="Association ARTEP":MAILTO:artep.association@gmail.com
END:VEVENT
END:VCALENDAR