BEGIN:VCALENDAR
VERSION:2.0
PRODID:-//Galerie Depardieu - ECPv6.15.20//NONSGML v1.0//EN
CALSCALE:GREGORIAN
METHOD:PUBLISH
X-ORIGINAL-URL:https://www.galerie-depardieu.com
X-WR-CALDESC:Évènements pour Galerie Depardieu
REFRESH-INTERVAL;VALUE=DURATION:PT1H
X-Robots-Tag:noindex
X-PUBLISHED-TTL:PT1H
BEGIN:VTIMEZONE
TZID:Europe/Paris
BEGIN:DAYLIGHT
TZOFFSETFROM:+0100
TZOFFSETTO:+0200
TZNAME:CEST
DTSTART:20220327T010000
END:DAYLIGHT
BEGIN:STANDARD
TZOFFSETFROM:+0200
TZOFFSETTO:+0100
TZNAME:CET
DTSTART:20221030T010000
END:STANDARD
BEGIN:DAYLIGHT
TZOFFSETFROM:+0100
TZOFFSETTO:+0200
TZNAME:CEST
DTSTART:20230326T010000
END:DAYLIGHT
BEGIN:STANDARD
TZOFFSETFROM:+0200
TZOFFSETTO:+0100
TZNAME:CET
DTSTART:20231029T010000
END:STANDARD
BEGIN:DAYLIGHT
TZOFFSETFROM:+0100
TZOFFSETTO:+0200
TZNAME:CEST
DTSTART:20240331T010000
END:DAYLIGHT
BEGIN:STANDARD
TZOFFSETFROM:+0200
TZOFFSETTO:+0100
TZNAME:CET
DTSTART:20241027T010000
END:STANDARD
END:VTIMEZONE
BEGIN:VEVENT
DTSTART;TZID=Europe/Paris:20231118T201500
DTEND;TZID=Europe/Paris:20231118T223000
DTSTAMP:20260425T232331
CREATED:20231026T154612Z
LAST-MODIFIED:20231026T154612Z
UID:4425-1700338500-1700346600@www.galerie-depardieu.com
SUMMARY:René  Sopa - Thierry Ravelli -  Standards de jazz
DESCRIPTION:Samedi 18 Novembre 2023 à 20h15\nRené  Sopa – Thierry Ravelli – Standards de jazz \n \nAccordéoniste de jazz world music René Sopa est issu de l’école Lucien Galliano et a étudié le répertoire traditionnel et classique en obtenant de nombreux prix dans divers concours nationaux.  Durant sa carrière il a  participé à de nombreux Festivals internationaux d’accordéons et de jazz dans de nombreux pays (France\, Russie\, Belgique\, Inde\, Pays-Bas\, Italie\, Turquie\, Portugal\, Canada\, Luxembourg etc etc..).\nAvec plus de 15 albums enregistrés avec de prestigieux musiciens il a collaboré en concerts\navec des artistes internationaux talentueux comme Alexandre Cavaliere\, Stéfan Patry\, Angélo Debarre\, Dorado et Samson Schmitt\, Jean Louis Rassinfosse\, Kamil Erdem\, Adrien Moignard\, Sébastien Giniaux\, Christian Escoudé et de nombreux musiciens de la scène Niçoise.\nIl sera en duo avec Thierry Ravelli également issu de l’école Lucien Galliano.Il a aussi joué dans de nombreux Festivals de jazz et fait parti du groupe New metting. \nLeur répertoire est composé par des musiques de René Sopa et des standards de jazz internationaux teintés d’improvisations et virtuosités. \n \nEntrée 12 € – adhérent : 10 € / Tarif étudiant 10 € – étudiant adhérent 8 €\nRéservation/billetterie :\nhttps://www.billetweb.fr/rene-sopa-thierry-ravelli-standards-de-jazz
URL:https://www.galerie-depardieu.com/event/rene-sopa-thierry-ravelli-standards-de-jazz/
LOCATION:Galerie Depardieu\, 6 rue du docteur Jacques Guidoni\, Nice\, 06000\, France
CATEGORIES:Agenda,Concert
ORGANIZER;CN="Association ARTEP":MAILTO:artep.association@gmail.com
END:VEVENT
END:VCALENDAR