BEGIN:VCALENDAR
VERSION:2.0
PRODID:-//Galerie Depardieu - ECPv6.15.20//NONSGML v1.0//EN
CALSCALE:GREGORIAN
METHOD:PUBLISH
X-ORIGINAL-URL:https://www.galerie-depardieu.com
X-WR-CALDESC:Évènements pour Galerie Depardieu
REFRESH-INTERVAL;VALUE=DURATION:PT1H
X-Robots-Tag:noindex
X-PUBLISHED-TTL:PT1H
BEGIN:VTIMEZONE
TZID:Europe/Paris
BEGIN:DAYLIGHT
TZOFFSETFROM:+0100
TZOFFSETTO:+0200
TZNAME:CEST
DTSTART:20220327T010000
END:DAYLIGHT
BEGIN:STANDARD
TZOFFSETFROM:+0200
TZOFFSETTO:+0100
TZNAME:CET
DTSTART:20221030T010000
END:STANDARD
BEGIN:DAYLIGHT
TZOFFSETFROM:+0100
TZOFFSETTO:+0200
TZNAME:CEST
DTSTART:20230326T010000
END:DAYLIGHT
BEGIN:STANDARD
TZOFFSETFROM:+0200
TZOFFSETTO:+0100
TZNAME:CET
DTSTART:20231029T010000
END:STANDARD
BEGIN:DAYLIGHT
TZOFFSETFROM:+0100
TZOFFSETTO:+0200
TZNAME:CEST
DTSTART:20240331T010000
END:DAYLIGHT
BEGIN:STANDARD
TZOFFSETFROM:+0200
TZOFFSETTO:+0100
TZNAME:CET
DTSTART:20241027T010000
END:STANDARD
END:VTIMEZONE
BEGIN:VEVENT
DTSTART;TZID=Europe/Paris:20230722T201500
DTEND;TZID=Europe/Paris:20230722T223000
DTSTAMP:20260426T051754
CREATED:20230626T161508Z
LAST-MODIFIED:20230626T161508Z
UID:4314-1690056900-1690065000@www.galerie-depardieu.com
SUMMARY:Concert JAZZ avec Open Jam Trio
DESCRIPTION:Samedi 22 Juillet 2023 à 20h15\nConcert JAZZ avec Open Jam Trio \nMOHAMED BEDDIAR\, piano\, compositions.\nFABRICE PERITORE\, Percussions/batterie\, arrangements.\nALAIN CALZONI\, Contrebasse\, arrangements. \n \n« …Open Jam Trio est la rencontre explosive entre trois musiciens renommés de la région.\nLe Trio revisite des Standards Jazz et Latin Jazz\, ainsi que des compositions. \nEntre sensibilités nuancées\, rebondissements et interactions rythmiques\, le Trio nous invite à un voyage à travers une mosaïque de couleurs toujours surprenante\, souriante et rythmée… » \nEntrée 15 € – adhérent : 12 € / Tarif étudiant 10 €\nRéservation/billetterie : https://www.billetweb.fr/open-jam-trio1
URL:https://www.galerie-depardieu.com/event/concert-jazz-avec-open-jam-trio/
LOCATION:Galerie Depardieu\, 6 rue du docteur Jacques Guidoni\, Nice\, 06000\, France
CATEGORIES:Agenda,Concert
ORGANIZER;CN="Association ARTEP":MAILTO:artep.association@gmail.com
END:VEVENT
END:VCALENDAR