BEGIN:VCALENDAR
VERSION:2.0
PRODID:-//Galerie Depardieu - ECPv6.15.20//NONSGML v1.0//EN
CALSCALE:GREGORIAN
METHOD:PUBLISH
X-WR-CALNAME:Galerie Depardieu
X-ORIGINAL-URL:https://www.galerie-depardieu.com
X-WR-CALDESC:Évènements pour Galerie Depardieu
REFRESH-INTERVAL;VALUE=DURATION:PT1H
X-Robots-Tag:noindex
X-PUBLISHED-TTL:PT1H
BEGIN:VTIMEZONE
TZID:Europe/Paris
BEGIN:DAYLIGHT
TZOFFSETFROM:+0100
TZOFFSETTO:+0200
TZNAME:CEST
DTSTART:20220327T010000
END:DAYLIGHT
BEGIN:STANDARD
TZOFFSETFROM:+0200
TZOFFSETTO:+0100
TZNAME:CET
DTSTART:20221030T010000
END:STANDARD
BEGIN:DAYLIGHT
TZOFFSETFROM:+0100
TZOFFSETTO:+0200
TZNAME:CEST
DTSTART:20230326T010000
END:DAYLIGHT
BEGIN:STANDARD
TZOFFSETFROM:+0200
TZOFFSETTO:+0100
TZNAME:CET
DTSTART:20231029T010000
END:STANDARD
BEGIN:DAYLIGHT
TZOFFSETFROM:+0100
TZOFFSETTO:+0200
TZNAME:CEST
DTSTART:20240331T010000
END:DAYLIGHT
BEGIN:STANDARD
TZOFFSETFROM:+0200
TZOFFSETTO:+0100
TZNAME:CET
DTSTART:20241027T010000
END:STANDARD
END:VTIMEZONE
BEGIN:VEVENT
DTSTART;TZID=Europe/Paris:20230715T201500
DTEND;TZID=Europe/Paris:20230715T223000
DTSTAMP:20260426T051551
CREATED:20230626T161336Z
LAST-MODIFIED:20230626T161336Z
UID:4311-1689452100-1689460200@www.galerie-depardieu.com
SUMMARY:Ferré\, vos papiers ! Orion\, tes chansons !
DESCRIPTION:Samedi 15 Juillet 2023 à 20h15\nFerré\, vos papiers ! Orion\, tes chansons !\nMICHEL ORION chante LEO FERRE et MICHEL ORION  \n\n \nNaviguant à bord de son piano\, entre ses propres créations et celles de Léo Ferré\, Michel Orion offre un spectacle dans la plus pure tradition de chansons à texte plutôt qu’à prétexte.\nSur scène\, il « accompagne son piano avec ses chansons ».\nCe spectacle\, piano-voix en duo avec Lou Veronika\, à la flûte traversière\, laisse toute sa place à la beauté du verbe et de la musique.\nLe tour de chant\, parfois caustique et iconoclaste\, est ponctué d’anecdotes et de chroniques aigres-douces\, plus ou moins surréalistes.    \n \nEntrée 12 € – 10 € pour les adhérents\nÉtudiants : 10 € – 8 € pour les adhérents\nRéservation/billetterie : https://www.billetweb.fr/ferre-vos-papiers-orion-tes-chansons
URL:https://www.galerie-depardieu.com/event/ferre-vos-papiers-orion-tes-chansons/
LOCATION:Galerie Depardieu\, 6 rue du docteur Jacques Guidoni\, Nice\, 06000\, France
CATEGORIES:Agenda,Concert
ORGANIZER;CN="Association ARTEP":MAILTO:artep.association@gmail.com
END:VEVENT
END:VCALENDAR