BEGIN:VCALENDAR
VERSION:2.0
PRODID:-//Galerie Depardieu - ECPv6.15.20//NONSGML v1.0//EN
CALSCALE:GREGORIAN
METHOD:PUBLISH
X-ORIGINAL-URL:https://www.galerie-depardieu.com
X-WR-CALDESC:Évènements pour Galerie Depardieu
REFRESH-INTERVAL;VALUE=DURATION:PT1H
X-Robots-Tag:noindex
X-PUBLISHED-TTL:PT1H
BEGIN:VTIMEZONE
TZID:Europe/Paris
BEGIN:DAYLIGHT
TZOFFSETFROM:+0100
TZOFFSETTO:+0200
TZNAME:CEST
DTSTART:20250330T010000
END:DAYLIGHT
BEGIN:STANDARD
TZOFFSETFROM:+0200
TZOFFSETTO:+0100
TZNAME:CET
DTSTART:20251026T010000
END:STANDARD
BEGIN:DAYLIGHT
TZOFFSETFROM:+0100
TZOFFSETTO:+0200
TZNAME:CEST
DTSTART:20260329T010000
END:DAYLIGHT
BEGIN:STANDARD
TZOFFSETFROM:+0200
TZOFFSETTO:+0100
TZNAME:CET
DTSTART:20261025T010000
END:STANDARD
BEGIN:DAYLIGHT
TZOFFSETFROM:+0100
TZOFFSETTO:+0200
TZNAME:CEST
DTSTART:20270328T010000
END:DAYLIGHT
BEGIN:STANDARD
TZOFFSETFROM:+0200
TZOFFSETTO:+0100
TZNAME:CET
DTSTART:20271031T010000
END:STANDARD
END:VTIMEZONE
BEGIN:VEVENT
DTSTART;TZID=Europe/Paris:20260305T201500
DTEND;TZID=Europe/Paris:20260305T223000
DTSTAMP:20260424T001449
CREATED:20260219T163308Z
LAST-MODIFIED:20260219T163308Z
UID:5620-1772741700-1772749800@www.galerie-depardieu.com
SUMMARY:Jellyfish Project - Sortie du 1er album
DESCRIPTION:Jeudi 5 Mars 2026 à 20h15\nJellyfish Project\nSortie du 1er album \n \nLe Jellyfish Project est un trio dynamique composé de Fred D’Oelsnitz au piano\, Tony Sgro à la contrebasse\, et Jacopo Forno à la batterie et aux compositions.\nSon objectif est la recherche musicale à travers le jazz\, avec un répertoire mêlant compositions originales et arrangements fidèles et percutants\, allant de la tradition au hard bop\, du post-bop à la drum and bass.\nS’inspirant des trios jazz de référence\, notamment Bill Evans\, Keith Jarrett\, McCoy Tyner et Herbie Hancock\, le Jellyfish Project promet une soirée d’une intense émotion\, portée par des sonorités hybrides et originales. \nLine-up\nFred D’Oelsnitz : piano\nTony Sgro : contrebasse\nJacopo Forno : batterie & compositions \n \n  \nEntrée 15 € / adhérent : 12 € / Tarif étudiant 10 €\nRéservation/billetterie : https://www.billetweb.fr/jellyfish-project-sortie-du-1er-album
URL:https://www.galerie-depardieu.com/event/jellyfish-project-sortie-du-1er-album/
LOCATION:Galerie Depardieu\, 6 rue du docteur Jacques Guidoni\, Nice\, 06000\, France
CATEGORIES:Agenda,Concert
ORGANIZER;CN="Association ARTEP":MAILTO:artep.association@gmail.com
END:VEVENT
BEGIN:VEVENT
DTSTART;TZID=Europe/Paris:20260306T201500
DTEND;TZID=Europe/Paris:20260306T223000
DTSTAMP:20260424T001449
CREATED:20260219T163717Z
LAST-MODIFIED:20260219T164826Z
UID:5623-1772828100-1772836200@www.galerie-depardieu.com
SUMMARY:Trio Artefact
DESCRIPTION:Vendredi 6 Mars 2026 à 20h15\nTrio Artefact \nAvec\nEmilie Ayer : voix\, textes\nToussaint Guerre : clarinette basse\nBenjamin Thiébault : piano \n \nLe Trio Artefact se démarque par ses compositions et arrangements modernes et poétiques. Envolées lyriques\, rêveries et épopées fantastiques en huis clos sont à l’affiche d’une musique cinématographique qui puise notamment son inspiration dans le jazz de Kenny Wheeler\, McCoy Tyner ou Bill Evans ainsi que dans l’œuvre classique de Ravel. \nEmilie Ayer\nIssue d ‘un cursus en création littéraire\, Emilie Ayer est une auteure-compositrice- interprète\nbasée en région Occitanie. Son affinité toute particulière pour le jazz la mène à s’y consacrer au travers de différentes formations comme On Weather Signs\, ou le Trio Sunny Side.\nElle puise aussi bien son inspiration chez les grand.es interprètes du jazz vocal (Ella Fitzgerald\, Betty Carter) que dans le jazz instrumental de Coltrane\, Bill Evans ou encore Kenny Wheeler. Elle se passionne aujourd ‘hui notamment pour la musique moderne et créative de Tatiana Parra\, Vardan Ovsepian\, Leïla Martial et Anne Paceo. \nBenjamin Thiébault\nOriginaire de Montpellier\, le pianiste Benjamin Thiébault se produit sur la scène de nombreux jazz clubs et de festivals en France et à l ’étranger. Il participe à plusieurs\nenregistrements\, dont l ’album Emergence qu ’il compose et produit. Il est actuellement actif en région Occitanie dans des formations jazz moderne (TDB3)\, soul (Mess Drey) et salsa fusion (Coco Groove). Au sein du Trio Artefact\, il apporte autant son expérience de soliste que son goût pour la composition et l’écriture portés par le piano classique et le jazz contemporain. \nToussaint Guerre\nLe clarinettiste et saxophoniste montpelliérain Toussaint Guerre découvre la musique jazz afro-américaine dès son plus jeune âge aux côté du saxophoniste Abdu Salim. Passionné par les processus de création\, autant dans l’improvisation que dans l ’écriture\, il se produit au\nsein de différentes formations (Grugrü\, Ithaque\, Namaz Pamous\, Dizzy Sounds) mêlant ses influences jazz (Roland Kirk\, Coltrane\, Pharoah Sanders\, Sun Ra\, Mingus) aux musiques actuelles. Acteur majeur au sein du collectif du chaos\, il se consacre activement à la pratique à la diffusion des musiques improvisées \n \n \nEntrée 15 € / adhérent : 12 € / Tarif étudiant 10 €\nRéservation/billetterie : https://www.billetweb.fr/trio-artefact
URL:https://www.galerie-depardieu.com/event/trio-artefact/
LOCATION:Galerie Depardieu\, 6 rue du docteur Jacques Guidoni\, Nice\, 06000\, France
CATEGORIES:Agenda,Concert
ORGANIZER;CN="Association ARTEP":MAILTO:artep.association@gmail.com
END:VEVENT
BEGIN:VEVENT
DTSTART;TZID=Europe/Paris:20260314T201500
DTEND;TZID=Europe/Paris:20260314T223000
DTSTAMP:20260424T001449
CREATED:20260219T170400Z
LAST-MODIFIED:20260219T170400Z
UID:5629-1773519300-1773527400@www.galerie-depardieu.com
SUMMARY:PounkIPA Jazz quartet « Ella Fitzgerald et les grandes voix du jazz »
DESCRIPTION:Samedi 14 Mars 2026 à 20h15\nPounkIPA Jazz quartet\n« Ella Fitzgerald et les grandes voix du jazz » \nAvec\nNastasia Fidanza : chant\nAndréas Schedl : piano\nAlexandre Davin : batterie \nGilles Baud : contrebasse \n \nPour ce concert\, des standards inoubliables d’Ella Fitzgerald aux voix féminines du jazz\, en passant par des titres pop-rock revisités façon swing : une soirée pleine de groove et de surprises ! \nLe groupe PounkIPA quartet propose\, à travers l’association amajazz06 des prestations musicales de qualité\, Le répertoire est composé de standards de jazz (d’Ella Fitzgerald à Norah Jones\, de Fats Waller à Nina Simone) ainsi que des reprises « jazzy » de standards pop rock (Cure\, Police\, Sade par exemple.)\nLe groupe existe depuis plusieurs années\, avec une expérience de la scène\, à travers de nombreux\nconcerts\, notamment ses participations au festival « jazz sous la bigaradiers » à La Gaude\, les « journées du patrimoine » à Menton\, ou jazzArt Lympia à Nice. \nNastasia Fidanza : possédant une voix exceptionnelle\, elle chante depuis son enfance.\nAprès s’être produite en duo dans de nombreux pubs de la côte\, elle découvre le jazz à travers notamment Ella Fitzgerald\, Billie Hollyday\, ou Madeleine Peyroux et se passionne pour cette musique. Elle participe à la formation de PounkIPA en 2019. \nAndréas Schedl : après avoir étudié le piano classique\, il découvre le jazz et décide de se consacrer à ce style de musique. Il joue avec de nombreux musiciens\, notamment au cours de ses voyages\, avant de fonder un duo avec Gilles en 2015. Séduit par la voix de Nastasia\, il fonde également avec beaucoup d’enthousiasme le trio PounkIPA. \nAlexandre Davin: Musicien\, percussionniste\, improvisateur et enseignant jazz au conservatoire d’Antibes\, il a formé de nombreux jeunes batteurs qui sont devenus professionnels. Il a une expérience de nombreuses années de scène tant en musiques actuelles qu’en jazz. Il rejoint PounkIPA en 2023. \nGilles Baud : Après la guitare classique\, il joue de la basse électrique dans diverses formations (variété\, rock progressif\, folk\, blues) avant de s’orienter vers le jazz. Il découvre la contrebasse il y a quelques années\, ce qui accentue sa passion pour le jazz. Il donne beaucoup de concerts\, jouant dans différentes formations\, dont le trio PounkIPA qu’il affectionne particulièrement. \n \nEntrée 15 € / adhérent : 12 € / Tarif étudiant 10 €\nRéservation/billetterie : https://www.billetweb.fr/pounkipa-jazz-quartet-ella-fitzgerald-et-les-grandes-voix-du-jazz
URL:https://www.galerie-depardieu.com/event/pounkipa-jazz-quartet-ella-fitzgerald-et-les-grandes-voix-du-jazz/
CATEGORIES:Agenda,Concert
ORGANIZER;CN="Association ARTEP":MAILTO:artep.association@gmail.com
END:VEVENT
BEGIN:VEVENT
DTSTART;TZID=Europe/Paris:20260320T201500
DTEND;TZID=Europe/Paris:20260320T223000
DTSTAMP:20260424T001449
CREATED:20260219T170605Z
LAST-MODIFIED:20260219T170605Z
UID:5632-1774037700-1774045800@www.galerie-depardieu.com
SUMMARY:Café de l'Est Duo
DESCRIPTION:Vendredi 20 Mars 2026 à 20h15\nCafé de l’Est Duo \nAvec\nJean-Marc Fauchier : guitare\nPatrick Singery : harmonica chromatique \n \nAu printemps 2016\, Patrick et Jean-Marc se rencontrent et donnent naissance au Duo Café de l’Est. Jazz\, swing\, bossa et chansons françaises deviennent leur terrain de jeu\, avant que l’été ne les mène sur les scènes du Var et des Alpes-Maritimes. \nJean-Marc Fauchier\nIl découvre la guitare et s´intéresse au rock\, au rock progressif et au jazz-rock. Féru de musique\, il s’ouvre plus tard au jazz manouche\, au swing\, au jazz\, à la bossa et à l´improvisation.\nEn 2012\, Jean Marc fonde Café de l’Est. \nPatrick Singery\nAprès avoir longtemps joué de la basse dans divers groupes (jazz-rock\, jazz)\, Patrick se tourne vers l’harmonica chromatique en entendant Toots Thielemans\, Olivier Ker Ourio et d’autres. Depuis lors il tente de découvrir quelques-unes des infinies possibilités que recèle cet instrument pour partager au fil des rencontres quelques-unes des beautés qu’il offre. \n \n \nCafé de l’Est \n \nEntrée 12 € / adhérent : 10 € / Tarif étudiant 8 €\nRéservation/billetterie : https://www.billetweb.fr/cafe-de-lest-duo
URL:https://www.galerie-depardieu.com/event/cafe-de-lest-duo/
LOCATION:Galerie Depardieu\, 6 rue du docteur Jacques Guidoni\, Nice\, 06000\, France
CATEGORIES:Agenda,Concert
ORGANIZER;CN="Association ARTEP":MAILTO:artep.association@gmail.com
END:VEVENT
BEGIN:VEVENT
DTSTART;TZID=Europe/Paris:20260328T201500
DTEND;TZID=Europe/Paris:20260328T223000
DTSTAMP:20260424T001449
CREATED:20260219T170905Z
LAST-MODIFIED:20260219T170905Z
UID:5635-1774728900-1774737000@www.galerie-depardieu.com
SUMMARY:Ferré\, vos papiers ! Orion\, tes chansons ! Dans le cadre du printemps des poètes 2026
DESCRIPTION:Samedi 28 Mars 2026 à 20h15\nFerré\, vos papiers ! Orion\, tes chansons !\nDans le cadre du printemps des poètes 2026 \nMICHEL ORION chante LEO FERRE et MICHEL ORION  \n\n \nNaviguant à bord de son piano\, entre ses propres créations et celles de Léo Ferré\, Michel Orion offre un spectacle dans la plus pure tradition de chansons à texte plutôt qu’à prétexte.\nSur scène\, il « accompagne son piano avec ses chansons ».\nCe spectacle\, piano-voix et flûte traversière\, laisse toute sa place à la beauté du verbe et de la musique.\nLe tour de chant\, parfois caustique et iconoclaste\, est ponctué d’anecdotes et de chroniques aigres-douces\, plus ou moins surréalistes.    \n« Les notes retentissent et me replongent dans le silence intérieur et l’univers musical et poétique de Ferré et Baudelaire. Quelques notes de mélancolie douce comme pour broyer du rose et Orion entame son tour de chant.\n« A l’école de la poésie on apprend pas on se bat » lance t’il comme une diatribe en faisant sienne la maxime de Ferré. Il livre bataille pendant une heure trente environ. Un voyage le long des rimes. L’artiste\, non sans humour\, émaille son récital d’anecdotes personnelles ou sur la vie de Ferré et Baudelaire. L’occasion de rappeler à l’auditoire que les quelques exemplaires des Fleurs du Mal publiés en 1857 ont valu un procès à Baudelaire à cause de quelques textes de son recueil.\nPoètes\, vos papiers !\nLa poésie comme un hymne à la liberté… Et Orion d’entonner « Homme libre toujours tu\nchériras la mer… La mer est ton miroir ; tu contemples ton âme » ce célèbre poème de\nBaudelaire qu’il prend soin de mettre en miroir quelques minutes plus tard avec « la Mémoire et la Mer » de Léo Ferré… Le fantôme de Jersey était présent dans le public. »\nPierre-Yves CLAUSSE \, revue ARES \n \n \nhttps://michelorion.com/ \nEntrée 12 € / adhérent : 10 € / Tarif étudiant 8 €\nRéservation/billetterie : https://www.billetweb.fr/ferre-vos-papiers-orion-tes-chansons1
URL:https://www.galerie-depardieu.com/event/ferre-vos-papiers-orion-tes-chansons-dans-le-cadre-du-printemps-des-poetes-2026/
LOCATION:Galerie Depardieu\, 6 rue du docteur Jacques Guidoni\, Nice\, 06000\, France
CATEGORIES:Agenda,Concert
ORGANIZER;CN="Association ARTEP":MAILTO:artep.association@gmail.com
END:VEVENT
END:VCALENDAR