BEGIN:VCALENDAR
VERSION:2.0
PRODID:-//Galerie Depardieu - ECPv6.15.20//NONSGML v1.0//EN
CALSCALE:GREGORIAN
METHOD:PUBLISH
X-ORIGINAL-URL:https://www.galerie-depardieu.com
X-WR-CALDESC:Évènements pour Galerie Depardieu
REFRESH-INTERVAL;VALUE=DURATION:PT1H
X-Robots-Tag:noindex
X-PUBLISHED-TTL:PT1H
BEGIN:VTIMEZONE
TZID:Europe/Paris
BEGIN:DAYLIGHT
TZOFFSETFROM:+0100
TZOFFSETTO:+0200
TZNAME:CEST
DTSTART:20250330T010000
END:DAYLIGHT
BEGIN:STANDARD
TZOFFSETFROM:+0200
TZOFFSETTO:+0100
TZNAME:CET
DTSTART:20251026T010000
END:STANDARD
BEGIN:DAYLIGHT
TZOFFSETFROM:+0100
TZOFFSETTO:+0200
TZNAME:CEST
DTSTART:20260329T010000
END:DAYLIGHT
BEGIN:STANDARD
TZOFFSETFROM:+0200
TZOFFSETTO:+0100
TZNAME:CET
DTSTART:20261025T010000
END:STANDARD
BEGIN:DAYLIGHT
TZOFFSETFROM:+0100
TZOFFSETTO:+0200
TZNAME:CEST
DTSTART:20270328T010000
END:DAYLIGHT
BEGIN:STANDARD
TZOFFSETFROM:+0200
TZOFFSETTO:+0100
TZNAME:CET
DTSTART:20271031T010000
END:STANDARD
END:VTIMEZONE
BEGIN:VEVENT
DTSTART;TZID=Europe/Paris:20260110T201500
DTEND;TZID=Europe/Paris:20260110T223000
DTSTAMP:20260424T031353
CREATED:20251216T160324Z
LAST-MODIFIED:20251216T160324Z
UID:5557-1768076100-1768084200@www.galerie-depardieu.com
SUMMARY:Casa Verde « Âme Latine »
DESCRIPTION:Samedi 10 Janvier 2026 à 20h15\nCasa Verde « Âme Latine » \nVoyage musical en Amérique Latine (Boléro\, Bossa nova\, Sambas…) \n \nAvec\nLiliana Laverde : Chant\nMarjolaine Baron : Chant\nJean-Charles Jegues : Guitare\nEmmanuel Marsy : Basse\nNicolas de Renty : Batterie \nhttps://youtu.be/v6kbExaEIak?si=CtRbCQAoULKUONZX \nhttps://www.facebook.com/share/v/1CZ6vmF74a/ \n« Casa Verde » est un groupe de musique latino-américaine composé de cinq musiciens passionnés : deux chanteuses\, un guitariste\, un bassiste et un batteur. Basés dans le bassin grassois\, nous sommes ravis de vous proposer une performance à La Galerie Depardieu.\nNous interprétons des ballades en espagnol\, du boléro ainsi que de la bossa nova. Notre répertoire\, mêlant mélodies chaleureuses et rythmes envoûtants\, a déjà conquis le public de nombreuses salles et événements. \nEntrée 15 € / adhérent : 12 € / Tarif étudiant 10 €\nRéservation/billetterie : https://www.billetweb.fr/casa-verde-me-latine
URL:https://www.galerie-depardieu.com/event/casa-verde-ame-latine/
LOCATION:Galerie Depardieu\, 6 rue du docteur Jacques Guidoni\, Nice\, 06000\, France
CATEGORIES:Agenda,Concert
ORGANIZER;CN="Association ARTEP":MAILTO:artep.association@gmail.com
END:VEVENT
BEGIN:VEVENT
DTSTART;TZID=Europe/Paris:20260115T201500
DTEND;TZID=Europe/Paris:20260115T223000
DTSTAMP:20260424T031353
CREATED:20251216T160649Z
LAST-MODIFIED:20251216T160649Z
UID:5560-1768508100-1768516200@www.galerie-depardieu.com
SUMMARY:Daya's Travel Songs 4tet
DESCRIPTION:Jeudi 15 Janvier 2026 à 20h15\nDaya’s Travel Songs 4tet \nDayana : chant\nFred D’Oelsnitz : piano\nFabrice Bistoni : contrebasse\nAlain Asplanato : batterie \n \nDaya’s Travel Songs 4tet\, réunit les prestigieux Fred D’Oelsnitz au Piano\, Fabrice Bistoni à la Contrebasse et Alain Asplanato à la Batterie\, pour accompagner la Vocaliste Dayana qui interprète en 8 langues un répertoire Jazz Bossa\, chansons Françaises et Internationales\, de sa voix touchante\, riche en émotions à fleur de peau. \nSon dernier CD labellise\, « Dayana Tel est mon chemin  » arrangé par ClaudeTedesco est disponible sur toutes les plateformes\, avec 8 songs Worldmusic. \nDaya’s Travel Songs 4tet installe une ambiance unifiante et envoûtante\, où la musique réunit les coeurs et les âmes\, un voyage festif emprunt de romances. \nEntrée 15 € / adhérent : 12 € / Tarif étudiant 10 €\nRéservation/billetterie : https://www.billetweb.fr/dayas-travel-songs-4tet
URL:https://www.galerie-depardieu.com/event/dayas-travel-songs-4tet/
LOCATION:Galerie Depardieu\, 6 rue du docteur Jacques Guidoni\, Nice\, 06000\, France
CATEGORIES:Agenda,Concert
ORGANIZER;CN="Association ARTEP":MAILTO:artep.association@gmail.com
END:VEVENT
BEGIN:VEVENT
DTSTART;TZID=Europe/Paris:20260117T201500
DTEND;TZID=Europe/Paris:20260117T223000
DTSTAMP:20260424T031353
CREATED:20251216T160947Z
LAST-MODIFIED:20251216T160947Z
UID:5563-1768680900-1768689000@www.galerie-depardieu.com
SUMMARY:DIES GOA UNIT
DESCRIPTION:Samedi 17 Janvier 2026 à 20h15\nDIES GOA UNIT \nFrançois Szönyi : guitare électrique -chant\nAlexandre Del Fa : basse\, Guitare\, chant\nGuy Galassini : batterie et flûte traversière \n \n« Les expériences passées des trois musiciens se sont amalgamées pour créer une musique éclectique aux influences multiples proposant un programme qui\, dans un esprit d’aventure\, mêle des compositions actuelles\, ainsi que des remixes \, Soft machine\, Caravan\, Hatfield & the North…)\, entre acoustique et électronique\, jazz\, rock et world  » \nLa musique de Dies Goa Unit nous plonge dans l’atmosphère expérimentale des années 70 où fusion et musique progressive se mêlent dans le cadre d’une musique psychédélique des plus raffinée. Ce n’est pas par hasard que le trio a fait la première partie du célèbre groupe français Magma et a joué avec le bassiste et chanteur Richard Sinclair\, icône du rock progressif. \n \nFrançois Szönyi – Guitariste\nNé en 1956\, François Szönyi passe du rock et du free jazz à la guitare classique\, où il obtient les plus hautes distinctions. Cofondateur du quatuor Aighetta\, il tourne en Europe et collabore avec des artistes tels que John McLaughlin et Anthony Burgess. Compositeur\, arrangeur et chercheur\, il enregistre de nombreux albums et mène parallèlement une carrière scientifique couronnée par deux doctorats. \nAlexandre Del Fa – Bassiste et guitariste\nNé en 1956\, Alexandre Del Fa se forme à la guitare classique après avoir joué dans divers groupes. Cofondateur de l’Aighetta Quartett\, il se produit en Europe\, travaille avec John McLaughlin et participe à une importante discographie. Il joue également à l’Opéra de Nice et dirige l’École de Musique ainsi que le Festival de Musique de Chambre de Beausoleil. \nGuy Galassini – Batteur\nNé en 1954\, Guy Galassini débute dans le rock psychédélique et progressif et fonde Dies Irae avec François Szönyi. Musicien polyvalent\, il crée ensuite I Giorni Cantati autour des chants populaires italiens et rejoint plusieurs formations jazz. Aujourd’hui professeur au Lycée Albert 1er de Monaco\, il dirige aussi le Club Musique et ses projets internationaux. \nVoici le lien spécifique vers leur album\nhttps://guygalassini.bandcamp.com/album/nothing-has-an-end \nEntrée 15 € / adhérent : 12 € / Tarif étudiant 10 €\nRéservation/billetterie : https://www.billetweb.fr/dies-goa-unit1
URL:https://www.galerie-depardieu.com/event/dies-goa-unit-2/
LOCATION:Galerie Depardieu\, 6 rue du docteur Jacques Guidoni\, Nice\, 06000\, France
CATEGORIES:Agenda,Concert
ORGANIZER;CN="Association ARTEP":MAILTO:artep.association@gmail.com
END:VEVENT
BEGIN:VEVENT
DTSTART;TZID=Europe/Paris:20260123T201500
DTEND;TZID=Europe/Paris:20260123T223000
DTSTAMP:20260424T031353
CREATED:20251216T161923Z
LAST-MODIFIED:20251216T161923Z
UID:5571-1769199300-1769207400@www.galerie-depardieu.com
SUMMARY:Slam en Vrac et Musique improvisée
DESCRIPTION:Vendredi 23 Janvier 2026 à 20h15\nSlam en Vrac et Musique improvisée \nMÜ slam\nChristophe Meulien guitare \n \nSLAM EN VRAC \nQuand l’aventure commence\, la parole est là pour combler le besoin d’expression\, pour rencontrer les autres et percuter la diversité. Presque involontairement\, on affirme ainsi son existence au monde\, certains s’en rendent compte rapidement tandis que d’autres cherchent confusément (avouons que c’était mon cas) \nJe m’agrippe à mes mots comme à des portes : \nPour ouvrir à vif les instants fragiles \net fermer à temps les illusions trop fortes\, \nje saisis mon bagou par la poignée \ntourne et retourne sept fois mes phrases au creux des dents. \nEt aussi : \nLes clés de nos pensées mouvantes comme des ondes \nSondent l’épouvante\, arpentent les décombres \nMa langue s’effiloche \nEt je fouille mes poches pour récupérer \nLes lambeaux et les scories de mon être en morceaux. \nAprès un premier déclic en scène ouverte\, ce fut l’engouement pour cette poésie vivante\, loufoque et partagée\, et pour les tournois (jusqu’en 2019)\, défi sans fin et sans enjeux\, car sur scène\, c’est toujours la surprise\, le jeu se renouvelle sans arrêt pour la plus grande joie du public. \nDans ta Cité des possibles\nLa honte fleurit sur sa tige et les feuilles frissonnent de gêne \nLe malheur est spectacle \nAlors je regarde bien ! \nAlors se fige sur mon front \nCette sueur d’ange incrédule \nQu’aucune révolte n’effacera jamais. \nOu bien : \nDrôle de clip sur le clic-clac\, c’est happy hour\, clope au bec \nOn se crée\, on se croque\, on se crayonne\, au secours ! \nOn se crie qu’on déconne\, que c’est du vent\, pas pour de vrai \nMais on avance allègrement\, moi sans souci\, toi sans le sou\, \nMoi sous toi\, toi sans toit\, vers les excédents en tous sens : \nIndécence insensée\, attention ! direction accident. \nFinalement\, il était intéressant de tenter l’expérience de poser bout à bout les textes les plus aboutis et les plus précieux. Y compris les plus improbables : \nAu début\, je ne le trouvais pas très démonstratif. \nJe lui faisais l’article à ma manière : \n-T’as qu’à passer prendre un thé à la terminaison\, on discutera… \nCe n’était ni impératif\, ni conditionnel\, \nC’était peut-être mal défini. \nMais même s’il ne mettait pas l’accent en temps et en lieu\, \nCe n’était pas grave ! \nL’aigu et les couleurs\, est-ce que ça se discute ? \nCe stock de textes qui n’ont pas de prix devient donc Slam en vrac\, un spectacle doux\, à la carte\, parfois interactif. Un moment pour rire et pour s’émouvoir. \nMü \n///// \nMü (Murielle Gebelin)\nEnseignante\, découvre le slam de poésie en 2005 et le pratique assidûment depuis 2009.\nSa vie de slameuse\, c’est la création collective de l’association Energie Slam\, suivie de l’animation de scènes ouvertes dans des lieux publics ; ce sont des voyages pour porter la langue française vers l’ailleurs ; c’est le recueil « Mauvaise langue » publié grâce à Rémy Durand ; et aussi des éclats de voix en festivals\, des rires hors-scène\, de la persuasion\, de l’émotion\, des envies\, des qualifications régulières aux tournois nationaux… C’est encore la médaille d’Argent lors de la Coupe de la Ligue Slam de France en juin 2019. Et puis la joie d’être accueillie dans le groupe de paroliers Les Stylomaniaques en 2021.\nC’est enfin depuis 2022\, le spectacle « Slam en vrac » joué à la demande\, et accompagné depuis 2025 par le guitariste Christophe Meulien. \nChristophe Meulien est un musicien\, pratiquant l’improvisation libre et le jazz.\nGuitariste et bassiste\, il accompagne des lectures et participe à des projets musicaux ainsi qu’à des performances artistiques.\nIl utilise parfois des objets\, des effets électroniques\, selon le contexte\, ou l’inspiration du moment.\nIl a joué avec de nombreux musiciens et artistes\, de Barre Philips à Alain de Fombelle. Actuellement il accompagne Mü\, pour « Slam en vrac »\, ou encore joue en trio avec Bernard Pourriere et Dan Roth. Il participe également à des ateliers d’improvisation\, avec d’autres musiciens à Sainte Philomène\, Puget-Ville\, et avec des artistes de différents horizons\, notamment des danseurs à Toulon avec le VOLATIL. \nEntrée 12 € / adhérent : 10 € / Tarif étudiant 8 €\nRéservation/billetterie : https://www.billetweb.fr/slam-en-vrac-et-musique-improvisee
URL:https://www.galerie-depardieu.com/event/slam-en-vrac-et-musique-improvisee/
LOCATION:Galerie Depardieu\, 6 rue du docteur Jacques Guidoni\, Nice\, 06000\, France
CATEGORIES:Agenda,Concert
ORGANIZER;CN="Association ARTEP":MAILTO:artep.association@gmail.com
END:VEVENT
BEGIN:VEVENT
DTSTART;TZID=Europe/Paris:20260131T201500
DTEND;TZID=Europe/Paris:20260131T223000
DTSTAMP:20260424T031353
CREATED:20251216T162224Z
LAST-MODIFIED:20251216T162224Z
UID:5574-1769890500-1769898600@www.galerie-depardieu.com
SUMMARY:Quintet de jazz « FJQ »
DESCRIPTION:Samedi 31 Janvier 2026 à 20h15\nQuintet de jazz « FJQ » \nAvec\nPhilippe Cocogne : piano\nSebastien James : saxophones\nBernard Weidmann : batterie \nPaul Frémont : contrebasse\nJean-Claude Fortunato : Trompette/Bugle \n \nLe Quintet de jazz « FJQ » (Fortunato Jazz Quintet) récemment initié par le trompettiste niçois Jean-Claude Fortunato nous propose un concert dont le répertoire alléchant fait de reprises de style essentiellement Hard-Bop (Oliver Nelson\, Benny Golson\, Horace Silver…) et aussi plus modernes (Kenny Garrett\, Kenny Barron …) réjouira assurément plus d’un mélomane et amateur de jazz.  \nCet ensemble est composé d’excellents musiciens de la région qu’on ne présente plus\, Philippe Cocogne (piano)\, Sebastien James (saxophones). Bernard Weidmann (batterie)\, Paul Frémont (contrebasse) et Jean-Claude Fortunato (Trompette/Bugle). \nAttendez-vous à un concert immersif dans un univers authentique et chaleureux\, où la musique devient langage et émotion ! \n https://www.youtube.com/channel/UCXsvz15DAnXfo2db2OSjc0g \n \nEntrée 15 € / adhérent : 12 € / Tarif étudiant 10 €\nRéservation/billetterie : https://www.billetweb.fr/quintet-de-jazz-fjq
URL:https://www.galerie-depardieu.com/event/quintet-de-jazz-fjq/
LOCATION:Galerie Depardieu\, 6 rue du docteur Jacques Guidoni\, Nice\, 06000\, France
CATEGORIES:Agenda,Concert
ORGANIZER;CN="Association ARTEP":MAILTO:artep.association@gmail.com
END:VEVENT
END:VCALENDAR