BEGIN:VCALENDAR
VERSION:2.0
PRODID:-//Galerie Depardieu - ECPv6.15.20//NONSGML v1.0//EN
CALSCALE:GREGORIAN
METHOD:PUBLISH
X-WR-CALNAME:Galerie Depardieu
X-ORIGINAL-URL:https://www.galerie-depardieu.com
X-WR-CALDESC:Évènements pour Galerie Depardieu
REFRESH-INTERVAL;VALUE=DURATION:PT1H
X-Robots-Tag:noindex
X-PUBLISHED-TTL:PT1H
BEGIN:VTIMEZONE
TZID:Europe/Paris
BEGIN:DAYLIGHT
TZOFFSETFROM:+0100
TZOFFSETTO:+0200
TZNAME:CEST
DTSTART:20240331T010000
END:DAYLIGHT
BEGIN:STANDARD
TZOFFSETFROM:+0200
TZOFFSETTO:+0100
TZNAME:CET
DTSTART:20241027T010000
END:STANDARD
BEGIN:DAYLIGHT
TZOFFSETFROM:+0100
TZOFFSETTO:+0200
TZNAME:CEST
DTSTART:20250330T010000
END:DAYLIGHT
BEGIN:STANDARD
TZOFFSETFROM:+0200
TZOFFSETTO:+0100
TZNAME:CET
DTSTART:20251026T010000
END:STANDARD
BEGIN:DAYLIGHT
TZOFFSETFROM:+0100
TZOFFSETTO:+0200
TZNAME:CEST
DTSTART:20260329T010000
END:DAYLIGHT
BEGIN:STANDARD
TZOFFSETFROM:+0200
TZOFFSETTO:+0100
TZNAME:CET
DTSTART:20261025T010000
END:STANDARD
END:VTIMEZONE
BEGIN:VEVENT
DTSTART;TZID=Europe/Paris:20251107T201500
DTEND;TZID=Europe/Paris:20251107T223000
DTSTAMP:20260424T065311
CREATED:20251006T181826Z
LAST-MODIFIED:20251006T181826Z
UID:5473-1762546500-1762554600@www.galerie-depardieu.com
SUMMARY:Leo Geller 4tet - Open Jazz Chaloupé
DESCRIPTION:Vendredi 7 Novembre 2025 à 20h15\nLeo Geller 4tet – Open Jazz Chaloupé \navec \nJérémie Lucchese : Saxophone Ténor \nLeo Geller : Guitare & Compositions \nFanny Bouteiller : Contrebasse \nMalo Thiery : Batterie  \n \nQuatre musicien.nes vous embarquent pour un voyage vers les quatre points cardinaux d’un jazz métissé. Entre guitare psychédélique\, rythmiques chaloupées et vibrantes envolées du saxophone\, la formation de Leo Geller convoque un melting pot d’influences : John Coltrane\, Kurt Rosenwinkel\, Fela Kuti ou encore Radiohead. Chaque note est jouée avec le cœur et les tripes.\nLe projet est lauréat JazzContreBand 2023 (présidé par Emile Parisien & Nik Bärtsch) et Prix du Public du Festival Jazz à Oloron 2023. \n \n \nhttps://www.leogellermusic.com/ \nEntrée 15 € / adhérent : 12 € / Tarif étudiant 10 €\nRéservation/billetterie : https://www.billetweb.fr/leo-geller-4tet-open-jazz-chaloupe
URL:https://www.galerie-depardieu.com/event/leo-geller-4tet-open-jazz-chaloupe/
LOCATION:Galerie Depardieu\, 6 rue du docteur Jacques Guidoni\, Nice\, 06000\, France
CATEGORIES:Agenda,Concert
ORGANIZER;CN="Association ARTEP":MAILTO:artep.association@gmail.com
END:VEVENT
BEGIN:VEVENT
DTSTART;TZID=Europe/Paris:20251114T201500
DTEND;TZID=Europe/Paris:20251114T223000
DTSTAMP:20260424T065311
CREATED:20251006T182107Z
LAST-MODIFIED:20251006T182107Z
UID:5476-1763151300-1763159400@www.galerie-depardieu.com
SUMMARY:Huu Bac Quintet
DESCRIPTION:Vendredi 14 Novembre 2025 à 20h15\nHuu Bac Quintet \nAvec \nHuu Bac Quach : dan bau\, erhu\, quena\, guitare\nAlba Obert : violon\nAlexandre Perrot : contrebasse\nYvan Robilliard : piano\nRafael Koerner : batterie \n \nCompositeur-interprète d’origine sino-vietnamienne\, Huu Bac Quach fonde sont quintet à Montréal et y propose une heureuse rencontre de sonorités musicales vietnamienne\, chinoise et péruvienne avec le jazz.\nEntouré de musiciens chevronnés\, Huu Bac interprète ses compositions inspirées de ses nombreux voyages en Asie\, en Europe et en Amérique du Sud.\nEn concert\, il séduit un large public tant par la beauté et l’intensité de ses pièces musicales que par son jeu du dan bau (monocorde vietnamien)\, du erhu (vièle chinoise)\, de la quena (flûte des Andes) et de la guitare.\nLe Huu Bac quintet témoigne d’un véritable dialogue entre les cultures asiatiques\, sud et nord-américaines de manière contemporaine et originale. \nFondé en novembre 2013\, le Huu Bac Quintet multiplie ses tournées au Canada\, aux États-Unis\, en Chine\, en Corée\, au Vietnam\, en Amérique du Sud et en Afrique. En plus de récolter la faveur du public\, le groupe obtient les prix suivants : Prix Rideau/Roseq 2014\, Entrées en Scènes Loto-Québec 2015-16\, le Prix du Jury Étoiles Stringray 2015\, le Prix Coup de Cœur du Public 2016 à la Vitrine des Musiques Locales Métissées\, ainsi qu’une nomination pour le Grand Prix TD du Festival International de Jazz 2017. \nHuu Bac présente un nouveau spectacle de son quintet. Il présente les compositions de son deuxième album qui sera lancé en fin 2025. Son dialogue musical entre les sonorités vietnamiennes\, chinoises et sud-américaines avec le jazz se poursuit\, influencé par ses récents voyages en Chine\, au Vietnam\, en Inde\, en Afrique et au Pérou. \n \n“Huu Bac\, …\,nous a soufflé par son dynamisme\, son talent\, son humour et sa créativité.” Marie-Josée Boucher – Info-Culture \n“L’équilibre entre jazz et influences asiatiques rappelait celle (harmonie) entre les éléments de la nature…”Alexandre Faille- La Tribune\, Sherbrooke \n“…Huu Bac Quintet est original. La touche asiatique ancestrale apporte une belle douceur au jazz\, un style musical plus contemporain. Un groupe à découvrir…” Reine Côté – Nord Info & Voix des Mille-Iles \nhttp://www.huubac.com \nPlein tarif 15 € / tarif adhérent et étudiant: 12 €\nRéservation/billetterie : https://www.billetweb.fr/huu-bac-quintet
URL:https://www.galerie-depardieu.com/event/huu-bac-quintet/
LOCATION:Galerie Depardieu\, 6 rue du docteur Jacques Guidoni\, Nice\, 06000\, France
CATEGORIES:Agenda,Concert
ORGANIZER;CN="Association ARTEP":MAILTO:artep.association@gmail.com
END:VEVENT
BEGIN:VEVENT
DTSTART;TZID=Europe/Paris:20251115T201500
DTEND;TZID=Europe/Paris:20251115T223000
DTSTAMP:20260424T065311
CREATED:20251006T182332Z
LAST-MODIFIED:20251006T182332Z
UID:5479-1763237700-1763245800@www.galerie-depardieu.com
SUMMARY:Quinteto Libertad / Nuevo Tango : Hommage à Astor Piazzolla
DESCRIPTION:Samedi 15 Novembre 2025 à 20h15\nQuinteto Libertad\nNuevo Tango : Hommage à Astor Piazzolla \navec \nJoseph Bonneton : violon\nFabrizio Colombo : bandoneon\nAdrien Irankhah : piano\nLeo Geller : guitare\nFlorian Coppey : contrebasse \n \nLe Quinteto Libertad est né en janvier 2021 à Lyon sous l’impulsion du violoniste Joseph Bonneton. Ce quintet réunit cinq musiciens passionnés : Fabrizio Colombo au bandonéon\, venu tout droit d’Argentine\, Joseph Bonneton au violon\, Adrien Irankhah au piano\, Léo Geller à la guitare électrique et Florian Coppey à la contrebasse. En revisitant le répertoire du légendaire bandonéoniste Astor Piazzolla\, le Quinteto Libertad propose une interprétation moderne et des arrangements du Nuevo Tango\, tout en restant fidèle à ses racines. Leur musique oscille entre sensualité et intensité\, évoquant l’âme des quartiers de Buenos Aires à travers des mélodies envoûtantes et des harmonies riches. À la croisée du tango\, du rock\, du jazz et de la musique savante occidentale\, leur univers est une invitation à l’émotion pure et au voyage. \n“Entre virtuosité et émotion brute\, leur musique est un voyage au cœur de Buenos Aires“ \nLe Quinteto Libertad ne se contente pas d’interpréter le Nuevo Tango\, il le réinvente !“ \n/// Oblivion – Théâtre Artphonème \n \n/// Nuevo Tango – Théâtre Artphonème \n \nhttps://quintetolibertad.wixsite.com/tango \nEntrée 15 € / adhérent : 12 € / Tarif étudiant 10 €\nRéservation/billetterie : https://www.billetweb.fr/quinteto-libertad-nuevo-tango-hommage-a-astor-piazzolla
URL:https://www.galerie-depardieu.com/event/quinteto-libertad-nuevo-tango-hommage-a-astor-piazzolla/
LOCATION:Galerie Depardieu\, 6 rue du docteur Jacques Guidoni\, Nice\, 06000\, France
CATEGORIES:Agenda,Concert
ORGANIZER;CN="Association ARTEP":MAILTO:artep.association@gmail.com
END:VEVENT
BEGIN:VEVENT
DTSTART;TZID=Europe/Paris:20251119T201500
DTEND;TZID=Europe/Paris:20251119T223000
DTSTAMP:20260424T065311
CREATED:20251031T211100Z
LAST-MODIFIED:20251031T211100Z
UID:5502-1763583300-1763591400@www.galerie-depardieu.com
SUMMARY:Pierre Marcus Trio
DESCRIPTION:Mercredi 19 Novembre 2025 à 20h15\nPierre Marcus Trio \nPierre Marcus : Contrebasse\nJeremy Hinnekens : Piano\nDamien Françon : Batterie \n \nLe Pierre Marcus Trio Parisien propose un moment de jazz vivant et complice\, mêlant compositions originales de Pierre et Jérémy à quelques standards revisités. \nAmis de longue date\, les trois musiciens partagent une véritable connivence musicale\, faite d’écoute\, d’échanges et d’improvisations inspirées. \n \nEntrée 15 € / adhérent : 12 € / Tarif étudiant 10 €\nRéservation/billetterie : https://www.billetweb.fr/pierre-marcus-trio3
URL:https://www.galerie-depardieu.com/event/pierre-marcus-trio-2/
LOCATION:Galerie Depardieu\, 6 rue du docteur Jacques Guidoni\, Nice\, 06000\, France
CATEGORIES:Agenda,Concert
ORGANIZER;CN="Association ARTEP":MAILTO:artep.association@gmail.com
END:VEVENT
BEGIN:VEVENT
DTSTART;TZID=Europe/Paris:20251128T201500
DTEND;TZID=Europe/Paris:20251128T220000
DTSTAMP:20260424T065311
CREATED:20251031T211432Z
LAST-MODIFIED:20251031T211458Z
UID:5508-1764360900-1764367200@www.galerie-depardieu.com
SUMMARY:Duo Trait d’union
DESCRIPTION:Vendredi 28 novembre 2025 à 20h15\nDuo Trait d’union\n«  Un concert en improvisation complète » \nJean-François Trubert piano\nMikko-Ville Luolajan-Mikkola violon \n \nLa musique de Mikko-Ville et de Jean-François est à l’image de leur rencontre : née du hasard et de la curiosité\, et du désir de jouer ensemble. Trait d’union\, comme ceux qui lient leurs prénoms respectifs et qui les relient dans l’action musicale : sous le signe de l’exploration et de la créativité sans frontières\, déracinés mais ancrés dans le plaisir du son et des accords. \nLaissez-vous emporter dans une expérience libre et pleine d’émotions : un concert en improvisation complète\, sans partitions ni supports\, seulement dans l’instinct du moment. \nEntrée 12 € / adhérent : 10 € / Tarif étudiant 8 €\nRéservation/billetterie :\nhttps://www.billetweb.fr/duo-trait-d-union-jean-francois-trubert-mikko-ville-luolajan-mikkola
URL:https://www.galerie-depardieu.com/event/duo-trait-dunion-2/
LOCATION:Galerie Depardieu\, 6 rue du docteur Jacques Guidoni\, Nice\, 06000\, France
CATEGORIES:Agenda,Concert
ORGANIZER;CN="Association ARTEP":MAILTO:artep.association@gmail.com
END:VEVENT
BEGIN:VEVENT
DTSTART;TZID=Europe/Paris:20251129T201500
DTEND;TZID=Europe/Paris:20251129T223000
DTSTAMP:20260424T065311
CREATED:20251031T211626Z
LAST-MODIFIED:20251031T211626Z
UID:5511-1764447300-1764455400@www.galerie-depardieu.com
SUMMARY:René Sopa Duo
DESCRIPTION:Samedi 29 novembre 2025 à 20h15\nRené Sopa Duo \nRené Sopa : accordéon \nJean Pierre Babarit : contrebasse/guitare  \n \nRené Sopa est un amoureux de l’accordéon. Il étudie et reprend tous les grands thèmes de l’accordéon puis il se dirige vers la composition.\nSes musiques s’inspirent de différents horizons\, la valse musette\, les rythmes cubains\, les musiques latines\,…\nSa musique du monde s’enrichit au contact de ses musiciens qui apportent sensibilité\, groove et swing… \n \nEntrée 12 € / adhérent : 10 € / Tarif étudiant 8 €\nhttps://www.billetweb.fr/rene-sopa-duo1
URL:https://www.galerie-depardieu.com/event/rene-sopa-duo/
LOCATION:Galerie Depardieu\, 6 rue du docteur Jacques Guidoni\, Nice\, 06000\, France
CATEGORIES:Agenda,Concert
ORGANIZER;CN="Association ARTEP":MAILTO:artep.association@gmail.com
END:VEVENT
END:VCALENDAR