BEGIN:VCALENDAR
VERSION:2.0
PRODID:-//Galerie Depardieu - ECPv6.15.20//NONSGML v1.0//EN
CALSCALE:GREGORIAN
METHOD:PUBLISH
X-WR-CALNAME:Galerie Depardieu
X-ORIGINAL-URL:https://www.galerie-depardieu.com
X-WR-CALDESC:Évènements pour Galerie Depardieu
REFRESH-INTERVAL;VALUE=DURATION:PT1H
X-Robots-Tag:noindex
X-PUBLISHED-TTL:PT1H
BEGIN:VTIMEZONE
TZID:Europe/Paris
BEGIN:DAYLIGHT
TZOFFSETFROM:+0100
TZOFFSETTO:+0200
TZNAME:CEST
DTSTART:20240331T010000
END:DAYLIGHT
BEGIN:STANDARD
TZOFFSETFROM:+0200
TZOFFSETTO:+0100
TZNAME:CET
DTSTART:20241027T010000
END:STANDARD
BEGIN:DAYLIGHT
TZOFFSETFROM:+0100
TZOFFSETTO:+0200
TZNAME:CEST
DTSTART:20250330T010000
END:DAYLIGHT
BEGIN:STANDARD
TZOFFSETFROM:+0200
TZOFFSETTO:+0100
TZNAME:CET
DTSTART:20251026T010000
END:STANDARD
BEGIN:DAYLIGHT
TZOFFSETFROM:+0100
TZOFFSETTO:+0200
TZNAME:CEST
DTSTART:20260329T010000
END:DAYLIGHT
BEGIN:STANDARD
TZOFFSETFROM:+0200
TZOFFSETTO:+0100
TZNAME:CET
DTSTART:20261025T010000
END:STANDARD
END:VTIMEZONE
BEGIN:VEVENT
DTSTART;TZID=Europe/Paris:20251024T201500
DTEND;TZID=Europe/Paris:20251024T223000
DTSTAMP:20260424T083912
CREATED:20251006T181257Z
LAST-MODIFIED:20251006T181257Z
UID:5464-1761336900-1761345000@www.galerie-depardieu.com
SUMMARY:BehiaJazz & Looking Up : l'UniverSwing de Cole Porter
DESCRIPTION:Vendredi 24 Octobre 2025 à 20h15\nBehiaJazz & Looking Up\nl’UniverSwing de Cole Porter \nBehia\, chant et composition\nJean-Baptiste Bolazzi piano\nSandro Massazza contrebasse\nAndré Guiglion batterie\nGuido Bombardieri saxophoniste \n\n \n« l’UniverSwing de Cole Porter »\, Behia et ses musiciens ont repris et modernisé ces grands standards en hommage à cet illustre compositeur qui a marqué le siècle de l’éclosion du jazz\, à l’occasion du 70ème anniversaire de sa disparition. \nA PROPOS DES MUSICIENS DE LOOKING UP PROJECT\nLa formation « Looking Up Project » est connue en Italie notamment pour les hommages à Horace Silver\, Ennio Morricone\, Michel Petrucciani …\,\nLes deux musiciens leaders de cette formation qui rejoignent ponctuellement BehiaJazz sont eux-mêmes reconnus parmi les meilleurs instrumentistes européens : Alexandro Massazza (contrebassiste) et Guido Bombardieri (saxophoniste)\, lui-même très demandé en Italie\, dans la lignée de Stéphano di Baptista\, Baptiste Herbin … et sollicité récemment par l’ONJ. \n \n \n \nhttps://www.behiajazz.com/ \nEntrée 15 € / adhérent : 12 € / Tarif étudiant 10 €\nRéservation/billetterie : https://www.billetweb.fr/behiajazz-looking-up-luniverswing-de-cole-porter
URL:https://www.galerie-depardieu.com/event/behiajazz-looking-up-luniverswing-de-cole-porter/
LOCATION:Galerie Depardieu\, 6 rue du docteur Jacques Guidoni\, Nice\, 06000\, France
CATEGORIES:Agenda,Concert
ORGANIZER;CN="Association ARTEP":MAILTO:artep.association@gmail.com
END:VEVENT
BEGIN:VEVENT
DTSTART;TZID=Europe/Paris:20251031T201500
DTEND;TZID=Europe/Paris:20251031T223000
DTSTAMP:20260424T083912
CREATED:20251006T181454Z
LAST-MODIFIED:20251006T181454Z
UID:5467-1761941700-1761949800@www.galerie-depardieu.com
SUMMARY:Freedom Quartet
DESCRIPTION:Vendredi 31 Octobre 2025 à 20h15\nFreedom Quartet \nAvec\nEric POLCHI saxophone ténor\, flûte\, sifflet\nFred D’OELSNITZ piano\nJean-Marc JAFET basse\nLaurent SARRIEN batterie \n \nCréé en 2021\, Freedom Quartet s’impose par une approche viscérale de la musique live\, revendiquant son importance comme espace d’expression libre et immédiate.\nLe groupe puise ses racines dans le blues et les courants de la musique afro-américaine\, explorant les formes les plus libertaires nées dans les années 1970 et toujours vivantes aujourd’hui.\nLeur répertoire rend hommage à des artistes majeurs de cette tradition : Rashaan Roland Kirk\, Charles Lloyd\, George Adams\, Don Pullen\, Charles Mingus\, mais aussi Keith Jarrett et Roy Hargrove\, figures emblématiques d’une musique habitée\, sans compromis. \nEntrée 15 € / adhérent : 12 € / Tarif étudiant 10 €\nRéservation/billetterie : https://www.billetweb.fr/freedom-quartet \n 
URL:https://www.galerie-depardieu.com/event/freedom-quartet/
LOCATION:Galerie Depardieu\, 6 rue du docteur Jacques Guidoni\, Nice\, 06000\, France
CATEGORIES:Agenda,Concert
ORGANIZER;CN="Association ARTEP":MAILTO:artep.association@gmail.com
END:VEVENT
END:VCALENDAR